Workbook

Sheet Loppupisteet
B1: Keski-Tampereen Sprinttiviikko 2014-2015 Pistetilanne
B2: Naiset | D2: Loppupisteet | E2: Kisa1 | F2: Kisa2 | G2: Kisa3 | H2: Kisa4 | I2: Sarja | K2: TASOITUS
A3: 1/2 | B3: Lotta | C3: Eerola | D3: 146 | E3: 50 | F3: 43 | G3: 46 | H3: 50 | I3: D | J3: 14 | K3: 1.3409091
A4: 1/2 | B4: Sari | C4: Saarijärvi | D4: 146 | E4: 43 | F4: 50 | G4: 50 | H4: 46 | I4: D | J4: 45 | K4: 1.3181818
A5: 3 | B5: Jaana | C5: Pietilä-Annala | D5: 120 | E5: 46 | F5: 40 | H5: 34 | I5: D | J5: 45 | K5: 1.3181818
A6: 4 | B6: Hilkka | C6: Lankia | D6: 116 | E6: 43 | F6: 30 | G6: 16 | H6: 43 | I6: D | J6: 65 | K6: 1.7272727
A7: 5 | B7: Hanna-Maija | C7: Koski | D7: 106 | E7: 34 | F7: 32 | G7: 28 | H7: 40 | I7: D | J7: 35 | K7: 1.2272727
A8: 6 | B8: Sanni | C8: Kymäläinen | D8: 104 | E8: 26 | F8: 46 | G8: 32 | H8: 26 | I8: D | J8: 20 | K8: 1.2045455
A9: 7 | B9: Salla | C9: Pitkänen | D9: 89 | F9: 26 | G9: 43 | H9: 20 | I9: D | J9: 16 | K9: 1.2727273
A10: 8 | B10: Saara | C10: Yli-Hietanen | D10: 85 | E10: 30 | F10: 18 | G10: 37 | H10: 15 | I10: D | J10: 14 | K10: 1.3409091
A11: 9 | B11: Anni | C11: Haanpää | D11: 75 | E11: 37 | F11: 1 | G11: 0 | H11: 37 | I11: D | J11: 16 | K11: 1.2727273
A12: 10 | B12: Laura | C12: Palm | D12: 70 | E12: 32 | F12: 37 | G12: 1 | H12: 0 | I12: D | J12: 21 | K12: 1.1136364
A13: 11 | B13: Kaisa | C13: Haanpää | D13: 66 | E13: 0 | F13: 0 | G13: 34 | H13: 32 | I13: D | J13: 14 | K13: 1.3409091
A14: 12 | B14: Ella | C14: Skog | D14: 65 | E14: 0 | F14: 15 | G14: 28 | H14: 22 | I14: D | J14: 16 | K14: 1.2727273
A15: 13 | B15: Anna | C15: Kotkajuuri | D15: 64 | E15: 0 | F15: 34 | G15: 30 | H15: 0 | I15: D | J15: 20 | K15: 1.2045455
A16: 14 | B16: Rosa | C16: Simola | D16: 60 | E16: 20 | F16: 14 | G16: 22 | H16: 18 | I16: D | J16: 14 | K16: 1.3409091
A17: 15 | B17: Lotta | C17: Välkki | D17: 52 | E17: 12 | F17: 28 | G17: 3 | H17: 12 | I17: D | J17: 14 | K17: 1.3409091
A18: 16 | B18: Terttu | C18: Jalanto | D18: 49 | E18: 18 | G18: 24 | H18: 7 | I18: D | J18: 50 | K18: 1.3863636
A19: 17 | B19: Reea | C19: Simola | D19: 45 | E19: 14 | F19: 5 | G19: 1 | H19: 26 | I19: D | J19: 16 | K19: 1.2727273
A20: 18 | B20: Silja | C20: Yli-Hietanen | D20: 41 | E20: 9 | F20: 20 | G20: 1 | H20: 12 | I20: D | J20: 12 | K20: 1.4090909
A21: 19 | B21: Terhi | C21: Rajamäki | D21: 41 | E21: 16 | F21: 1 | G21: 11 | H21: 14 | I21: D | J21: 50 | K21: 1.3863636
A22: 20 | B22: Sirkka-Liisa | C22: Lauronen | D22: 40 | G22: 40 | I22: D | J22: 35 | K22: 1.2272727
A23: 21 | B23: Minna | C23: Konttila | D23: 34 | E23: 9 | F23: 7 | G23: 18 | H23: 1 | I23: D | J23: 40 | K23: 1.2727273
A24: 22 | B24: Salla | C24: Saarijärvi | D24: 32 | F24: 16 | G24: 16 | I24: D | J24: 18 | K24: 1.25
A25: 23 | B25: Tuula | C25: Sani | D25: 31 | G25: 1 | H25: 30 | I25: D | J25: 55 | K25: 1.4772727
A26: 24 | B26: Katri | C26: Niittymäki | D26: 30 | F26: 11 | G26: 1 | H26: 18 | I26: D | J26: 40 | K26: 1.2727273
A27: 25 | B27: Sonja | C27: Kyrölä | D27: 30 | E27: 30 | I27: D | J27: 21 | K27: 1.1136364
A28: 26 | B28: Kati | C28: Haanpää | D28: 29 | E28: 3 | F28: 3 | G28: 16 | H28: 10 | I28: D | J28: 40 | K28: 1.2727273
A29: 27 | B29: Heli | C29: Ketola | D29: 29 | E29: 15 | H29: 14 | I29: D | J29: 40 | K29: 1.2727273
A30: 28 | B30: Elo | C30: Saue | D30: 28 | H30: 28 | I30: D | J30: 40 | K30: 1.2727273
A31: 29 | B31: Riikka | C31: Eerola | D31: 28 | E31: 13 | F31: 6 | G31: 9 | I31: D | J31: 45 | K31: 1.3181818
A32: 30 | B32: Minna | C32: Saarinen | D32: 25 | F32: 13 | G32: 12 | I32: D | J32: 21 | K32: 1.1136364
A33: 31 | B33: Mervi | C33: Pesu | D33: 24 | F33: 24 | I33: D | J33: 40 | K33: 1.2727273
A34: 32 | B34: Vilma | C34: Annala | D34: 24 | E34: 24 | I34: D | J34: 16 | K34: 1.2727273
A35: 33 | B35: Alma | C35: Toivonen | D35: 22 | F35: 22 | I35: D | J35: 20 | K35: 1.2045455
A36: 34 | B36: Miia | C36: Niittynen | D36: 22 | E36: 22 | I36: D | J36: 21 | K36: 1.1136364
A37: 35 | B37: Suvi | C37: Harju | D37: 20 | E37: 1 | F37: 9 | G37: 10 | H37: 1 | I37: D | J37: 21 | K37: 1.1136364
A38: 36 | B38: Jutta | C38: Nurminen | D38: 20 | G38: 20 | I38: D | J38: 16 | K38: 1.2727273
A39: 37 | B39: Kiia | C39: Isokallio | D39: 18 | G39: 16 | H39: 2 | I39: D | J39: 16 | K39: 1.2727273
A40: 38 | B40: Idaliina | C40: Kuusisto | D40: 13 | E40: 11 | F40: 1 | H40: 1 | I40: D | J40: 14 | K40: 1.3409091
A41: 39 | B41: Tuire | C41: Niemi | D41: 13 | F41: 8 | G41: 1 | H41: 4 | I41: D | J41: 60 | K41: 1.5909091
A42: 40 | B42: Marika | C42: Hara | D42: 12 | F42: 12 | I42: D | J42: 21 | K42: 1.1136364
A43: 41 | B43: Niina | C43: Papinsaari | D43: 12 | E43: 1 | F43: 11 | I43: D | J43: 21 | K43: 1.1136364
A44: 42 | B44: Emmi | C44: Mähönen | D44: 11 | E44: 11 | I44: D | J44: 21 | K44: 1.1136364
A45: 43 | B45: Essi | C45: Jalanto | D45: 11 | G45: 1 | H45: 10 | I45: D | J45: 20 | K45: 1.2045455
A46: 44 | B46: Tiina | C46: Äijälä | D46: 10 | E46: 1 | G46: 9 | I46: D | J46: 50 | K46: 1.3863636
A47: 45 | B47: Mari | C47: Rintanen | D47: 9 | E47: 9 | I47: D | J47: 40 | K47: 1.2727273
A48: 46 | B48: Katri | C48: Kontio | D48: 8 | G48: 7 | H48: 1 | I48: D | J48: 12 | K48: 1.4090909
A49: 47 | B49: Sonja | C49: Leinamo | D49: 8 | H49: 8 | I49: D | J49: 12 | K49: 1.4090909
A50: 48 | B50: Rita | C50: Simola | D50: 7 | E50: 1 | F50: 1 | G50: 1 | H50: 5 | I50: D | J50: 12 | K50: 1.4090909
A51: 49 | B51: Minttu | C51: Paunu | D51: 7 | E51: 1 | F51: 1 | G51: 5 | I51: D | J51: 18 | K51: 1.25
A52: 50 | B52: Salla | C52: Mustonen | D52: 7 | E52: 1 | G52: 6 | I52: D | J52: 14 | K52: 1.3409091
A53: 51 | B53: Anni | C53: Kivilaakso | D53: 6 | E53: 6 | I53: D | J53: 18 | K53: 1.25
A54: 52 | B54: Anni | C54: Tanskanen | D54: 6 | H54: 6 | I54: D | J54: 15 | K54: 1.2727273
A55: 53 | B55: Kira | C55: Holmala | D55: 6 | E55: 1 | F55: 4 | H55: 1 | I55: D | J55: 8 | K55: 1.6590909
A56: 54 | B56: Heini | C56: Rintanen | D56: 5 | E56: 5 | I56: D | J56: 16 | K56: 1.2727273
A57: 55 | B57: Liisa | C57: Matinheikki | D57: 5 | G57: 4 | H57: 1 | I57: D | J57: 10 | K57: 1.5
A58: 56 | B58: Saija | C58: Laurila | D58: 5 | F58: 1 | G58: 1 | H58: 3 | I58: D | J58: 50 | K58: 1.3863636
A59: 57 | B59: Heini | C59: Papinsaari | D59: 4 | E59: 4 | I59: D | J59: 21 | K59: 1.1136364
A60: 58 | B60: Maija | C60: Yli-Hietanen | D60: 3 | E60: 1 | F60: 1 | G60: 1 | H60: 1 | I60: D | J60: 40 | K60: 1.2727273
A61: 59 | B61: Marika | C61: Aronen-Ketola | D61: 3 | E61: 1 | F61: 1 | G61: 1 | H61: 1 | I61: D | J61: 45 | K61: 1.3181818
A62: 60 | B62: Marita | C62: Kymäläinen | D62: 3 | E62: 1 | F62: 1 | G62: 1 | H62: 1 | I62: D | J62: 50 | K62: 1.3863636
A63: 61 | B63: Nina | C63: Viitala | D63: 3 | E63: 1 | F63: 1 | G63: 1 | H63: 1 | I63: D | J63: 16 | K63: 1.2727273
A64: 62 | B64: Sanna | C64: Raunila | D64: 3 | E64: 1 | F64: 1 | G64: 1 | H64: 1 | I64: D | J64: 35 | K64: 1.2272727
A65: 63 | B65: Sini | C65: Viitala | D65: 3 | E65: 1 | F65: 1 | G65: 1 | H65: 1 | I65: D | J65: 14 | K65: 1.3409091
A66: 64 | B66: Taina | C66: Koivisto | D66: 3 | E66: 1 | F66: 1 | G66: 1 | H66: 1 | I66: D | J66: 55 | K66: 1.4772727
A67: 65 | B67: Tuuli-Maija | C67: Stenman | D67: 3 | E67: 1 | F67: 1 | G67: 1 | H67: 1 | I67: D | J67: 40 | K67: 1.2727273
A68: 66 | B68: Anneli | C68: Hautaniemi | D68: 3 | F68: 1 | G68: 1 | H68: 1 | I68: D | J68: 50 | K68: 1.3863636
A69: 67 | B69: Hanni | C69: Koski | D69: 3 | E69: 1 | F69: 1 | H69: 1 | I69: D | J69: 8 | K69: 1.6590909
A70: 68 | B70: Heli | C70: Annila | D70: 3 | F70: 1 | G70: 1 | H70: 1 | I70: D | J70: 50 | K70: 1.3863636
A71: 69 | B71: Hilla | C71: Toivanen | D71: 3 | E71: 1 | F71: 1 | H71: 1 | I71: D | J71: 18 | K71: 1.25
A72: 70 | B72: Jenna | C72: Leipijärvi | D72: 3 | E72: 1 | F72: 2 | I72: D | J72: 16 | K72: 1.2727273
A73: 71 | B73: Julia | C73: Hirvonen | D73: 3 | G73: 2 | H73: 1 | I73: D | J73: 14 | K73: 1.3409091
A74: 72 | B74: Kaisa | C74: Takala | D74: 3 | F74: 1 | G74: 1 | H74: 1 | I74: D | J74: 10 | K74: 1.5
A75: 73 | B75: Katriina | C75: Nummela | D75: 3 | E75: 1 | G75: 1 | H75: 1 | I75: D | J75: 35 | K75: 1.2272727
A76: 74 | B76: Kristiina | C76: Oksanen | D76: 3 | E76: 1 | F76: 1 | H76: 1 | I76: D | J76: 45 | K76: 1.3181818
A77: 75 | B77: Merja | C77: Toivonen | D77: 3 | E77: 1 | G77: 1 | H77: 1 | I77: D | J77: 50 | K77: 1.3863636
A78: 76 | B78: Minttu | C78: Toivanen | D78: 3 | E78: 1 | F78: 1 | H78: 1 | I78: D | J78: 20 | K78: 1.2045455
A79: 77 | B79: Sanna | C79: Matinheikki | D79: 3 | F79: 1 | G79: 1 | H79: 1 | I79: D | J79: 40 | K79: 1.2727273
A80: 78 | B80: Sirpa | C80: Papinsaari | D80: 3 | F80: 1 | G80: 1 | H80: 1 | I80: D | J80: 55 | K80: 1.4772727
A81: 79 | B81: Tuula | C81: Toivanen | D81: 3 | E81: 1 | F81: 1 | H81: 1 | I81: D | J81: 55 | K81: 1.4772727
A82: 80 | B82: Vilma | C82: Pesu | D82: 3 | F82: 1 | G82: 1 | H82: 1 | I82: D | J82: 12 | K82: 1.4090909
A83: 81 | B83: Anja | C83: Mäkelä | D83: 2 | E83: 1 | F83: 1 | I83: D | J83: 50 | K83: 1.3863636
A84: 82 | B84: Anna-Reetta | C84: Reunanen | D84: 2 | E84: 1 | F84: 1 | I84: D | J84: 18 | K84: 1.25
A85: 83 | B85: Eeva-Liisa | C85: Salonen | D85: 2 | F85: 1 | H85: 1 | I85: D | J85: 40 | K85: 1.2727273
A86: 84 | B86: Ella | C86: Filppula | D86: 2 | G86: 1 | H86: 1 | I86: D | J86: 12 | K86: 1.4090909
A87: 85 | B87: Elli-Noora | C87: Kamppuri | D87: 2 | E87: 1 | F87: 1 | I87: D | J87: 18 | K87: 1.25
A88: 86 | B88: Elmiina | C88: Laakso | D88: 2 | F88: 1 | G88: 1 | I88: D | J88: 10 | K88: 1.5
A89: 87 | B89: Helena | C89: Kajaala-Ylikoski | D89: 2 | E89: 1 | G89: 1 | I89: D | J89: 55 | K89: 1.4772727
A90: 88 | B90: Ilona | C90: Tikkakoski | D90: 2 | E90: 2 | I90: D | J90: 12 | K90: 1.4090909
A91: 89 | B91: Inka | C91: Joensivu | D91: 2 | E91: 1 | F91: 1 | I91: D | J91: 12 | K91: 1.4090909
A92: 90 | B92: Kati | C92: Kuusisto | D92: 2 | F92: 1 | H92: 1 | I92: D | J92: 40 | K92: 1.2727273
A93: 91 | B93: Kirsi | C93: Kontio | D93: 2 | G93: 1 | H93: 1 | I93: D | J93: 10 | K93: 1.5
A94: 92 | B94: Liisa | C94: Rajalampi | D94: 2 | G94: 1 | H94: 1 | I94: D | J94: 50 | K94: 1.3863636
A95: 93 | B95: Miia | C95: Tukiainen | D95: 2 | E95: 1 | F95: 1 | I95: D | J95: 40 | K95: 1.2727273
A96: 94 | B96: Pihla | C96: Häkkinen | D96: 2 | F96: 1 | G96: 1 | I96: D | J96: 12 | K96: 1.4090909
A97: 95 | B97: Pirjo | C97: Giltig | D97: 2 | F97: 1 | G97: 1 | I97: D | J97: 40 | K97: 1.2727273
A98: 96 | B98: Päivi | C98: Annila | D98: 2 | E98: 1 | F98: 1 | I98: D | J98: 50 | K98: 1.3863636
A99: 97 | B99: Vuokko | C99: Jurvakainen | D99: 2 | G99: 1 | H99: 1 | I99: D | J99: 21 | K99: 1.1136364
A100: 98 | B100: Anna | C100: Mustajoki | D100: 1 | G100: 1 | I100: D | J100: 40 | K100: 1.2727273
...

Sheet Kisa 1
A1: K-TSV 1. osakilpailu, 26.12.2014 | B1: Arin laskenta
B2: Matka
A3: A1
E4: min/km | F4: Hae ikätasoitus | G4: Tasoitettu tulos | H4: Hae sukupuoli | I4: Sija | J4: Pisteet
A5: A2 | B5: 13. | C5: Lotta Eerola | D5: 0:20:38 | E5: 0.0039790902 | F5: 1.3409091 | G5: 0.0029674571 | H5: D | I5: 1 | J5: 50
A6: B1 | B6: 1. | C6: Jaana Pietilä | D6: 0:19:03 | E6: 0.0039991435 | F6: 1.3181818 | G6: 0.003033833 | H6: D | I6: 2 | J6: 46
A7: B2 | B7: 3. | C7: Sari Saarijärvi | D7: 0:19:22 | E7: 0.0040841403 | F7: 1.3181818 | G7: 0.0030983133 | H7: D | I7: 3 | J7: 43
A8: B1 | B8: 11. | C8: Hilkka Lankia | D8: 0:25:31 | E8: 0.005356683 | F8: 1.7272727 | G8: 0.0031012375 | H8: D | I8: 3 | J8: 40
A9: A2 | B9: 16. | C9: Anni Haanpää | D9: 0:21:07 | E9: 0.0040722999 | F9: 1.2727273 | G9: 0.0031996642 | H9: D | I9: 5 | J9: 37
A10: A2 | B10: 12. | C10: Hanna-Maija Koski | D10: 0:20:30 | E10: 0.0039533771 | F10: 1.2272727 | G10: 0.0032212703 | H10: D | I10: 6 | J10: 34
A11: A2 | B11: 4. | C11: Laura Palm | D11: 0:18:40 | E11: 0.0035998231 | F11: 1.1136364 | G11: 0.0032324942 | H11: D | I11: 7 | J11: 32
A12: A2 | B12: 8. | C12: Sonja Kyrölä | D12: 0:19:14 | E12: 0.0037091034 | F12: 1.1136364 | G12: 0.0033306235 | H12: D | I12: 8 | J12: 30
A13: A1 | B13: 25. | C13: Saara Yli-Hietanen | D13: 0:23:24 | E13: 0.0044679681 | F13: 1.3409091 | G13: 0.003332044 | H13: D | I13: 8 | J13: 28
A14: A2 | B14: 14. | C14: Sanni Kymäläinen | D14: 0:20:54 | E14: 0.0040305162 | F14: 1.2045455 | G14: 0.0033460889 | H14: D | I14: 10 | J14: 26
A15: B2 | B15: 5. | C15: Vilma Annala | D15: 0:20:16 | E15: 0.0042739369 | F15: 1.2727273 | G15: 0.0033580932 | H15: D | I15: 11 | J15: 24
A16: A2 | B16: 9. | C16: Miia Niittynen | D16: 0:19:26 | E16: 0.003747673 | F16: 1.1136364 | G16: 0.0033652574 | H16: D | I16: 12 | J16: 22
... A34: A1 | B34: 18. | C34: Suvi Harju | D34: 0:21:57 | E34: 0.0041911068 | F34: 1.1136364 | G34: 0.0037634429 | H34: D | I34: 30 | J34: 1
A35: A2 | B35: 33. | C35: Tiina Äijälä | D35: 0:27:37 | E35: 0.0053258097 | F35: 1.3863636 | G35: 0.0038415677 | H35: D | J35: 1
A36: B1 | B36: 12. | C36: Inka Joensivu | D36: 0:25:52 | E36: 0.0054301581 | F36: 1.4090909 | G36: 0.0038536606 | H36: D | J36: 1
A37: B2 | B37: 17. | C37: Helena Kajaala-Ylikoski | D37: 0:27:23 | E37: 0.0057747354 | F37: 1.4772727 | G37: 0.0039090517 | H37: D | J37: 1
A38: B2 | B38: 16. | C38: Marita Kymäläinen | D38: 0:25:48 | E38: 0.0054408341 | F38: 1.3863636 | G38: 0.0039245361 | H38: D | J38: 1
A39: B1 | B39: 10. | C39: Salla Mustonen | D39: 0:25:12 | E39: 0.0052902056 | F39: 1.3409091 | G39: 0.003945238 | H39: D | J39: 1
A40: A1 | B40: 29. | C40: Pinja Toivanen | D40: 0:25:14 | E40: 0.0048180226 | F40: 1.2045455 | G40: 0.0039998678 | H40: D | J40: 1
A41: B2 | B41: 11. | C41: Katriina Nummela | D41: 0:23:20 | E41: 0.004920651 | F41: 1.2272727 | G41: 0.0040094193 | H41: D | J41: 1
A42: A2 | B42: 21. | C42: Niina Papinsaari | D42: 0:23:13 | E42: 0.00447728 | F42: 1.1136364 | G42: 0.0040204147 | H42: D | J42: 1
A43: A2 | B43: 31. | C43: Jenna Leipijärvi | D43: 0:27:20 | E43: 0.0052711695 | F43: 1.2727273 | G43: 0.0041416332 | H43: D | J43: 1
A44: A2 | B44: 38. | C44: Päivi Annila | D44: 0:30:12 | E44: 0.0058239995 | F44: 1.3863636 | G44: 0.0042009177 | H44: D | J44: 1
A45: A1 | B45: 35. | C45: Minttu Paunu | D45: 0:27:39 | E45: 0.005279458 | F45: 1.25 | G45: 0.0042235664 | H45: D | J45: 1
A46: B2 | B46: 18. | C46: Anja Mäkelä | D46: 0:27:55 | E46: 0.0058872074 | F46: 1.3863636 | G46: 0.0042465103 | H46: D | J46: 1
... A69: B1 | B69: 21. | C69: Tuuli-Maija Stenman | D69: 0:37:12 | E69: 0.0078093511 | F69: 1.1136364 | G69: 0.0070124785 | H69: D | J69: 1
A70: B1 | C70: Rita Simola | D70: 0:Ei: | E70: #VALUE! | F70: 1.4090909 | G70: #VALUE! | H70: D | J70: 1
A72: B2 | B72: 1. | C72: Akseli Konttila | D72: 0:17:45 | E72: 0.0037432095 | F72: 1.3181818 | G72: 0.0028396762 | H72: H | I72: 1 | J72: 50
A73: A1 | B73: 9. | C73: Sakari Koivuniemi | D73: 0:18:28 | E73: 0.0035260033 | F73: 1.2272727 | G73: 0.0028730397 | H73: H | I73: 2 | J73: 46
A74: A1 | B74: 11. | C74: Mikko Eerola | D74: 0:18:44 | E74: 0.0035769203 | F74: 1.2272727 | G74: 0.0029145277 | H74: H | I74: 3 | J74: 43
A75: A1 | B75: 3. | C75: Arttu Vesterinen | D75: 0:17:28 | E75: 0.0033350645 | F75: 1.1363636 | G75: 0.0029348568 | H75: H | I75: 4 | J75: 40
A76: B2 | B76: 2. | C76: Pekka Kannus | D76: 0:18:54 | E76: 0.0039857273 | F76: 1.3409091 | G76: 0.0029724068 | H76: H | I76: 5 | J76: 37
A77: A2 | B77: 1. | C77: Pyry Mustonen | D77: 0:17:01 | E77: 0.0032816244 | F77: 1.0909091 | G77: 0.0030081557 | H77: H | I77: 6 | J77: 34
A78: A1 | B78: 2. | C78: Anton Kuukka | D78: 0:17:16 | E78: 0.0032968768 | F78: 1.0909091 | G78: 0.003022137 | H78: H | I78: 7 | J78: 32
A79: A1 | B79: 1. | C79: Jukka-Pekka Seppänen | D79: 0:15:59 | E79: 0.0030518386 | F79: 1 | G79: 0.0030518386 | H79: H | I79: 8 | J79: 30
A80: A1 | B80: 10. | C80: Janne Märkälä | D80: 0:18:34 | E80: 0.0035450972 | F80: 1.1590909 | G80: 0.0030585152 | H80: H | I80: 8 | J80: 28
A81: B2 | B81: 4. | C81: Hannu Aasla | D81: 0:19:28 | E81: 0.0041052288 | F81: 1.3409091 | G81: 0.0030615266 | H81: H | I81: 10 | J81: 26
A82: A2 | B82: 2. | C82: Vili Mustonen | D82: 0:17:20 | E82: 0.0033426929 | F82: 1.0909091 | G82: 0.0030641351 | H82: H | I82: 10 | J82: 24
A83: A1 | B83: 26. | C83: Erkki Ylikoski | D83: 0:23:32 | E83: 0.0044934266 | F83: 1.4545455 | G83: 0.0030892308 | H83: H | I83: 12 | J83: 22
... A101: A1 | B101: 5. | C101: André Bruguière | D101: 0:18:05 | E101: 0.0034528101 | F101: 1 | G101: 0.0034528101 | H101: H | I101: 30 | J101: 1
A102: A2 | B102: 11. | C102: Janne Konttila | D102: 0:20:23 | E102: 0.0039308783 | F102: 1.1136364 | G102: 0.0035297682 | H102: H | J102: 1
A103: A2 | B103: 17. | C103: Jyri Jyrkkäranta | D103: 0:21:13 | E103: 0.0040915846 | F103: 1.1590909 | G103: 0.0035299946 | H103: H | J103: 1
A104: A1 | B104: 22. | C104: Antti Rissanen | D104: 0:23:04 | E104: 0.0044043218 | F104: 1.2272727 | G104: 0.0035887067 | H104: H | J104: 1
A105: B2 | B105: 19. | C105: Pentti Koivisto | D105: 0:28:20 | E105: 0.0059750762 | F105: 1.6590909 | G105: 0.0036014158 | H105: H | J105: 1
A106: A2 | B106: 18. | C106: Markku Rissanen | D106: 0:21:48 | E106: 0.0042040791 | F106: 1.1590909 | G106: 0.0036270486 | H106: H | J106: 1
A107: A2 | B107: 15. | C107: Ismo Raitanen | D107: 0:21:04 | E107: 0.0040626575 | F107: 1.1136364 | G107: 0.0036481006 | H107: H | J107: 1
A108: B1 | B108: 5. | C108: Kasperi Salo | D108: 0:23:03 | E108: 0.0048388587 | F108: 1.3181818 | G108: 0.0036708583 | H108: H | J108: 1
A109: A1 | B109: 27. | C109: Antti Lepola | D109: 0:24:03 | E109: 0.0045920783 | F109: 1.25 | G109: 0.0036736627 | H109: H | J109: 1
A110: B2 | B110: 10. | C110: Eemil Koskinen | D110: 0:23:13 | E110: 0.0048960477 | F110: 1.3181818 | G110: 0.0037142431 | H110: H | J110: 1
A111: A2 | B111: 29. | C111: Kari Papinsaari | D111: 0:26:02 | E111: 0.0050204676 | F111: 1.3409091 | G111: 0.0037440775 | H111: H | J111: 1
A112: A1 | B112: 19. | C112: Seppo Kuusisto | D112: 0:22:07 | E112: 0.00422293 | F112: 1.1136364 | G112: 0.0037920187 | H112: H | J112: 1
A113: A2 | B113: 27. | C113: Jari Toivonen | D113: 0:24:38 | E113: 0.0047504808 | F113: 1.25 | G113: 0.0038003847 | H113: H | J113: 1
... A146: B2 | B146: 31. | C146: Olli Kuusisto | D146: 0:54:38 | E146: 0.011521353 | F146: 1.6363636 | G146: 0.0070408267 | H146: H | J146: 1
A147: A1 | C147: Joel Schüle | D147: 0:Ei: | E147: #VALUE! | F147: 1.2272727 | G147: #VALUE! | H147: H | J147: 1
A148: A2 | C148: KariPekka Seppänen | D148: 0:Ei: | E148: #VALUE! | F148: 1 | G148: #VALUE! | H148: H | J148: 1
A149: B1 | C149: Milo Konttila | D149: 0:Ei: | E149: #VALUE! | F149: 1.4772727 | G149: #VALUE! | H149: H | J149: 1
A150: B1 | C150: Samuli Saarikko | D150: 0:Ei: | E150: #VALUE! | F150: 1.0681818 | G150: #VALUE! | H150: H | J150: 1
A151: A2 | C151: Timo Koski | D151: 0:Ei: | E151: #VALUE! | F151: 1.1590909 | G151: #VALUE! | H151: H | J151: 1

Sheet Kisa 2
A1: 2. kisa | B1: 2.
A2: A1 | B2: 3.088
A3: (Lähti: | B3: 51
E4: min/km | F4: Hae ikätasoitus | G4: Tasoitettu tulos | H4: Hae sukupuoli | I4: Sija | J4: Pisteet
A5: 2.709 | B5: 18. | C5: Aapo Liponkoski | D5: 0:21:39 | E5: 0.0055499159 | F5: 1.4772727 | G5: 0.0037568662 | H5: H | I5: 30 | J5: 1
A6: 2.709 | B6: 2. | C6: Akseli Konttila | D6: 0:17:15 | E6: 0.0044219884 | F6: 1.3181818 | G6: 0.0033546119 | H6: H | I6: 9 | J6: 28
A7: 2.709 | B7: 38. | C7: Akseli Pesu | D7: 0:31:20 | E7: 0.0080322109 | F7: 1.4772727 | G7: 0.0054371889 | H7: H | J7: 1
A8: 2.767 | B8: 5. | C8: Aleksi Hiidenhovi | D8: 0:14:36 | E8: 0.0036642172 | F8: 1.1363636 | G8: 0.0032245111 | H8: H | I8: 3 | J8: 43
A9: 3.088 | B9: 3. | C9: Aleksi Tuovinen | D9: 0:15:57 | E9: 0.0035869135 | F9: 1 | G9: 0.0035869135 | H9: H | I9: 21 | J9: 10
A10: 2.709 | B10: 3. | C10: Alma Toivonen | D10: 0:17:34 | E10: 0.004503165 | F10: 1.2045455 | G10: 0.0037384766 | H10: D | I10: 12 | J10: 22
A11: 3.088 | B11: 7. | C11: André Bruguière | D11: 0:17:12 | E11: 0.0038680196 | F11: 1 | G11: 0.0038680196 | H11: H | J11: 1
A12: 3.088 | B12: 45. | C12: Anja Mäkelä | D12: 0:33:47 | E12: 0.0075973602 | F12: 1.3863636 | G12: 0.0054800631 | H12: D | J12: 1
A13: 2.767 | B13: 12. | C13: Anna Kotkajuuri | D13: 0:16:45 | E13: 0.0042038108 | F13: 1.2045455 | G13: 0.0034899561 | H13: D | I13: 6 | J13: 34
A14: 2.767 | B14: 54. | C14: Anna Ruokola | D14: 0:32:47 | E14: 0.008227757 | F14: 1.3409091 | G14: 0.0061359544 | H14: D | J14: 1
A15: 3.088 | B15: 39. | C15: Anna-Reetta Reunanen | D15: 0:27:04 | E15: 0.0060868835 | F15: 1.25 | G15: 0.0048695068 | H15: D | J15: 1
A16: 2.709 | B16: 40. | C16: Anneli Hautaniemi | D16: 0:31:31 | E16: 0.0080792079 | F16: 1.3863636 | G16: 0.0058276253 | H16: D | J16: 1
A17: 2.767 | C17: Anni Haanpää | D17: 0:Ei: | E17: #VALUE! | F17: 1.2727273 | G17: #VALUE! | H17: D | J17: 1
A18: 2.709 | B18: 32. | C18: Anton Vehkalahti | D18: 0:27:30 | E18: 0.0070495468 | F18: 1.3181818 | G18: 0.005347932 | H18: H | J18: 1
A19: 2.709 | B19: 1. | C19: Anton Kuukka | D19: 0:13:11 | E19: 0.00337951 | F19: 1.0909091 | G19: 0.0030978842 | H19: H | I19: 1 | J19: 50
A20: 3.088 | B20: 18. | C20: Antti Lammi | D20: 0:20:03 | E20: 0.0045089414 | F20: 1.1363636 | G20: 0.0039678685 | H20: H | J20: 1
A21: 2.767 | B21: 26. | C21: Antti Lepola | D21: 0:20:00 | E21: 0.0050194756 | F21: 1.25 | G21: 0.0040155805 | H21: H | J21: 1
A22: 2.709 | B22: 16. | C22: Ari Ovaska | D22: 0:20:59 | E22: 0.0053790178 | F22: 1.4545455 | G22: 0.0036980747 | H22: H | I22: 25 | J22: 6
A23: 2.767 | B23: 53. | C23: Arttu Pitkänen | D23: 0:32:46 | E23: 0.0082235741 | F23: 1.2272727 | G23: 0.00670069 | H23: H | J23: 1
A24: 2.767 | B24: 6. | C24: Arttu Vesterinen | D24: 0:15:00 | E24: 0.0037646067 | F24: 1.1363636 | G24: 0.0033128539 | H24: H | I24: 8 | J24: 30
A25: 2.767 | B25: 36. | C25: Eemeli Laakso | D25: 0:23:05 | E25: 0.0057933114 | F25: 1.1363636 | G25: 0.005098114 | H25: H | J25: 1
A26: 2.767 | B26: 31. | C26: Eemil Koskinen | D26: 0:20:55 | E26: 0.0052495349 | F26: 1.3181818 | G26: 0.0039824058 | H26: H | J26: 1
A27: 2.709 | B27: 44. | C27: Eeva-Liisa Salonen | D27: 0:34:34 | E27: 0.0088610667 | F27: 1.2727273 | G27: 0.0069622667 | H27: D | J27: 1
A28: 2.709 | B28: 24. | C28: Eino Lehtiniemi | D28: 0:24:35 | E28: 0.0063018676 | F28: 1.3181818 | G28: 0.0047807271 | H28: H | J28: 1
A29: 2.767 | C29: Elisa Tuomisto | D29: 0:Ei: | E29: #VALUE! | F29: 1.1136364 | G29: #VALUE! | H29: D | J29: 1
A30: 2.767 | B30: 25. | C30: Ella Skog | D30: 0:19:50 | E30: 0.0049776466 | F30: 1.2727273 | G30: 0.003911008 | H30: D | I30: 16 | J30: 15
A31: 3.088 | B31: 38. | C31: Elli-Noora Kamppuri | D31: 0:26:25 | E31: 0.0059407084 | F31: 1.25 | G31: 0.0047525667 | H31: D | J31: 1
A32: 2.709 | C32: Elmiina Laakso | D32: 0:Ei: | E32: #VALUE! | F32: 1.5 | G32: #VALUE! | H32: D | J32: 1
A33: 2.767 | B33: 13. | C33: Hanna-Maija Koski | D33: 0:17:19 | E33: 0.0043460293 | F33: 1.2272727 | G33: 0.003541209 | H33: D | I33: 7 | J33: 32
A34: 2.709 | B34: 50. | C34: Hanni Koski | D34: 0:41:15 | E34: 0.01057432 | F34: 1.6590909 | G34: 0.0063735628 | H34: D | J34: 1
A35: 3.088 | B35: 27. | C35: Hannu Aasla | D35: 0:22:42 | E35: 0.0051048863 | F35: 1.3409091 | G35: 0.0038070338 | H35: H | J35: 1
A36: 2.767 | B36: 38. | C36: Harri Vehkalahti | D36: 0:23:36 | E36: 0.0059229812 | F36: 1.1590909 | G36: 0.005110023 | H36: H | J36: 1
A37: 2.709 | B37: 9. | C37: Heikki Lindberg | D37: 0:18:24 | E37: 0.0047167877 | F37: 1 | G37: 0.0047167877 | H37: H | J37: 1
A38: 2.709 | B38: 19. | C38: Heikki Takala | D38: 0:21:45 | E38: 0.0055755506 | F38: 1.4772727 | G38: 0.0037742189 | H38: H | J38: 1
A39: 2.709 | B39: 27. | C39: Heli Annila | D39: 0:24:46 | E39: 0.0063488646 | F39: 1.3863636 | G39: 0.0045795089 | H39: D | J39: 1
A40: 2.767 | B40: 41. | C40: Hilkka Lankia | D40: 0:24:28 | E40: 0.0061404918 | F40: 1.7272727 | G40: 0.0035550216 | H40: D | I40: 8 | J40: 30
A41: 2.767 | B41: 43. | C41: Hilla Niemelä | D41: 0:25:01 | E41: 0.0062785274 | F41: 1.3409091 | G41: 0.0046822916 | H41: D | J41: 1
A42: 2.767 | B42: 47. | C42: Hilla Toivanen | D42: 0:27:23 | E42: 0.0068724986 | F42: 1.0909091 | G42: 0.0062997904 | H42: H | J42: 1
A43: 2.767 | B43: 42. | C43: Idaliina Kuusisto | D43: 0:24:48 | E43: 0.0062241497 | F43: 1.3409091 | G43: 0.0046417388 | H43: D | J43: 1
A44: 3.088 | B44: 9. | C44: Ilkka Nurminen | D44: 0:17:35 | E44: 0.0039542254 | F44: 1.1136364 | G44: 0.003550733 | H44: H | I44: 20 | J44: 11
A45: 3.088 | B45: 40. | C45: Ilkka Ruokola | D45: 0:27:51 | E45: 0.0062630433 | F45: 1.1590909 | G45: 0.0054034099 | H45: H | J45: 1
A46: 3.088 | B46: 47. | C46: Inka Joensivu | D46: 0:37:58 | E46: 0.0085381285 | F46: 1.4090909 | G46: 0.006059317 | H46: D | J46: 1
A47: 2.709 | B47: 7. | C47: Ismo Raitanen | D47: 0:17:56 | E47: 0.004597159 | F47: 1.1136364 | G47: 0.0041280611 | H47: H | J47: 1
A48: 2.709 | B48: 37. | C48: Jaakko Koivisto | D48: 0:31:15 | E48: 0.0080108486 | F48: 1 | G48: 0.0080108486 | H48: H | J48: 1
A49: 3.088 | B49: 6. | C49: Jaakko Skog | D49: 0:17:03 | E49: 0.0038342868 | F49: 1.0909091 | G49: 0.0035147629 | H49: H | I49: 17 | J49: 14
A50: 2.709 | C50: Jaakko Takala | D50: 0:Ei: | E50: #VALUE! | F50: 1.2272727 | G50: #VALUE! | H50: H | J50: 1
A51: 2.767 | B51: 17. | C51: Jaana Pietilä | D51: 0:18:12 | E51: 0.0045677228 | F51: 1.3181818 | G51: 0.003465169 | H51: D | I51: 4 | J51: 40
A52: 2.767 | B52: 10. | C52: Janne Konttila | D52: 0:16:28 | E52: 0.0041327015 | F52: 1.1136364 | G52: 0.0037109973 | H52: H | I52: 27 | J52: 4
A53: 2.767 | B53: 34. | C53: Jari Kymäläinen | D53: 0:21:54 | E53: 0.0054963257 | F53: 1 | G53: 0.0054963257 | H53: H | J53: 1
A54: 3.088 | B54: 32. | C54: Jari Toivonen | D54: 0:23:46 | E54: 0.0053447635 | F54: 1.25 | G54: 0.0042758108 | H54: H | J54: 1
A55: 2.767 | B55: 1. | C55: Jarkko Huovila | D55: 0:13:13 | E55: 0.0033170368 | F55: 1.0681818 | G55: 0.003105311 | H55: H | I55: 1 | J55: 50
A56: 3.088 | B56: 23. | C56: Jarno Riikonen | D56: 0:21:38 | E56: 0.0048650091 | F56: 1.1136364 | G56: 0.0043685796 | H56: H | J56: 1
A57: 3.088 | B57: 34. | C57: Jenna Leipijärvi | D57: 0:24:49 | E57: 0.0055808926 | F57: 1.2727273 | G57: 0.004384987 | H57: D | I57: 29 | J57: 2
A58: 3.088 | B58: 4. | C58: Jere Ahonen | D58: 0:16:10 | E58: 0.0036356386 | F58: 1 | G58: 0.0036356386 | H58: H | I58: 23 | J58: 8
A59: 2.709 | B59: 34. | C59: Jere Simola | D59: 0:27:54 | E59: 0.0071520856 | F59: 1.4772727 | G59: 0.0048414118 | H59: H | J59: 1
A60: 3.088 | B60: 17. | C60: Jonne Pitkänen | D60: 0:19:37 | E60: 0.0044114913 | F60: 1.0909091 | G60: 0.004043867 | H60: H | J60: 1
A61: 2.767 | B61: 16. | C61: Joona Leipijärvi | D61: 0:18:05 | E61: 0.0045384425 | F61: 1.0454545 | G61: 0.0043411189 | H61: H | J61: 1
A62: 2.709 | B62: 45. | C62: Juha Lehtinen | D62: 0:35:45 | E62: 0.0091644108 | F62: 1 | G62: 0.0091644108 | H62: H | J62: 1
A63: 2.709 | C63: Juhani Pitkänen | D63: 0:Ei: | E63: #VALUE! | F63: 1.3409091 | G63: #VALUE! | H63: H | J63: 1
A64: 2.767 | B64: 27. | C64: Juha-Pekka Helminen | D64: 0:20:05 | E64: 0.00504039 | F64: 1.1136364 | G64: 0.0045260645 | H64: H | J64: 1
A65: 2.767 | B65: 4. | C65: Juho Kinni | D65: 0:13:59 | E65: 0.00350945 | F65: 1 | G65: 0.00350945 | H65: H | I65: 16 | J65: 15
A66: 3.088 | B66: 36. | C66: Jukka Kallio | D66: 0:25:12 | E66: 0.0056670984 | F66: 1.25 | G66: 0.0045336788 | H66: H | J66: 1
A67: 2.709 | B67: 13. | C67: Jukka Kyrölä | D67: 0:19:13 | E67: 0.0049261378 | F67: 1.4545455 | G67: 0.0033867198 | H67: H | I67: 11 | J67: 24
A68: 3.088 | B68: 1. | C68: Jukka-Pekka Seppänen | D68: 0:15:19 | E68: 0.0034444864 | F68: 1 | G68: 0.0034444864 | H68: H | I68: 12 | J68: 22
A69: 2.767 | B69: 2. | C69: Jussi-Elmeri Halme | D69: 0:13:42 | E69: 0.0034383408 | F69: 1.0454545 | G69: 0.0032888477 | H69: H | I69: 5 | J69: 37
A70: 3.088 | B70: 25. | C70: Juuso Mustonen | D70: 0:22:13 | E70: 0.0049961919 | F70: 1 | G70: 0.0049961919 | H70: H | J70: 1
A71: 2.767 | C71: Jyri Jyrkkäranta | D71: 0:Ei: | E71: #VALUE! | F71: 1.1590909 | G71: #VALUE! | H71: H | J71: 1
A72: 2.767 | C72: Jyri Sistonen | D72: 0:Ei: | E72: #VALUE! | F72: 1.25 | G72: #VALUE! | H72: H | J72: 1
A73: 2.767 | C73: Jyry Tukiainen | D73: 0:Ei: | E73: #VALUE! | F73: 1.3181818 | G73: #VALUE! | H73: H | J73: 1
A74: 2.709 | B74: 49. | C74: Kaarlo Kallio | D74: 0:40:24 | E74: 0.010356425 | F74: 1.6363636 | G74: 0.0063289264 | H74: H | J74: 1
A75: 2.709 | B75: 41. | C75: Kaisa Takala | D75: 0:32:09 | E75: 0.0082415611 | F75: 1.5 | G75: 0.005494374 | H75: D | J75: 1
A76: 2.709 | B76: 35. | C76: Kaj Andresen | D76: 0:29:59 | E76: 0.0076861422 | F76: 1.5681818 | G76: 0.0049013081 | H76: H | J76: 1
A77: 2.709 | B77: 14. | C77: Kari Papinsaari | D77: 0:19:36 | E77: 0.0050244042 | F77: 1.3409091 | G77: 0.0037470133 | H77: H | I77: 29 | J77: 2
A78: 3.088 | C78: KariPekka Seppänen | D78: 0:Ei: | E78: #VALUE! | F78: 1 | G78: #VALUE! | H78: H | J78: 1
A79: 3.088 | B79: 48. | C79: Kasper Joensivu | D79: 0:46:46 | E79: 0.010517115 | F79: 1.4772727 | G79: 0.007119278 | H79: H | J79: 1
A80: 2.709 | B80: 17. | C80: Kati Haanpää | D80: 0:21:20 | E80: 0.0054687393 | F80: 1.2727273 | G80: 0.0042968666 | H80: D | I80: 28 | J80: 3
A81: 2.709 | B81: 29. | C81: Kati Kuusisto | D81: 0:25:52 | E81: 0.0066308464 | F81: 1.2727273 | G81: 0.0052099508 | H81: D | J81: 1
A82: 3.088 | B82: 30. | C82: Katri Niittymäki | D82: 0:23:17 | E82: 0.0052360691 | F82: 1.2727273 | G82: 0.0041140543 | H82: D | I82: 20 | J82: 11
A83: 2.709 | B83: 32. | C83: Kira Holmala | D83: 0:27:41 | E83: 0.0070965438 | F83: 1.6590909 | G83: 0.0042773688 | H83: D | I83: 27 | J83: 4
A84: 2.767 | B84: 18. | C84: Kiri Huhtanen | D84: 0:18:15 | E84: 0.0045802715 | F84: 1.1363636 | G84: 0.0040306389 | H84: H | J84: 1
A85: 2.767 | B85: 45. | C85: Kirre Palmi | D85: 0:26:28 | E85: 0.0066424393 | F85: 1.3863636 | G85: 0.0047912677 | H85: D | J85: 1
A86: 3.088 | B86: 10. | C86: Konsta Pitkänen | D86: 0:17:49 | E86: 0.0040066986 | F86: 1.1363636 | G86: 0.0035258947 | H86: H | I86: 18 | J86: 13
A87: 2.709 | B87: 25. | C87: Konsta Raitanen | D87: 0:24:40 | E87: 0.0063232298 | F87: 1.3181818 | G87: 0.004796933 | H87: H | J87: 1
A88: 2.767 | B88: 46. | C88: Kristiina Oksanen | D88: 0:27:20 | E88: 0.0068599499 | F88: 1.3181818 | G88: 0.0052041 | H88: D | J88: 1
A89: 2.767 | B89: 7. | C89: Laura Palm | D89: 0:15:27 | E89: 0.0038775449 | F89: 1.1136364 | G89: 0.003481877 | H89: D | I89: 5 | J89: 37
A90: 2.709 | B90: 21. | C90: Lauri Isokallio | D90: 0:23:04 | E90: 0.0059130744 | F90: 1.3181818 | G90: 0.0044857806 | H90: H | J90: 1
A91: 2.767 | C91: Leevi Keronen | D91: 0:Ei: | E91: #VALUE! | F91: 1.2272727 | G91: #VALUE! | H91: H | J91: 1
A92: 2.709 | B92: 6. | C92: Leo Matinheikki | D92: 0:17:53 | E92: 0.0045843416 | F92: 1.2272727 | G92: 0.0037353895 | H92: H | I92: 28 | J92: 3
A93: 2.767 | B93: 18. | C93: Lotta Eerola | D93: 0:18:15 | E93: 0.0045802715 | F93: 1.3409091 | G93: 0.0034157957 | H93: D | I93: 3 | J93: 43
A94: 2.767 | B94: 24. | C94: Lotta Välkki | D94: 0:19:24 | E94: 0.0048688913 | F94: 1.3409091 | G94: 0.0036310376 | H94: D | I94: 9 | J94: 28
A95: 2.767 | B95: 50. | C95: Maija Yli-Hietanen | D95: 0:28:43 | E95: 0.0072071303 | F95: 1.2727273 | G95: 0.0056627453 | H95: D | J95: 1
A96: 2.767 | B96: 52. | C96: Marika Aronen-Ketola | D96: 0:30:36 | E96: 0.0076797976 | F96: 1.3181818 | G96: 0.0058260534 | H96: D | J96: 1
A97: 3.088 | B97: 19. | C97: Marika Hara | D97: 0:20:05 | E97: 0.0045164376 | F97: 1.1136364 | G97: 0.0040555766 | H97: D | I97: 19 | J97: 12
A98: 2.709 | B98: 22. | C98: Marita Kymäläinen | D98: 0:24:23 | E98: 0.0062505981 | F98: 1.3863636 | G98: 0.0045086282 | H98: D | J98: 1
A99: 2.767 | B99: 51. | C99: Marja Välkki | D99: 0:29:05 | E99: 0.0072991541 | F99: 1.2727273 | G99: 0.0057350496 | H99: D | J99: 1
A100: 2.767 | B100: 40. | C100: Matti Haarajoki | D100: 0:23:57 | E100: 0.006010822 | F100: 1.5681818 | G100: 0.0038329879 | H100: H | J100: 1
...

Sheet Kisa 3
A1: 3. kisa
D2: min/km | E2: Hae ikätasoitus | F2: Tasoitettu tulos | G2: Hae sukupuoli | H2: Sija | I2: Pisteet
A3: 3. | B3: Sari Saarijärvi | C3: 0:14:32 | D3: 0.00399865 | E3: 1.3181818 | F3: 0.0030334586 | G3: D | H3: 1 | I3: 50
A4: 5. | B4: Lotta Eerola | C4: 0:15:21 | D4: 0.0042233448 | E4: 1.3409091 | F4: 0.0031496131 | G4: D | H4: 2 | I4: 46
A5: 5. | B5: Salla Pitkänen | C5: 0:14:41 | D5: 0.0040656935 | E5: 1.2727273 | F5: 0.0031944735 | G5: D | H5: 3 | I5: 43
A6: 3. | B6: Sirkka-Liisa Lauronen | C6: 0:14:28 | D6: 0.0040057003 | E6: 1.2272727 | F6: 0.0032639039 | G6: D | H6: 4 | I6: 40
A7: 12. | B7: Saara Yli-Hietanen | C7: 0:16:29 | D7: 0.0044470704 | E7: 1.3409091 | F7: 0.0033164593 | G7: D | H7: 5 | I7: 37
B8: Kaisa Haanpää | C8: 0:16:37 | D8: 0.004571851 | E8: 1.2272727 | F8: 0.003409516 | G8: D | H8: 6 | I8: 34
A9: 3. | B9: Sanni Kymäläinen | C9: 0:14:59 | D9: 0.0041603729 | E9: 1.2045455 | F9: 0.0034538945 | G9: D | H9: 7 | I9: 32
A10: 7. | B10: Anna Kotkajuuri | C10: 0:15:16 | D10: 0.0042272137 | E10: 1.2045455 | F10: 0.0035093849 | G10: D | H10: 8 | I10: 30
A11: 13. | B11: Ella Skog | C11: 0:16:55 | D11: 0.0046543919 | E11: 1.2727273 | F11: 0.0036570222 | G11: D | H11: 9 | I11: 28
A12: 6. | B12: Hanna-Maija Koski | C12: 0:16:10 | D12: 0.0044889452 | E12: 1.2272727 | F12: 0.003657659 | G12: D | H12: 9 | I12: 28
A13: 9. | B13: Terttu Jalanto | C13: 0:19:30 | D13: 0.0052507432 | E13: 1.3863636 | F13: 0.0037874213 | G13: D | H13: 11 | I13: 24
A14: 12. | B14: Rosa Simola | C14: 0:18:28 | D14: 0.0051275786 | E14: 1.3409091 | F14: 0.0038239569 | G14: D | H14: 12 | I14: 22
A15: 17. | B15: Jutta Nurminen | C15: 0:17:43 | D15: 0.0048745011 | E15: 1.2727273 | F15: 0.0038299651 | G15: D | H15: 13 | I15: 20
A16: 19. | B16: Minna Konttila | C16: 0:18:04 | D16: 0.0049707988 | E16: 1.2727273 | F16: 0.0039056277 | G16: D | H16: 14 | I16: 18
A17: 14. | B17: Salla Saarijärvi | C17: 0:18:06 | D17: 0.004883234 | E17: 1.25 | F17: 0.0039065872 | G17: D | H17: 15 | I17: 16
A18: 11. | B18: Kiia Isokallio | C18: 0:17:55 | D18: 0.0049748619 | E18: 1.2727273 | F18: 0.0039088201 | G18: D | H18: 15 | I18: 15
A19: 15. | B19: Kati Haanpää | C19: 0:18:28 | D19: 0.0049821578 | E19: 1.2727273 | F19: 0.0039145525 | G19: D | H19: 15 | I19: 14
A20: 28. | B20: Hilkka Lankia | C20: 0:24:35 | D20: 0.0067637715 | E20: 1.7272727 | F20: 0.0039158677 | G20: D | H20: 15 | I20: 13
... A32: 22. | B32: Saija Laurila | C32: 0:22:38 | D32: 0.0062845232 | E32: 1.3863636 | F32: 0.0045330987 | G32: D | H32: 30 | I32: 1
A33: 22. | B33: Villa Mustajoki | C33: 0:23:09 | D33: 0.0064100434 | E33: 1.4090909 | F33: 0.0045490631 | G33: D | I33: 1
A34: 25. | B34: Heli Annila | C34: 0:23:01 | D34: 0.0063327244 | E34: 1.3863636 | F34: 0.0045678668 | G34: D | I34: 1
A35: 20. | B35: Marika Aronen-Ketola | C35: 0:21:47 | D35: 0.0060316247 | E35: 1.3181818 | F35: 0.0045757153 | G35: D | I35: 1
A36: 27. | B36: Silja Yli-Hietanen | C36: 0:24:00 | D36: 0.0066032752 | E36: 1.4090909 | F36: 0.0046861953 | G36: D | I36: 1
A37: 29. | B37: Tuire Niemi | C37: 0:27:07 | D37: 0.0075293956 | E37: 1.5909091 | F37: 0.004732763 | G37: D | I37: 1
A38: 16. | B38: Vuokko Jurvakainen | C38: 0:19:09 | D38: 0.0053173175 | E38: 1.1136364 | F38: 0.0047747341 | G38: D | I38: 1
A39: 23. | B39: Reea Simola | C39: 0:23:01 | D39: 0.0063909621 | E39: 1.2727273 | F39: 0.0050214702 | G39: D | I39: 1
A40: 26. | B40: Merja Toivonen | C40: 0:25:19 | D40: 0.0070295956 | E40: 1.3863636 | F40: 0.005070528 | G40: D | I40: 1
A41: 32. | B41: Rita Simola | C41: 0:27:15 | D41: 0.0074974687 | E41: 1.4090909 | F41: 0.0053207843 | G41: D | I41: 1
A42: 26. | B42: Maija Yli-Hietanen | C42: 0:24:28 | D42: 0.0067746175 | E42: 1.2727273 | F42: 0.0053229138 | G42: D | I42: 1
A43: 33. | B43: Vilma Pesu | C43: 0:28:36 | D43: 0.007868903 | E43: 1.4090909 | F43: 0.0055843828 | G43: D | I43: 1
A44: 28. | B44: Sanna Raunila | C44: 0:25:05 | D44: 0.0069453674 | E44: 1.2272727 | F44: 0.0056591883 | G44: D | I44: 1
... A65: 40. | B65: Suvi Haarajoki | C65: 0:41:05 | D65: 0.011303523 | E65: 1.1136364 | F65: 0.010150102 | G65: D | I65: 1
B66: Laura Palm | C66: 0:tu:os | D66: #VALUE! | E66: 1.1136364 | F66: #VALUE! | G66: D | I66: 1
B67: Marita Kymäläinen | C67: 0:tu:os | D67: #VALUE! | E67: 1.3863636 | F67: #VALUE! | G67: D | I67: 1
B68: Pirjo Giltig | C68: 0:tu:os | D68: #VALUE! | E68: 1.2727273 | F68: #VALUE! | G68: D | I68: 1
B69: Tuula Sani | C69: 0:tu:os | D69: #VALUE! | E69: 1.4772727 | F69: #VALUE! | G69: D | I69: 1
A71: 2. | B71: Jarkko Huovila | C71: 0:11:07 | D71: 0.002999187 | E71: 1.0681818 | F71: 0.0028077496 | G71: H | H71: 1 | I71: 50
A72: 6. | B72: Mikko Sani | C72: 0:15:04 | D72: 0.0041718353 | E72: 1.4545455 | F72: 0.0028681368 | G72: H | H72: 2 | I72: 46
A73: 1. | B73: Severi Kymäläinen | C73: 0:10:46 | D73: 0.0029047598 | E73: 1 | F73: 0.0029047598 | G73: H | H73: 3 | I73: 43
A74: 3. | B74: Vili Mustonen | C74: 0:11:59 | D74: 0.0032330067 | E74: 1.0909091 | F74: 0.0029635895 | G74: H | H74: 4 | I74: 40
A75: 4. | B75: Pyry Mustonen | C75: 0:12:14 | D75: 0.0033004547 | E75: 1.0909091 | F75: 0.0030254168 | G75: H | H75: 5 | I75: 37
A76: 2. | B76: Mikko Eerola | C76: 0:14:06 | D76: 0.0037966912 | E76: 1.2272727 | F76: 0.0030936003 | G76: H | H76: 6 | I76: 34
A77: 6. | B77: Jaakko Skog | C77: 0:12:43 | D77: 0.0034308541 | E77: 1.0909091 | F77: 0.0031449496 | G77: H | H77: 7 | I77: 32
A78: 2. | B78: Raino Pesu | C78: 0:13:10 | D78: 0.003645741 | E78: 1.1136364 | F78: 0.0032737266 | G78: H | H78: 8 | I78: 30
A79: 11. | B79: Keijo Viilo | C79: 0:16:17 | D79: 0.004393112 | E79: 1.3409091 | F79: 0.0032762191 | G79: H | H79: 8 | I79: 28
A80: 4. | B80: Sakari Koivuniemi | C80: 0:14:38 | D80: 0.0040261636 | E80: 1.2272727 | F80: 0.0032805778 | G80: H | H80: 8 | I80: 26
A81: 4. | B81: Ossi Mustonen | C81: 0:14:34 | D81: 0.0040333895 | E81: 1.2272727 | F81: 0.0032864655 | G81: H | H81: 11 | I81: 24
A82: 6. | B82: Pekka Kannus | C82: 0:16:05 | D82: 0.0044251115 | E82: 1.3409091 | F82: 0.0033000832 | G82: H | H82: 12 | I82: 22
... A101: 16. | B101: Eemil Koskinen | C101: 0:17:23 | D101: 0.0047827889 | E101: 1.3181818 | F101: 0.0036283226 | G101: H | H101: 30 | I101: 1
A102: 8. | B102: Asko Hämäläinen | C102: 0:13:31 | D102: 0.0036466877 | E102: 1 | F102: 0.0036466877 | G102: H | I102: 1
A103: 10. | B103: Ville Laakso | C103: 0:15:30 | D103: 0.004181775 | E103: 1.1363636 | F103: 0.003679962 | G103: H | I103: 1
A104: 7. | B104: Teemu Oksanen | C104: 0:16:26 | D104: 0.0045214093 | E104: 1.2272727 | F104: 0.0036841113 | G104: H | I104: 1
A105: 7. | B105: Kimmo Kontio | C105: 0:16:34 | D105: 0.0046000118 | E105: 1.2272727 | F105: 0.0037481578 | G105: H | I105: 1
A106: 10. | B106: Sami Mustajoki | C106: 0:15:50 | D106: 0.004384119 | E106: 1.1590909 | F106: 0.0037823771 | G106: H | I106: 1
A107: 3. | B107: Heikki Lindberg | C107: 0:14:19 | D107: 0.0038550328 | E107: 1 | F107: 0.0038550328 | G107: H | I107: 1
A108: 13. | B108: Tiitus Mustajoki | C108: 0:17:36 | D108: 0.0047483381 | E108: 1.2272727 | F108: 0.0038690162 | G108: H | I108: 1
A109: 6. | B109: Vesa Ruuska | C109: 0:16:07 | D109: 0.0043397168 | E109: 1.1136364 | F109: 0.0038968886 | G109: H | I109: 1
A110: 9. | B110: Janne Konttila | C110: 0:15:45 | D110: 0.0043610447 | E110: 1.1136364 | F110: 0.0039160401 | G110: H | I110: 1
A111: 18. | B111: Jukka Kallio | C111: 0:17:51 | D111: 0.0049111859 | E111: 1.25 | F111: 0.0039289488 | G111: H | I111: 1
A112: 10. | B112: Leevi Keronen | C112: 0:17:31 | D112: 0.0048637952 | E112: 1.2272727 | F112: 0.0039630924 | G112: H | I112: 1
A113: 11. | B113: Jyri Jyrkkäranta | C113: 0:16:44 | D113: 0.0046039502 | E113: 1.1590909 | F113: 0.0039720355 | G113: H | I113: 1
... A166: 38. | B166: Eetu Lehtovirta | C166: 0:58:18 | D166: 0.016187969 | E166: 1.6363636 | F166: 0.0098926479 | G166: H | I166: 1
A167: 25. | B167: Kaarlo Kallio | C167: 0.042789352 | D167: 0.01662368 | E167: 1.6363636 | F167: 0.010158915 | G167: H | I167: 1
B168: Akseli Konttila | C168: 0:Ei: | D168: #VALUE! | E168: 1.3181818 | F168: #VALUE! | G168: H | I168: 1
B169: Aleksi Hiidenhovi | C169: 0:Ei: | D169: #VALUE! | E169: 1.1363636 | F169: #VALUE! | G169: H | I169: 1
B170: Anton Kuukka | C170: 0:Ei: | D170: #VALUE! | E170: 1.0909091 | F170: #VALUE! | G170: H | I170: 1
B171: Arttu Vesterinen | C171: 0:Ei: | D171: #VALUE! | E171: 1.1363636 | F171: #VALUE! | G171: H | I171: 1
B172: Erkki Ylikoski | C172: 0:Ei: | D172: #VALUE! | E172: 1.4545455 | F172: #VALUE! | G172: H | I172: 1
B173: Jaakko Takala | C173: 0:tu:os | D173: #VALUE! | E173: 1.2272727 | F173: #VALUE! | G173: H | I173: 1
B174: Jyri Sistonen | C174: 0:tu:os | D174: #VALUE! | E174: 1.25 | F174: #VALUE! | G174: H | I174: 1
B175: Pentti Koivisto | C175: 0:tu:os | D175: #VALUE! | E175: 1.6590909 | F175: #VALUE! | G175: H | I175: 1
B176: Timo Äijälä | C176: 0:tu:os | D176: #VALUE! | E176: 1.1590909 | F176: #VALUE! | G176: H | I176: 1

Sheet Kisa  4
K1: min/km | L1: Hae ikätasoitus | M1: Tasoitettu tulos | N1: Hae vastaava nimi | O1: Hae sukupuoli | P1: Sija | Q1: Pisteet
A2: 3.465 | B2: 12 | C2: Lotta | D2: Eerola | E2: 0.013217593 | F2: +03.22 | J2: Lotta Eerola | K2: 0.003814601 | L2: 1.3409091 | M2: 0.0028447872 | N2: Lotta Eerola | O2: D | P2: 1 | Q2: 50
A3: 2.94 | B3: 1 | C3: Sari | D3: Saarijärvi | E3: 0.011041667 | J3: Sari Saarijärvi | K3: 0.0037556689 | L3: 1.3181818 | M3: 0.0028491282 | N3: Sari Saarijärvi | O3: D | P3: 1 | Q3: 46
A4: 3.538 | B4: 20 | C4: Hilkka | D4: Lankia | E4: 0.0178125 | F4: +08.59 | J4: Hilkka Lankia | K4: 0.0050346241 | L4: 1.7272727 | M4: 0.0029147824 | N4: Hilkka Lankia | O4: D | P4: 3 | Q4: 43
A5: 3.597 | B5: 14 | C5: Hanna-Maija | D5: Koski | E5: 0.013125 | F5: +03.30 | J5: Hanna-Maija Koski | K5: 0.0036488741 | L5: 1.2272727 | M5: 0.0029731566 | N5: Hanna-Maija Koski | O5: D | P5: 4 | Q5: 40
A6: 3.465 | B6: 13 | C6: Anni | D6: Haanpää | E6: 0.013229167 | F6: +03.23 | J6: Anni Haanpää | K6: 0.0038179413 | L6: 1.2727273 | M6: 0.002999811 | N6: Anni Haanpää | O6: D | P6: 5 | Q6: 37
A7: 3.538 | B7: 9 | C7: Jaana | D7: Pietilä | E7: 0.014166667 | F7: +03.44 | J7: Jaana Pietilä | K7: 0.0040041455 | L7: 1.3181818 | M7: 0.0030376276 | N7: Jaana Pietilä | O7: D | P7: 6 | Q7: 34
A8: 3.465 | B8: 20 | C8: Kaisa | D8: Haanpää | E8: 0.014155093 | F8: +04.43 | J8: Kaisa Haanpää | K8: 0.0040851638 | L8: 1.3409091 | M8: 0.0030465628 | N8: Kaisa Haanpää | O8: D | P8: 7 | Q8: 32
A9: 2.94 | B9: 7 | C9: Tuula | D9: Sani | E9: 0.013287037 | F9: +03.14 | J9: Tuula Sani | K9: 0.0045194004 | L9: 1.4772727 | M9: 0.0030592864 | N9: Tuula Sani | O9: D | P9: 8 | Q9: 30
A10: 3.538 | B10: 8 | C10: Elo | D10: Saue | E10: 0.014085648 | F10: +03.37 | J10: Elo Saue | K10: 0.0039812459 | L10: 1.2727273 | M10: 0.0031281218 | N10: Elo Saue | O10: D | P10: 9 | Q10: 28
A11: 3.538 | B11: 10 | C11: Reea | D11: Simola | E11: 0.014270833 | F11: +03.53 | J11: Reea Simola | K11: 0.0040335877 | L11: 1.2727273 | M11: 0.0031692475 | N11: Reea Simola | O11: D | P11: 10 | Q11: 26
A12: 3.465 | B12: 14 | C12: Sanni | D12: Kymäläinen | E12: 0.013229167 | F12: +03.23 | J12: Sanni Kymäläinen | K12: 0.0038179413 | L12: 1.2045455 | M12: 0.0031696117 | N12: Sanni Kymäläinen | O12: D | P12: 10 | Q12: 24
A13: 3.597 | B13: 22 | C13: Ella | D13: Skog | E13: 0.014606481 | F13: +05.38 | J13: Ella Skog | K13: 0.0040607399 | L13: 1.2727273 | M13: 0.0031905814 | N13: Ella Skog | O13: D | P13: 12 | Q13: 22
A14: 3.465 | B14: 22 | C14: Salla | D14: Pitkänen | E14: 0.014178241 | F14: +04.45 | J14: Salla Pitkänen | K14: 0.0040918444 | L14: 1.2727273 | M14: 0.0032150206 | N14: Salla Pitkänen | O14: D | P14: 13 | Q14: 20
A15: 3.597 | B15: 28 | C15: Rosa | D15: Simola | E15: 0.01568287 | F15: +07.11 | J15: Rosa Simola | K15: 0.0043599862 | L15: 1.3409091 | M15: 0.0032515151 | N15: Rosa Simola | O15: D | P15: 14 | Q15: 18
... A31: 3.465 | B31: 31 | C31: Minna | D31: Konttila | E31: 0.016122685 | F31: +07.33 | J31: Minna Konttila | K31: 0.0046530116 | L31: 1.2727273 | M31: 0.0036559377 | N31: Minna Konttila | O31: D | P31: 30 | Q31: 1
A32: 2.765 | B32: 5 | C32: Sanna | D32: Matinheikki | E32: 0.012997685 | F32: +02.26 | J32: Sanna Matinheikki | K32: 0.0047007903 | L32: 1.2727273 | M32: 0.0036934781 | N32: Sanna Matinheikki | O32: D | Q32: 1
A33: 3.538 | B33: 29 | C33: Liisa | D33: Kohijoki | E33: 0.022824074 | F33: +16.12 | J33: Liisa Kohijoki | K33: 0.0064511233 | L33: 1.7272727 | M33: 0.0037348608 | N33: Liisa Kohijoki | O33: D | Q33: 1
A34: 2.765 | B34: 3 | C34: Vuokko | D34: Jurvakainen | E34: 0.011724537 | F34: 36 | J34: Vuokko Jurvakainen | K34: 0.0042403389 | L34: 1.1136364 | M34: 0.0038076513 | N34: Vuokko Jurvakainen | O34: D | Q34: 1
A35: 3.465 | B35: 38 | C35: Idaliina | D35: Kuusisto | E35: 0.017905093 | F35: +10.07 | J35: Idaliina Kuusisto | K35: 0.0051674149 | L35: 1.3409091 | M35: 0.0038536653 | N35: Idaliina Kuusisto | O35: D | Q35: 1
A36: 2.94 | B36: 16 | C36: Marita | D36: Kymäläinen | E36: 0.015798611 | F36: +06.51 | J36: Marita Kymäläinen | K36: 0.0053736772 | L36: 1.3863636 | M36: 0.0038760951 | N36: Marita Kymäläinen | O36: D | Q36: 1
A37: 3.465 | B37: 35 | C37: Jenni | D37: Kivikko | E37: 0.017164352 | F37: +09.03 | J37: Jenni Kivikko | K37: 0.0049536369 | L37: 1.2727273 | M37: 0.0038921433 | N37: Jenni Kivikko | O37: D | Q37: 1
A38: 3.465 | B38: 26 | C38: Suvi | D38: Harju | E38: 0.015069444 | F38: +06.02 | J38: Suvi Harju | K38: 0.004349046 | L38: 1.1136364 | M38: 0.0039052658 | N38: Suvi Harju | O38: D | Q38: 1
A39: 3.465 | B39: 34 | C39: Hilla | D39: Toivanen | E39: 0.01693287 | F39: +08.43 | J39: Hilla Toivanen | K39: 0.0048868313 | L39: 1.25 | M39: 0.003909465 | N39: Hilla Toivanen | O39: D | Q39: 1
A40: 2.94 | B40: 15 | C40: Kristiina | D40: Oksanen | E40: 0.015752315 | F40: +06.47 | J40: Kristiina Oksanen | K40: 0.0053579302 | L40: 1.3181818 | M40: 0.0040646367 | N40: Kristiina Oksanen | O40: D | Q40: 1
A41: 2.765 | B41: 14 | C41: Merja | D41: Toivonen | E41: 0.015775463 | F41: +06.26 | J41: Merja Toivonen | K41: 0.0057054116 | L41: 1.3863636 | M41: 0.0041153788 | N41: Merja Toivonen | O41: D | Q41: 1
A42: 2.765 | B42: 22 | C42: Kira | D42: Holmala | E42: 0.018923611 | F42: +10.58 | J42: Kira Holmala | K42: 0.0068439823 | L42: 1.6590909 | M42: 0.00412514 | N42: Kira Holmala | O42: D | Q42: 1
A43: 3.465 | B43: 36 | C43: Minttu | D43: Toivanen | E43: 0.017222222 | F43: +09.08 | J43: Minttu Toivanen | K43: 0.0049703383 | L43: 1.2045455 | M43: 0.0041263186 | N43: Minttu Toivanen | O43: D | Q43: 1
A44: 2.94 | B44: 8 | C44: Mari | D44: Schutskoff | E44: 0.013576389 | F44: +03.39 | J44: Mari Schutskoff | K44: 0.0046178193 | L44: 1.1136364 | M44: 0.0041466133 | N44: Mari Schutskoff | O44: D | Q44: 1
A45: 3.538 | B45: 25 | C45: Vilma | D45: Pesu | E45: 0.020821759 | F45: +13.19 | J45: Vilma Pesu | K45: 0.0058851779 | L45: 1.4090909 | M45: 0.0041765778 | N45: Vilma Pesu | O45: D | Q45: 1
A46: 2.94 | B46: 19 | C46: Marika | D46: Aronen-Ketola | E46: 0.016469907 | F46: +07.49 | J46: Marika Aronen-Ketola | K46: 0.0056020093 | L46: 1.3181818 | M46: 0.0042498002 | N46: Marika Aronen-Ketola | O46: D | Q46: 1
... A67: 2.765 | B67: 27 | C67: Tuuli-Maija | D67: Stenman | E67: 0.024444444 | F67: +18.55 | J67: Tuuli-Maija Stenman | K67: 0.0088406671 | L67: 1.2727273 | M67: 0.0069462384 | N67: Tuuli-Maija Stenman | O67: D | Q67: 1
A68: 3.538 | C68: Aurora | D68: Tuominen | E68: Ei tulosta | J68: Aurora Tuominen | K68: #VALUE! | L68: 1.6590909 | M68: #VALUE! | N68: Aurora Tuominen | O68: D | Q68: 1
A69: 3.465 | C69: Ella | D69: Filppula | E69: Ei tulosta | J69: Ella Filppula | K69: #VALUE! | L69: 1.4090909 | M69: #VALUE! | N69: Ella Filppula | O69: D | Q69: 1
A70: 2.94 | C70: Katriina | D70: Nummela | E70: Ei tulosta | J70: Katriina Nummela | K70: #VALUE! | L70: 1.2272727 | M70: #VALUE! | N70: Katriina Nummela | O70: D | Q70: 1
A71: 3.465 | C71: Sara | D71: Kurth | E71: Ei tulosta | J71: Sara Kurth | K71: #VALUE! | L71: 1.3409091 | M71: #VALUE! | N71: Sara Kurth | O71: D | Q71: 1
A72: 3.538 | C72: Sirpa | D72: Papinsaari | E72: Ei tulosta | J72: Sirpa Papinsaari | K72: #VALUE! | L72: 1.4772727 | M72: #VALUE! | N72: Sirpa Papinsaari | O72: D | Q72: 1
A73: 2.94 | B73: 3 | C73: Mikko | D73: Sani | E73: 0.011655093 | F73: 53 | J73: Mikko Sani | K73: 0.0039643172 | L73: 1.4545455 | M73: 0.0027254681 | N73: Mikko Sani | O73: H | P73: 1 | Q73: 50
A74: 3.597 | B74: 1 | C74: Jarkko | D74: Huovila | E74: 0.010694444 | J74: Jarkko Huovila | K74: 0.0029731566 | L74: 1.0681818 | M74: 0.0027833807 | N74: Jarkko Huovila | O74: H | P74: 2 | Q74: 46
A75: 3.597 | B75: 4 | C75: Vili | D75: Mustonen | E75: 0.011041667 | F75: 30 | J75: Vili Mustonen | K75: 0.0030696877 | L75: 1.0909091 | M75: 0.0028138804 | N75: Vili Mustonen | O75: H | P75: 3 | Q75: 43
A76: 3.597 | B76: 5 | C76: Jaakko | D76: Skog | E76: 0.011087963 | F76: 34 | J76: Jaakko Skog | K76: 0.0030825585 | L76: 1.0909091 | M76: 0.0028256786 | N76: Jaakko Skog | O76: H | P76: 4 | Q76: 40
A77: 3.597 | B77: 6 | C77: Anton | D77: Kuukka | E77: 0.011180556 | F77: 42 | J77: Anton Kuukka | K77: 0.0031083001 | L77: 1.0909091 | M77: 0.0028492751 | N77: Anton Kuukka | O77: H | P77: 5 | Q77: 37
A78: 3.465 | B78: 3 | C78: Konsta | D78: Puranen | E78: 0.011226852 | F78: 30 | J78: Konsta Puranen | K78: 0.0032400727 | L78: 1.1363636 | M78: 0.002851264 | N78: Konsta Puranen | O78: H | P78: 5 | Q78: 37
A79: 3.465 | B79: 5 | C79: Arttu | D79: Vesterinen | E79: 0.011388889 | F79: 44 | J79: Arttu Vesterinen | K79: 0.0032868366 | L79: 1.1363636 | M79: 0.0028924162 | N79: Arttu Vesterinen | O79: H | P79: 7 | Q79: 32
A80: 2.94 | B80: 2 | C80: Pekka | D80: Kannus | E80: 0.011423611 | F80: 33 | J80: Pekka Kannus | K80: 0.003885582 | L80: 1.3409091 | M80: 0.0028977222 | N80: Pekka Kannus | O80: H | P80: 7 | Q80: 32
A81: 3.597 | B81: 11 | C81: Teemu | D81: Oksanen | E81: 0.012847222 | F81: +03.06 | J81: Teemu Oksanen | K81: 0.0035716492 | L81: 1.2272727 | M81: 0.0029102327 | N81: Teemu Oksanen | O81: H | P81: 9 | Q81: 28
A82: 3.465 | B82: 25 | C82: Ari | D82: Ovaska | E82: 0.014976852 | F82: +05.54 | J82: Ari Ovaska | K82: 0.0043223238 | L82: 1.4545455 | M82: 0.0029715976 | N82: Ari Ovaska | O82: H | P82: 10 | Q82: 26
A83: 3.597 | B83: 13 | C83: Kimmo | D83: Kontio | E83: 0.013125 | F83: +03.30 | J83: Kimmo Kontio | K83: 0.0036488741 | L83: 1.2272727 | M83: 0.0029731566 | N83: Kimmo Kontio | O83: H | P83: 10 | Q83: 26
A84: 3.465 | B84: 6 | C84: Konsta | D84: Pitkänen | E84: 0.011747685 | F84: +01.15 | J84: Konsta Pitkänen | K84: 0.0033903853 | L84: 1.1363636 | M84: 0.0029835391 | N84: Konsta Pitkänen | O84: H | P84: 12 | Q84: 22
A85: 3.465 | B85: 18 | C85: Tommi | D85: Granholm | E85: 0.014027778 | F85: +04.32 | J85: Tommi Granholm | K85: 0.0040484207 | L85: 1.3409091 | M85: 0.0030191612 | N85: Tommi Granholm | O85: H | P85: 13 | Q85: 20
A86: 3.465 | B86: 9 | C86: Mikko | D86: Eerola | E86: 0.01287037 | F86: +02.52 | J86: Mikko Eerola | K86: 0.0037143926 | L86: 1.2272727 | M86: 0.0030265421 | N86: Mikko Eerola | O86: H | P86: 13 | Q86: 19
A87: 3.597 | B87: 2 | C87: Perttu | D87: Sorsa | E87: 0.010960648 | F87: 23 | J87: Perttu Sorsa | K87: 0.0030471638 | L87: 1 | M87: 0.0030471638 | N87: Perttu Sorsa | O87: H | P87: 15 | Q87: 16
A88: 3.538 | B88: 1 | C88: Aki | D88: Koiranen | E88: 0.011574074 | J88: Aki Koiranen | K88: 0.0032713607 | L88: 1.0681818 | M88: 0.0030625504 | N88: Aki Koiranen | O88: H | P88: 16 | Q88: 15
A89: 3.538 | B89: 3 | C89: Antti | D89: Lammi | E89: 0.012326389 | F89: +01.05 | J89: Antti Lammi | K89: 0.0034839991 | L89: 1.1363636 | M89: 0.0030659192 | N89: Antti Lammi | O89: H | P89: 16 | Q89: 14
A90: 3.597 | B90: 3 | C90: Pekka | D90: Itävuo | E90: 0.011030093 | F90: 29 | J90: Pekka Itävuo | K90: 0.00306647 | L90: 1 | M90: 0.00306647 | N90: Pekka Itävuo | O90: H | P90: 16 | Q90: 13
A91: 3.465 | B91: 11 | C91: Lasse | D91: Viilo | E91: 0.013113426 | F91: +03.13 | J91: Lasse Viilo | K91: 0.0037845385 | L91: 1.2272727 | M91: 0.003083698 | N91: Lasse Viilo | O91: H | P91: 19 | Q91: 12
A92: 3.597 | B92: 12 | C92: Timo | D92: Koski | E92: 0.01287037 | F92: +03.08 | J92: Timo Koski | K92: 0.0035780846 | L92: 1.1590909 | M92: 0.003086975 | N92: Timo Koski | O92: H | P92: 20 | Q92: 11
A93: 3.597 | B93: 9 | C93: Petteri | D93: Lauronen | E93: 0.01244213 | F93: +02.31 | J93: Petteri Lauronen | K93: 0.0034590296 | L93: 1.1136364 | M93: 0.0031060674 | N93: Petteri Lauronen | O93: H | P93: 21 | Q93: 10
A94: 3.597 | B94: 7 | C94: Panu | D94: Teittinen | E94: 0.01119213 | F94: 43 | J94: Panu Teittinen | K94: 0.0031115178 | L94: 1 | M94: 0.0031115178 | N94: Panu Teittinen | O94: H | P94: 22 | Q94: 9
A95: 3.597 | B95: 10 | C95: Ismo | D95: Raitanen | E95: 0.01255787 | F95: +02.41 | J95: Ismo Raitanen | K95: 0.0034912067 | L95: 1.1136364 | M95: 0.0031349611 | N95: Ismo Raitanen | O95: H | P95: 23 | Q95: 8
A96: 3.465 | B96: 8 | C96: Tuomo | D96: Haanpää | E96: 0.012604167 | F96: +02.29 | J96: Tuomo Haanpää | K96: 0.0036375661 | L96: 1.1590909 | M96: 0.0031382924 | N96: Tuomo Haanpää | O96: H | P96: 23 | Q96: 7
A97: 3.465 | B97: 1 | C97: Aleksi | D97: Tuovinen | E97: 0.01087963 | J97: Aleksi Tuovinen | K97: 0.0031398643 | L97: 1 | M97: 0.0031398643 | N97: Aleksi Tuovinen | O97: H | P97: 23 | Q97: 6
A98: 3.465 | B98: 2 | C98: Tuukka | D98: Jurvakainen | E98: 0.010949074 | F98: 6 | J98: Tuukka Jurvakainen | K98: 0.0031599059 | L98: 1 | M98: 0.0031599059 | N98: Tuukka Jurvakainen | O98: H | P98: 26 | Q98: 5
A99: 3.465 | B99: 15 | C99: Ossi | D99: Mustonen | E99: 0.013668981 | F99: +04.01 | J99: Ossi Mustonen | K99: 0.003944872 | L99: 1.2272727 | M99: 0.0032143401 | N99: Ossi Mustonen | O99: H | P99: 27 | Q99: 4
A100: 3.597 | B100: 27 | C100: Olli | D100: Mustajoki | E100: 0.015324074 | F100: +06.40 | J100: Olli Mustajoki | K100: 0.0042602374 | L100: 1.3181818 | M100: 0.0032319043 | N100: Olli Mustajoki | O100: H | P100: 28 | Q100: 3
A101: 3.465 | B101: 4 | C101: André | D101: Bruguière | E101: 0.011319444 | F101: 38 | J101: André Bruguière | K101: 0.0032667949 | L101: 1 | M101: 0.0032667949 | N101: André Bruguière | O101: H | P101: 29 | Q101: 2
A102: 3.538 | B102: 5 | C102: Jari | D102: Lepo | E102: 0.012916667 | F102: +01.56 | J102: Jari Lepo | K102: 0.0036508385 | L102: 1.1136364 | M102: 0.003278304 | N102: Jari Lepo | O102: H | P102: 30 | Q102: 1
A103: 3.597 | B103: 15 | C103: Jarno | D103: Riikonen | E103: 0.013136574 | F103: +03.31 | J103: Jarno Riikonen | K103: 0.0036520918 | L103: 1.1136364 | M103: 0.0032794293 | N103: Jarno Riikonen | O103: H | Q103: 1
A104: 3.538 | B104: 6 | C104: Pekka | D104: Myllykoski | E104: 0.012962963 | F104: +02.00 | J104: Pekka Myllykoski | K104: 0.003663924 | L104: 1.1136364 | M104: 0.0032900542 | N104: Pekka Myllykoski | O104: H | Q104: 1
A105: 3.538 | B105: 2 | C105: Asko | D105: Hämäläinen | E105: 0.011712963 | F105: 12 | J105: Asko Hämäläinen | K105: 0.003310617 | L105: 1 | M105: 0.003310617 | N105: Asko Hämäläinen | O105: H | Q105: 1
A106: 3.465 | B106: 19 | C106: Leo | D106: Matinheikki | E106: 0.014085648 | F106: +04.37 | J106: Leo Matinheikki | K106: 0.0040651221 | L106: 1.2272727 | M106: 0.0033123217 | N106: Leo Matinheikki | O106: H | Q106: 1
A107: 3.465 | B107: 10 | C107: Ville | D107: Laakso | E107: 0.013090278 | F107: +03.11 | J107: Ville Laakso | K107: 0.0037778579 | L107: 1.1363636 | M107: 0.003324515 | N107: Ville Laakso | O107: H | Q107: 1
A108: 2.765 | B108: 4 | C108: Kari | D108: Papinsaari | E108: 0.012430556 | F108: +01.37 | J108: Kari Papinsaari | K108: 0.0044956801 | L108: 1.3409091 | M108: 0.0033527106 | N108: Kari Papinsaari | O108: H | Q108: 1
A109: 3.538 | B109: 7 | C109: Vesa | D109: Ruuska | E109: 0.013287037 | F109: +02.28 | J109: Vesa Ruuska | K109: 0.0037555221 | L109: 1.1136364 | M109: 0.0033723055 | N109: Vesa Ruuska | O109: H | Q109: 1
A110: 3.597 | B110: 17 | C110: Seppo | D110: Kuusisto | E110: 0.013738426 | F110: +04.23 | J110: Seppo Kuusisto | K110: 0.0038194123 | L110: 1.1136364 | M110: 0.0034296763 | N110: Seppo Kuusisto | O110: H | Q110: 1
A111: 3.465 | B111: 28 | C111: Eemil | D111: Koskinen | E111: 0.015694444 | F111: +06.56 | J111: Eemil Koskinen | K111: 0.0045294212 | L111: 1.3181818 | M111: 0.0034361126 | N111: Eemil Koskinen | O111: H | Q111: 1
A112: 3.597 | B112: 8 | C112: Petri | D112: Annila | E112: 0.012395833 | F112: +02.27 | J112: Petri Annila | K112: 0.0034461588 | L112: 1 | M112: 0.0034461588 | N112: Petri Annila | O112: H | Q112: 1
A113: 3.597 | B113: 21 | C113: Sami | D113: Mustajoki | E113: 0.014490741 | F113: +05.28 | J113: Sami Mustajoki | K113: 0.0040285629 | L113: 1.1590909 | M113: 0.0034756229 | N113: Sami Mustajoki | O113: H | Q113: 1
A114: 2.765 | B114: 13 | C114: Matti | D114: Haarajoki | E114: 0.015138889 | F114: +05.31 | J114: Matti Haarajoki | K114: 0.0054751859 | L114: 1.5681818 | M114: 0.0034914229 | N114: Matti Haarajoki | O114: H | Q114: 1
A115: 3.597 | B115: 16 | C115: Tuomas | D115: Hakkarainen | E115: 0.0134375 | F115: +03.57 | J115: Tuomas Hakkarainen | K115: 0.003735752 | L115: 1.0681818 | M115: 0.0034972998 | N115: Tuomas Hakkarainen | O115: H | Q115: 1
A116: 3.597 | B116: 23 | C116: Jyri | D116: Jyrkkäranta | E116: 0.014664352 | F116: +05.43 | J116: Jyri Jyrkkäranta | K116: 0.0040768284 | L116: 1.1590909 | M116: 0.0035172637 | N116: Jyri Jyrkkäranta | O116: H | Q116: 1
A117: 2.765 | B117: 10 | C117: Aapo | D117: Mustajoki | E117: 0.014513889 | F117: +04.37 | J117: Aapo Mustajoki | K117: 0.0052491461 | L117: 1.4772727 | M117: 0.0035532681 | N117: Aapo Mustajoki | O117: H | Q117: 1
... A129: 2.765 | B129: 8 | C129: Esko | D129: Jalanto | E129: 0.01380787 | F129: +03.36 | J129: Esko Jalanto | K129: 0.0049938048 | L129: 1.3409091 | M129: 0.0037241934 | N129: Esko Jalanto | O129: H | Q129: 1
A130: 2.765 | B130: 1 | C130: Antti | D130: Kivikko | E130: 0.01130787 | H130: toinen kerta | J130: Antti Kivikko | K130: 0.0040896457 | L130: 1.0909091 | M130: 0.0037488419 | N130: Antti Kivikko | O130: H | Q130: 1
A131: 3.465 | B131: 21 | C131: Ossi | D131: Järvinen | E131: 0.014178241 | F131: +04.45 | J131: Ossi Järvinen | K131: 0.0040918444 | L131: 1.0909091 | M131: 0.0037508573 | N131: Ossi Järvinen | O131: H | Q131: 1
A132: 3.597 | B132: 35 | C132: Jasper | D132: Alajoutsi | E132: 0.0178125 | F132: +10.15 | J132: Jasper Alajoutsi | K132: 0.0049520434 | L132: 1.3181818 | M132: 0.0037567226 | N132: Jasper Alajoutsi | O132: H | Q132: 1
A133: 3.597 | B133: 32 | C133: Pekka | D133: Ala-Kokko | E133: 0.01712963 | F133: +09.16 | J133: Pekka Ala-Kokko | K133: 0.004762199 | L133: 1.25 | M133: 0.0038097592 | N133: Pekka Ala-Kokko | O133: H | Q133: 1
A134: 3.597 | B134: 18 | C134: Vesa | D134: Hyvärinen | E134: 0.013773148 | F134: +04.26 | J134: Vesa Hyvärinen | K134: 0.0038290654 | L134: 1 | M134: 0.0038290654 | N134: Vesa Hyvärinen | O134: H | Q134: 1
A135: 3.597 | B135: 19 | C135: Heikki | D135: Lindberg | E135: 0.013877315 | F135: +04.35 | J135: Heikki Lindberg | K135: 0.0038580247 | L135: 1 | M135: 0.0038580247 | N135: Heikki Lindberg | O135: H | Q135: 1
A136: 2.765 | B136: 2 | C136: Janne | D136: Tikkakoski | E136: 0.011666667 | F136: 31 | J136: Janne Tikkakoski | K136: 0.0042194093 | L136: 1.0681818 | M136: 0.0039500853 | N136: Janne Tikkakoski | O136: H | Q136: 1
A137: 2.94 | B137: 21 | C137: Nuutti | D137: Vennelä | E137: 0.017268519 | F137: +08.58 | J137: Nuutti Vennelä | K137: 0.0058736458 | L137: 1.4772727 | M137: 0.0039760064 | N137: Nuutti Vennelä | O137: H | Q137: 1
A138: 2.765 | B138: 9 | C138: Konsta | D138: Raitanen | E138: 0.014502315 | F138: +04.36 | J138: Konsta Raitanen | K138: 0.0052449602 | L138: 1.3181818 | M138: 0.0039789353 | N138: Konsta Raitanen | O138: H | Q138: 1
A139: 3.538 | B139: 16 | C139: Toni | D139: Venäläinen | E139: 0.01568287 | F139: +05.55 | J139: Toni Venäläinen | K139: 0.0044326937 | L139: 1.1136364 | M139: 0.003980378 | N139: Toni Venäläinen | O139: H | Q139: 1
A140: 2.94 | B140: 9 | C140: Petri | D140: Hirvonen | E140: 0.013599537 | F140: +03.41 | J140: Petri Hirvonen | K140: 0.0046256929 | L140: 1.1590909 | M140: 0.0039907938 | N140: Petri Hirvonen | O140: H | Q140: 1
A141: 3.465 | B141: 39 | C141: Lauri | D141: Isokallio | E141: 0.018263889 | F141: +10.38 | J141: Lauri Isokallio | K141: 0.0052709636 | L141: 1.3181818 | M141: 0.003998662 | N141: Lauri Isokallio | O141: H | Q141: 1
A142: 3.465 | B142: 24 | C142: Tuomas | D142: Väinä | E142: 0.014837963 | F142: +05.42 | J142: Tuomas Väinä | K142: 0.0042822404 | L142: 1.0681818 | M142: 0.0040089059 | N142: Tuomas Väinä | O142: H | Q142: 1
A143: 3.538 | B143: 28 | C143: Sakari | D143: Kohijoki | E143: 0.022523148 | F143: +15.46 | J143: Sakari Kohijoki | K143: 0.0063660679 | L143: 1.5681818 | M143: 0.0040595215 | N143: Sakari Kohijoki | O143: H | Q143: 1
A144: 2.765 | B144: 12 | C144: Heikki | D144: Takala | E144: 0.014849537 | F144: +05.06 | J144: Heikki Takala | K144: 0.0053705378 | L144: 1.3181818 | M144: 0.0040742011 | N144: Heikki Takala | O144: H | Q144: 1
A145: 2.94 | B145: 14 | C145: Jaakko | D145: Takala | E145: 0.014710648 | F145: +05.17 | J145: Jaakko Takala | K145: 0.0050036218 | L145: 1.2272727 | M145: 0.0040770252 | N145: Jaakko Takala | O145: H | Q145: 1
A146: 3.465 | B146: 23 | C146: Rami | D146: Koskinen | E146: 0.014201389 | F146: +04.47 | J146: Rami Koskinen | K146: 0.0040985249 | L146: 1 | M146: 0.0040985249 | N146: Rami Koskinen | O146: H | Q146: 1
...

Sheet yhteenveto laskenta
A1: Osakilpailu | B1: 26.12.2014 | F1: TASOITUS | G1: 1 | H1: 2 | I1: 3 | J1: 4 | K1: Kisojen määrä | L1: pisteet | M1: pisteet, kun 4 kisaa
A2: Aapo | B2: Liponkoski | C2: H | D2: 10 | E2: =(A2&" "&B2) -> Aapo Liponkoski | F2: 1.4772727 | G2: =VLOOKUP($E2,'Kisa 1'!$C$5:$J$151,8,0) -> #N/A | H2: =VLOOKUP(E2,'Kisa 2'!$C$5:$J$183,8,0) -> 1 | I2: =VLOOKUP(E2,'Kisa 3'!$B$3:$I$176,8,0) -> #N/A | J2: =VLOOKUP(E2,'Kisa 4'!$J$2:$Q$195,8,0) -> 1 | K2: =COUNT(G2:J2) -> 2 | L2: =SUMIF(G2:J2,"<>#PUUTTUU!") -> 2
A3: Aapo | B3: Mustajoki | C3: H | D3: 10 | E3: =(A3&" "&B3) -> Aapo Mustajoki | F3: 1.4772727 | G3: =VLOOKUP($E3,'Kisa 1'!$C$5:$J$151,8,0) -> #N/A | H3: =VLOOKUP(E3,'Kisa 2'!$C$5:$J$183,8,0) -> #N/A | I3: =VLOOKUP(E3,'Kisa 3'!$B$3:$I$176,8,0) -> #N/A | J3: =VLOOKUP(E3,'Kisa 4'!$J$2:$Q$195,8,0) -> 1 | K3: =COUNT(G3:J3) -> 1 | L3: =SUMIF(G3:J3,"<>#PUUTTUU!") -> 1
A4: Aki | B4: Koiranen | C4: H | D4: 35 | E4: =(A4&" "&B4) -> Aki Koiranen | F4: 1.0681818 | G4: =VLOOKUP($E4,'Kisa 1'!$C$5:$J$151,8,0) -> #N/A | H4: =VLOOKUP(E4,'Kisa 2'!$C$5:$J$183,8,0) -> #N/A | I4: =VLOOKUP(E4,'Kisa 3'!$B$3:$I$176,8,0) -> 1 | J4: =VLOOKUP(E4,'Kisa 4'!$J$2:$Q$195,8,0) -> 15 | K4: =COUNT(G4:J4) -> 2 | L4: =SUMIF(G4:J4,"<>#PUUTTUU!") -> 16
A5: Akseli | B5: Konttila | C5: H | D5: 12 | E5: =(A5&" "&B5) -> Akseli Konttila | F5: 1.3181818 | G5: =VLOOKUP($E5,'Kisa 1'!$C$5:$J$151,8,0) -> 50 | H5: =VLOOKUP(E5,'Kisa 2'!$C$5:$J$183,8,0) -> 28 | I5: =VLOOKUP(E5,'Kisa 3'!$B$3:$I$176,8,0) -> 1 | J5: =VLOOKUP(E5,'Kisa 4'!$J$2:$Q$195,8,0) -> #N/A | K5: =COUNT(G5:J5) -> 3 | L5: =SUMIF(G5:J5,"<>#PUUTTUU!") -> 79
A6: Akseli | B6: Pesu | C6: H | D6: 10 | E6: =(A6&" "&B6) -> Akseli Pesu | F6: 1.4772727 | G6: =VLOOKUP($E6,'Kisa 1'!$C$5:$J$151,8,0) -> #N/A | H6: =VLOOKUP(E6,'Kisa 2'!$C$5:$J$183,8,0) -> 1 | I6: =VLOOKUP(E6,'Kisa 3'!$B$3:$I$176,8,0) -> #N/A | J6: =VLOOKUP(E6,'Kisa 4'!$J$2:$Q$195,8,0) -> 1 | K6: =COUNT(G6:J6) -> 2 | L6: =SUMIF(G6:J6,"<>#PUUTTUU!") -> 2
A7: Aleksi | B7: Hiidenhovi | C7: H | D7: 16 | E7: =(A7&" "&B7) -> Aleksi Hiidenhovi | F7: 1.1363636 | G7: =VLOOKUP($E7,'Kisa 1'!$C$5:$J$151,8,0) -> #N/A | H7: =VLOOKUP(E7,'Kisa 2'!$C$5:$J$183,8,0) -> 43 | I7: =VLOOKUP(E7,'Kisa 3'!$B$3:$I$176,8,0) -> 1 | J7: =VLOOKUP(E7,'Kisa 4'!$J$2:$Q$195,8,0) -> #N/A | K7: =COUNT(G7:J7) -> 2 | L7: =SUMIF(G7:J7,"<>#PUUTTUU!") -> 44
A8: Aleksi | B8: Tuovinen | C8: H | D8: 21 | E8: =(A8&" "&B8) -> Aleksi Tuovinen | F8: 1 | G8: =VLOOKUP($E8,'Kisa 1'!$C$5:$J$151,8,0) -> #N/A | H8: =VLOOKUP(E8,'Kisa 2'!$C$5:$J$183,8,0) -> 10 | I8: =VLOOKUP(E8,'Kisa 3'!$B$3:$I$176,8,0) -> 9 | J8: =VLOOKUP(E8,'Kisa 4'!$J$2:$Q$195,8,0) -> 6 | K8: =COUNT(G8:J8) -> 3 | L8: =SUMIF(G8:J8,"<>#PUUTTUU!") -> 25
A9: Alexander | B9: Lukichev | C9: H | D9: 21 | E9: =(A9&" "&B9) -> Alexander Lukichev | F9: 1 | G9: =VLOOKUP($E9,'Kisa 1'!$C$5:$J$151,8,0) -> #N/A | H9: =VLOOKUP(E9,'Kisa 2'!$C$5:$J$183,8,0) -> #N/A | I9: =VLOOKUP(E9,'Kisa 3'!$B$3:$I$176,8,0) -> #N/A | J9: =VLOOKUP(E9,'Kisa 4'!$J$2:$Q$195,8,0) -> 1 | K9: =COUNT(G9:J9) -> 1 | L9: =SUMIF(G9:J9,"<>#PUUTTUU!") -> 1
A10: Alma | B10: Toivonen | C10: D | D10: 20 | E10: =(A10&" "&B10) -> Alma Toivonen | F10: 1.2045455 | G10: =VLOOKUP($E10,'Kisa 1'!$C$5:$J$151,8,0) -> #N/A | H10: =VLOOKUP(E10,'Kisa 2'!$C$5:$J$183,8,0) -> 22 | I10: =VLOOKUP(E10,'Kisa 3'!$B$3:$I$176,8,0) -> #N/A | J10: =VLOOKUP(E10,'Kisa 4'!$J$2:$Q$195,8,0) -> #N/A | K10: =COUNT(G10:J10) -> 1 | L10: =SUMIF(G10:J10,"<>#PUUTTUU!") -> 22
A11: André | B11: Bruguière | C11: H | D11: 21 | E11: =(A11&" "&B11) -> André Bruguière | F11: 1 | G11: =VLOOKUP($E11,'Kisa 1'!$C$5:$J$151,8,0) -> 1 | H11: =VLOOKUP(E11,'Kisa 2'!$C$5:$J$183,8,0) -> 1 | I11: =VLOOKUP(E11,'Kisa 3'!$B$3:$I$176,8,0) -> #N/A | J11: =VLOOKUP(E11,'Kisa 4'!$J$2:$Q$195,8,0) -> 2 | K11: =COUNT(G11:J11) -> 3 | L11: =SUMIF(G11:J11,"<>#PUUTTUU!") -> 4
A12: Anja | B12: Mäkelä | C12: D | D12: 50 | E12: =(A12&" "&B12) -> Anja Mäkelä | F12: 1.3863636 | G12: =VLOOKUP($E12,'Kisa 1'!$C$5:$J$151,8,0) -> 1 | H12: =VLOOKUP(E12,'Kisa 2'!$C$5:$J$183,8,0) -> 1 | I12: =VLOOKUP(E12,'Kisa 3'!$B$3:$I$176,8,0) -> #N/A | J12: =VLOOKUP(E12,'Kisa 4'!$J$2:$Q$195,8,0) -> #N/A | K12: =COUNT(G12:J12) -> 2 | L12: =SUMIF(G12:J12,"<>#PUUTTUU!") -> 2
A13: Anna | B13: Jussila | C13: D | D13: 21 | E13: =(A13&" "&B13) -> Anna Jussila | F13: 1.1136364 | G13: =VLOOKUP($E13,'Kisa 1'!$C$5:$J$151,8,0) -> #N/A | H13: =VLOOKUP(E13,'Kisa 2'!$C$5:$J$183,8,0) -> #N/A | I13: =VLOOKUP(E13,'Kisa 3'!$B$3:$I$176,8,0) -> #N/A | J13: =VLOOKUP(E13,'Kisa 4'!$J$2:$Q$195,8,0) -> #N/A | K13: =COUNT(G13:J13) -> 0 | L13: =SUMIF(G13:J13,"<>#PUUTTUU!") -> 0
... A21: Anni | B21: Tanskanen | C21: D | D21: 15 | E21: =(A21&" "&B21) -> Anni Tanskanen | F21: 1.2727273 | G21: =VLOOKUP($E21,'Kisa 1'!$C$5:$J$151,8,0) -> #N/A | H21: =VLOOKUP(E21,'Kisa 2'!$C$5:$J$183,8,0) -> #N/A | I21: =VLOOKUP(E21,'Kisa 3'!$B$3:$I$176,8,0) -> #N/A | J21: =VLOOKUP(E21,'Kisa 4'!$J$2:$Q$195,8,0) -> 6 | K21: =COUNT(G21:J21) -> 1 | L21: =SUMIF(G21:J21,"<>#PUUTTUU!") -> 6
A22: Anton | B22: Kuukka | C22: H | D22: 18 | E22: =(A22&" "&B22) -> Anton Kuukka | F22: 1.0909091 | G22: =VLOOKUP($E22,'Kisa 1'!$C$5:$J$151,8,0) -> 32 | H22: =VLOOKUP(E22,'Kisa 2'!$C$5:$J$183,8,0) -> 50 | I22: =VLOOKUP(E22,'Kisa 3'!$B$3:$I$176,8,0) -> 1 | J22: =VLOOKUP(E22,'Kisa 4'!$J$2:$Q$195,8,0) -> 37 | K22: =COUNT(G22:J22) -> 4 | L22: =SUMIF(G22:J22,"<>#PUUTTUU!") -> 120 | M22: =SUBTOTAL(9,G22,H22,J22) -> 119
A23: Anton | B23: Vehkalahti | C23: H | D23: 12 | E23: =(A23&" "&B23) -> Anton Vehkalahti | F23: 1.3181818 | G23: =VLOOKUP($E23,'Kisa 1'!$C$5:$J$151,8,0) -> #N/A | H23: =VLOOKUP(E23,'Kisa 2'!$C$5:$J$183,8,0) -> #N/A | I23: =VLOOKUP(E23,'Kisa 3'!$B$3:$I$176,8,0) -> 1 | J23: =VLOOKUP(E23,'Kisa 4'!$J$2:$Q$195,8,0) -> #N/A | K23: =COUNT(G23:J23) -> 1 | L23: =SUMIF(G23:J23,"<>#PUUTTUU!") -> 1
A24: Antti | B24: Kivikko | C24: H | D24: 17 | E24: =(A24&" "&B24) -> Antti Kivikko | F24: 1.0909091 | G24: =VLOOKUP($E24,'Kisa 1'!$C$5:$J$151,8,0) -> #N/A | H24: =VLOOKUP(E24,'Kisa 2'!$C$5:$J$183,8,0) -> #N/A | I24: =VLOOKUP(E24,'Kisa 3'!$B$3:$I$176,8,0) -> #N/A | J24: =VLOOKUP(E24,'Kisa 4'!$J$2:$Q$195,8,0) -> 1 | K24: =COUNT(G24:J24) -> 1 | L24: =SUMIF(G24:J24,"<>#PUUTTUU!") -> 1
A25: Antti | B25: Lammi | C25: H | D25: 16 | E25: =(A25&" "&B25) -> Antti Lammi | F25: 1.1363636 | G25: =VLOOKUP($E25,'Kisa 1'!$C$5:$J$151,8,0) -> 6 | H25: =VLOOKUP(E25,'Kisa 2'!$C$5:$J$183,8,0) -> 1 | I25: =VLOOKUP(E25,'Kisa 3'!$B$3:$I$176,8,0) -> 1 | J25: =VLOOKUP(E25,'Kisa 4'!$J$2:$Q$195,8,0) -> 14 | K25: =COUNT(G25:J25) -> 4 | L25: =SUMIF(G25:J25,"<>#PUUTTUU!") -> 22 | M25: =SUBTOTAL(9,G25,I25,J25) -> 21
A26: Antti | B26: Lepola | C26: H | D26: 50 | E26: =(A26&" "&B26) -> Antti Lepola | F26: 1.25 | G26: =VLOOKUP($E26,'Kisa 1'!$C$5:$J$151,8,0) -> 1 | H26: =VLOOKUP(E26,'Kisa 2'!$C$5:$J$183,8,0) -> 1 | I26: =VLOOKUP(E26,'Kisa 3'!$B$3:$I$176,8,0) -> 1 | J26: =VLOOKUP(E26,'Kisa 4'!$J$2:$Q$195,8,0) -> #N/A | K26: =COUNT(G26:J26) -> 3 | L26: =SUMIF(G26:J26,"<>#PUUTTUU!") -> 3
A27: Antti | B27: Rissanen | C27: H | D27: 14 | E27: =(A27&" "&B27) -> Antti Rissanen | F27: 1.2272727 | G27: =VLOOKUP($E27,'Kisa 1'!$C$5:$J$151,8,0) -> 1 | H27: =VLOOKUP(E27,'Kisa 2'!$C$5:$J$183,8,0) -> #N/A | I27: =VLOOKUP(E27,'Kisa 3'!$B$3:$I$176,8,0) -> #N/A | J27: =VLOOKUP(E27,'Kisa 4'!$J$2:$Q$195,8,0) -> #N/A | K27: =COUNT(G27:J27) -> 1 | L27: =SUMIF(G27:J27,"<>#PUUTTUU!") -> 1
A28: Antti | B28: Vähätalo | C28: H | D28: 50 | E28: =(A28&" "&B28) -> Antti Vähätalo | F28: 1.25 | G28: =VLOOKUP($E28,'Kisa 1'!$C$5:$J$151,8,0) -> #N/A | H28: =VLOOKUP(E28,'Kisa 2'!$C$5:$J$183,8,0) -> #N/A | I28: =VLOOKUP(E28,'Kisa 3'!$B$3:$I$176,8,0) -> 13 | J28: =VLOOKUP(E28,'Kisa 4'!$J$2:$Q$195,8,0) -> 1 | K28: =COUNT(G28:J28) -> 2 | L28: =SUMIF(G28:J28,"<>#PUUTTUU!") -> 14
A29: Antti-Jussi | B29: Oksa | C29: H | D29: 14 | E29: =(A29&" "&B29) -> Antti-Jussi Oksa | F29: 1.2272727 | G29: =VLOOKUP($E29,'Kisa 1'!$C$5:$J$151,8,0) -> 1 | H29: =VLOOKUP(E29,'Kisa 2'!$C$5:$J$183,8,0) -> #N/A | I29: =VLOOKUP(E29,'Kisa 3'!$B$3:$I$176,8,0) -> #N/A | J29: =VLOOKUP(E29,'Kisa 4'!$J$2:$Q$195,8,0) -> #N/A | K29: =COUNT(G29:J29) -> 1 | L29: =SUMIF(G29:J29,"<>#PUUTTUU!") -> 1
A30: Ari | B30: Ovaska | C30: H | D30: 60 | E30: =(A30&" "&B30) -> Ari Ovaska | F30: 1.4545455 | G30: =VLOOKUP($E30,'Kisa 1'!$C$5:$J$151,8,0) -> #N/A | H30: =VLOOKUP(E30,'Kisa 2'!$C$5:$J$183,8,0) -> 6 | I30: =VLOOKUP(E30,'Kisa 3'!$B$3:$I$176,8,0) -> 1 | J30: =VLOOKUP(E30,'Kisa 4'!$J$2:$Q$195,8,0) -> 26 | K30: =COUNT(G30:J30) -> 3 | L30: =SUMIF(G30:J30,"<>#PUUTTUU!") -> 33
A31: Ari | B31: Tanskanen | C31: H | D31: 45 | E31: =(A31&" "&B31) -> Ari Tanskanen | F31: 1.1590909 | G31: =VLOOKUP($E31,'Kisa 1'!$C$5:$J$151,8,0) -> #N/A | H31: =VLOOKUP(E31,'Kisa 2'!$C$5:$J$183,8,0) -> #N/A | I31: =VLOOKUP(E31,'Kisa 3'!$B$3:$I$176,8,0) -> #N/A | J31: =VLOOKUP(E31,'Kisa 4'!$J$2:$Q$195,8,0) -> 1 | K31: =COUNT(G31:J31) -> 1 | L31: =SUMIF(G31:J31,"<>#PUUTTUU!") -> 1
A32: Arto | B32: Hokkanen | C32: H | D32: 45 | E32: =(A32&" "&B32) -> Arto Hokkanen | F32: 1.1590909 | G32: =VLOOKUP($E32,'Kisa 1'!$C$5:$J$151,8,0) -> #N/A | H32: =VLOOKUP(E32,'Kisa 2'!$C$5:$J$183,8,0) -> #N/A | I32: =VLOOKUP(E32,'Kisa 3'!$B$3:$I$176,8,0) -> 1 | J32: =VLOOKUP(E32,'Kisa 4'!$J$2:$Q$195,8,0) -> 1 | K32: =COUNT(G32:J32) -> 2 | L32: =SUMIF(G32:J32,"<>#PUUTTUU!") -> 2
A33: Arttu | B33: Pitkänen | C33: H | D33: 14 | E33: =(A33&" "&B33) -> Arttu Pitkänen | F33: 1.2272727 | G33: =VLOOKUP($E33,'Kisa 1'!$C$5:$J$151,8,0) -> #N/A | H33: =VLOOKUP(E33,'Kisa 2'!$C$5:$J$183,8,0) -> 1 | I33: =VLOOKUP(E33,'Kisa 3'!$B$3:$I$176,8,0) -> #N/A | J33: =VLOOKUP(E33,'Kisa 4'!$J$2:$Q$195,8,0) -> #N/A | K33: =COUNT(G33:J33) -> 1 | L33: =SUMIF(G33:J33,"<>#PUUTTUU!") -> 1
A34: Arttu | B34: Vesterinen | C34: H | D34: 16 | E34: =(A34&" "&B34) -> Arttu Vesterinen | F34: 1.1363636 | G34: =VLOOKUP($E34,'Kisa 1'!$C$5:$J$151,8,0) -> 40 | H34: =VLOOKUP(E34,'Kisa 2'!$C$5:$J$183,8,0) -> 30 | I34: =VLOOKUP(E34,'Kisa 3'!$B$3:$I$176,8,0) -> 1 | J34: =VLOOKUP(E34,'Kisa 4'!$J$2:$Q$195,8,0) -> 32 | K34: =COUNT(G34:J34) -> 4 | L34: =SUMIF(G34:J34,"<>#PUUTTUU!") -> 103 | M34: =SUBTOTAL(9,G34,H34,J34) -> 102
A35: Asko | B35: Hämäläinen | C35: H | D35: 21 | E35: =(A35&" "&B35) -> Asko Hämäläinen | F35: 1 | G35: =VLOOKUP($E35,'Kisa 1'!$C$5:$J$151,8,0) -> #N/A | H35: =VLOOKUP(E35,'Kisa 2'!$C$5:$J$183,8,0) -> #N/A | I35: =VLOOKUP(E35,'Kisa 3'!$B$3:$I$176,8,0) -> 1 | J35: =VLOOKUP(E35,'Kisa 4'!$J$2:$Q$195,8,0) -> 1 | K35: =COUNT(G35:J35) -> 2 | L35: =SUMIF(G35:J35,"<>#PUUTTUU!") -> 2
A36: Aurora | B36: Tuominen | C36: D | D36: 8 | E36: =(A36&" "&B36) -> Aurora Tuominen | F36: 1.6590909 | G36: =VLOOKUP($E36,'Kisa 1'!$C$5:$J$151,8,0) -> #N/A | H36: =VLOOKUP(E36,'Kisa 2'!$C$5:$J$183,8,0) -> #N/A | I36: =VLOOKUP(E36,'Kisa 3'!$B$3:$I$176,8,0) -> #N/A | J36: =VLOOKUP(E36,'Kisa 4'!$J$2:$Q$195,8,0) -> 1 | K36: =COUNT(G36:J36) -> 1 | L36: =SUMIF(G36:J36,"<>#PUUTTUU!") -> 1
A37: Eelis | B37: Paju | C37: H | D37: 6 | E37: =(A37&" "&B37) -> Eelis Paju | F37: 1.8409091 | G37: =VLOOKUP($E37,'Kisa 1'!$C$5:$J$151,8,0) -> #N/A | H37: =VLOOKUP(E37,'Kisa 2'!$C$5:$J$183,8,0) -> #N/A | I37: =VLOOKUP(E37,'Kisa 3'!$B$3:$I$176,8,0) -> #N/A | J37: =VLOOKUP(E37,'Kisa 4'!$J$2:$Q$195,8,0) -> 1 | K37: =COUNT(G37:J37) -> 1 | L37: =SUMIF(G37:J37,"<>#PUUTTUU!") -> 1
A38: Eemeli | B38: Laakso | C38: H | D38: 16 | E38: =(A38&" "&B38) -> Eemeli Laakso | F38: 1.1363636 | G38: =VLOOKUP($E38,'Kisa 1'!$C$5:$J$151,8,0) -> #N/A | H38: =VLOOKUP(E38,'Kisa 2'!$C$5:$J$183,8,0) -> 1 | I38: =VLOOKUP(E38,'Kisa 3'!$B$3:$I$176,8,0) -> #N/A | J38: =VLOOKUP(E38,'Kisa 4'!$J$2:$Q$195,8,0) -> #N/A | K38: =COUNT(G38:J38) -> 1 | L38: =SUMIF(G38:J38,"<>#PUUTTUU!") -> 1
A39: Eemil | B39: Koskinen | C39: H | D39: 12 | E39: =(A39&" "&B39) -> Eemil Koskinen | F39: 1.3181818 | G39: =VLOOKUP($E39,'Kisa 1'!$C$5:$J$151,8,0) -> 1 | H39: =VLOOKUP(E39,'Kisa 2'!$C$5:$J$183,8,0) -> 1 | I39: =VLOOKUP(E39,'Kisa 3'!$B$3:$I$176,8,0) -> 1 | J39: =VLOOKUP(E39,'Kisa 4'!$J$2:$Q$195,8,0) -> 1 | K39: =COUNT(G39:J39) -> 4 | L39: =SUMIF(G39:J39,"<>#PUUTTUU!") -> 4 | M39: =SUBTOTAL(9,G39:I39) -> 3
A40: Eetu | B40: Lehtovirta | C40: H | D40: 8 | E40: =(A40&" "&B40) -> Eetu Lehtovirta | F40: 1.6363636 | G40: =VLOOKUP($E40,'Kisa 1'!$C$5:$J$151,8,0) -> #N/A | H40: =VLOOKUP(E40,'Kisa 2'!$C$5:$J$183,8,0) -> #N/A | I40: =VLOOKUP(E40,'Kisa 3'!$B$3:$I$176,8,0) -> 1 | J40: =VLOOKUP(E40,'Kisa 4'!$J$2:$Q$195,8,0) -> 1 | K40: =COUNT(G40:J40) -> 2 | L40: =SUMIF(G40:J40,"<>#PUUTTUU!") -> 2
A41: Eeva-Liisa | B41: Salonen | C41: D | D41: 40 | E41: =(A41&" "&B41) -> Eeva-Liisa Salonen | F41: 1.2727273 | G41: =VLOOKUP($E41,'Kisa 1'!$C$5:$J$151,8,0) -> #N/A | H41: =VLOOKUP(E41,'Kisa 2'!$C$5:$J$183,8,0) -> 1 | I41: =VLOOKUP(E41,'Kisa 3'!$B$3:$I$176,8,0) -> #N/A | J41: =VLOOKUP(E41,'Kisa 4'!$J$2:$Q$195,8,0) -> 1 | K41: =COUNT(G41:J41) -> 2 | L41: =SUMIF(G41:J41,"<>#PUUTTUU!") -> 2
A42: Eino | B42: Lehtiniemi | C42: H | D42: 12 | E42: =(A42&" "&B42) -> Eino Lehtiniemi | F42: 1.3181818 | G42: =VLOOKUP($E42,'Kisa 1'!$C$5:$J$151,8,0) -> 1 | H42: =VLOOKUP(E42,'Kisa 2'!$C$5:$J$183,8,0) -> 1 | I42: =VLOOKUP(E42,'Kisa 3'!$B$3:$I$176,8,0) -> 1 | J42: =VLOOKUP(E42,'Kisa 4'!$J$2:$Q$195,8,0) -> 1 | K42: =COUNT(G42:J42) -> 4 | L42: =SUMIF(G42:J42,"<>#PUUTTUU!") -> 4 | M42: =SUBTOTAL(9,G42:I42) -> 3
A43: Elisa | B43: Tuomisto | C43: D | D43: 21 | E43: =(A43&" "&B43) -> Elisa Tuomisto | F43: 1.1136364 | G43: =VLOOKUP($E43,'Kisa 1'!$C$5:$J$151,8,0) -> #N/A | H43: =VLOOKUP(E43,'Kisa 2'!$C$5:$J$183,8,0) -> 1 | I43: =VLOOKUP(E43,'Kisa 3'!$B$3:$I$176,8,0) -> #N/A | J43: =VLOOKUP(E43,'Kisa 4'!$J$2:$Q$195,8,0) -> #N/A | K43: =COUNT(G43:J43) -> 1 | L43: =SUMIF(G43:J43,"<>#PUUTTUU!") -> 1
A44: Ella | B44: Filppula | C44: D | D44: 12 | E44: =(A44&" "&B44) -> Ella Filppula | F44: 1.4090909 | G44: =VLOOKUP($E44,'Kisa 1'!$C$5:$J$151,8,0) -> #N/A | H44: =VLOOKUP(E44,'Kisa 2'!$C$5:$J$183,8,0) -> #N/A | I44: =VLOOKUP(E44,'Kisa 3'!$B$3:$I$176,8,0) -> 1 | J44: =VLOOKUP(E44,'Kisa 4'!$J$2:$Q$195,8,0) -> 1 | K44: =COUNT(G44:J44) -> 2 | L44: =SUMIF(G44:J44,"<>#PUUTTUU!") -> 2
A45: Ella | B45: Skog | C45: D | D45: 16 | E45: =(A45&" "&B45) -> Ella Skog | F45: 1.2727273 | G45: =VLOOKUP($E45,'Kisa 1'!$C$5:$J$151,8,0) -> #N/A | H45: =VLOOKUP(E45,'Kisa 2'!$C$5:$J$183,8,0) -> 15 | I45: =VLOOKUP(E45,'Kisa 3'!$B$3:$I$176,8,0) -> 28 | J45: =VLOOKUP(E45,'Kisa 4'!$J$2:$Q$195,8,0) -> 22 | K45: =COUNT(G45:J45) -> 3 | L45: =SUMIF(G45:J45,"<>#PUUTTUU!") -> 65
A46: Elli-Noora | B46: Kamppuri | C46: D | D46: 18 | E46: =(A46&" "&B46) -> Elli-Noora Kamppuri | F46: 1.25 | G46: =VLOOKUP($E46,'Kisa 1'!$C$5:$J$151,8,0) -> 1 | H46: =VLOOKUP(E46,'Kisa 2'!$C$5:$J$183,8,0) -> 1 | I46: =VLOOKUP(E46,'Kisa 3'!$B$3:$I$176,8,0) -> #N/A | J46: =VLOOKUP(E46,'Kisa 4'!$J$2:$Q$195,8,0) -> #N/A | K46: =COUNT(G46:J46) -> 2 | L46: =SUMIF(G46:J46,"<>#PUUTTUU!") -> 2
A47: Elmiina | B47: Laakso | C47: D | D47: 10 | E47: =(A47&" "&B47) -> Elmiina Laakso | F47: 1.5 | G47: =VLOOKUP($E47,'Kisa 1'!$C$5:$J$151,8,0) -> #N/A | H47: =VLOOKUP(E47,'Kisa 2'!$C$5:$J$183,8,0) -> 1 | I47: =VLOOKUP(E47,'Kisa 3'!$B$3:$I$176,8,0) -> 1 | J47: =VLOOKUP(E47,'Kisa 4'!$J$2:$Q$195,8,0) -> #N/A | K47: =COUNT(G47:J47) -> 2 | L47: =SUMIF(G47:J47,"<>#PUUTTUU!") -> 2
A48: Elo | B48: Saue | C48: D | D48: 40 | E48: =(A48&" "&B48) -> Elo Saue | F48: 1.2727273 | G48: =VLOOKUP($E48,'Kisa 1'!$C$5:$J$151,8,0) -> #N/A | H48: =VLOOKUP(E48,'Kisa 2'!$C$5:$J$183,8,0) -> #N/A | I48: =VLOOKUP(E48,'Kisa 3'!$B$3:$I$176,8,0) -> #N/A | J48: =VLOOKUP(E48,'Kisa 4'!$J$2:$Q$195,8,0) -> 28 | K48: =COUNT(G48:J48) -> 1 | L48: =SUMIF(G48:J48,"<>#PUUTTUU!") -> 28
A49: Emmi | B49: Mähönen | C49: D | D49: 21 | E49: =(A49&" "&B49) -> Emmi Mähönen | F49: 1.1136364 | G49: =VLOOKUP($E49,'Kisa 1'!$C$5:$J$151,8,0) -> 10 | H49: =VLOOKUP(E49,'Kisa 2'!$C$5:$J$183,8,0) -> #N/A | I49: =VLOOKUP(E49,'Kisa 3'!$B$3:$I$176,8,0) -> #N/A | J49: =VLOOKUP(E49,'Kisa 4'!$J$2:$Q$195,8,0) -> #N/A | K49: =COUNT(G49:J49) -> 1 | L49: =SUMIF(G49:J49,"<>#PUUTTUU!") -> 10
A50: Erkki | B50: Ylikoski | C50: H | D50: 60 | E50: =(A50&" "&B50) -> Erkki Ylikoski | F50: 1.4545455 | G50: =VLOOKUP($E50,'Kisa 1'!$C$5:$J$151,8,0) -> 22 | H50: =VLOOKUP(E50,'Kisa 2'!$C$5:$J$183,8,0) -> #N/A | I50: =VLOOKUP(E50,'Kisa 3'!$B$3:$I$176,8,0) -> 1 | J50: =VLOOKUP(E50,'Kisa 4'!$J$2:$Q$195,8,0) -> #N/A | K50: =COUNT(G50:J50) -> 2 | L50: =SUMIF(G50:J50,"<>#PUUTTUU!") -> 23
A51: Esko | B51: Jalanto | C51: H | D51: 55 | E51: =(A51&" "&B51) -> Esko Jalanto | F51: 1.3409091 | G51: =VLOOKUP($E51,'Kisa 1'!$C$5:$J$151,8,0) -> 1 | H51: =VLOOKUP(E51,'Kisa 2'!$C$5:$J$183,8,0) -> #N/A | I51: =VLOOKUP(E51,'Kisa 3'!$B$3:$I$176,8,0) -> 1 | J51: =VLOOKUP(E51,'Kisa 4'!$J$2:$Q$195,8,0) -> 1 | K51: =COUNT(G51:J51) -> 3 | L51: =SUMIF(G51:J51,"<>#PUUTTUU!") -> 3
A52: Essi | B52: Jalanto | C52: D | D52: 20 | E52: =(A52&" "&B52) -> Essi Jalanto | F52: 1.2045455 | G52: =VLOOKUP($E52,'Kisa 1'!$C$5:$J$151,8,0) -> #N/A | H52: =VLOOKUP(E52,'Kisa 2'!$C$5:$J$183,8,0) -> #N/A | I52: =VLOOKUP(E52,'Kisa 3'!$B$3:$I$176,8,0) -> 1 | J52: =VLOOKUP(E52,'Kisa 4'!$J$2:$Q$195,8,0) -> 10 | K52: =COUNT(G52:J52) -> 2 | L52: =SUMIF(G52:J52,"<>#PUUTTUU!") -> 11
A53: Hanna | B53: Leinamo | C53: D | D53: 35 | E53: =(A53&" "&B53) -> Hanna Leinamo | F53: 1.2272727 | G53: =VLOOKUP($E53,'Kisa 1'!$C$5:$J$151,8,0) -> #N/A | H53: =VLOOKUP(E53,'Kisa 2'!$C$5:$J$183,8,0) -> #N/A | I53: =VLOOKUP(E53,'Kisa 3'!$B$3:$I$176,8,0) -> #N/A | J53: =VLOOKUP(E53,'Kisa 4'!$J$2:$Q$195,8,0) -> 1 | K53: =COUNT(G53:J53) -> 1 | L53: =SUMIF(G53:J53,"<>#PUUTTUU!") -> 1
A54: Hanna-Maija | B54: Koski | C54: D | D54: 35 | E54: =(A54&" "&B54) -> Hanna-Maija Koski | F54: 1.2272727 | G54: =VLOOKUP($E54,'Kisa 1'!$C$5:$J$151,8,0) -> 34 | H54: =VLOOKUP(E54,'Kisa 2'!$C$5:$J$183,8,0) -> 32 | I54: =VLOOKUP(E54,'Kisa 3'!$B$3:$I$176,8,0) -> 28 | J54: =VLOOKUP(E54,'Kisa 4'!$J$2:$Q$195,8,0) -> 40 | K54: =COUNT(G54:J54) -> 4 | L54: =SUMIF(G54:J54,"<>#PUUTTUU!") -> 134 | M54: =SUBTOTAL(9,G54,H54,J54) -> 106
A55: Hanni | B55: Koski | C55: D | D55: 8 | E55: =(A55&" "&B55) -> Hanni Koski | F55: 1.6590909 | G55: =VLOOKUP($E55,'Kisa 1'!$C$5:$J$151,8,0) -> 1 | H55: =VLOOKUP(E55,'Kisa 2'!$C$5:$J$183,8,0) -> 1 | I55: =VLOOKUP(E55,'Kisa 3'!$B$3:$I$176,8,0) -> #N/A | J55: =VLOOKUP(E55,'Kisa 4'!$J$2:$Q$195,8,0) -> 1 | K55: =COUNT(G55:J55) -> 3 | L55: =SUMIF(G55:J55,"<>#PUUTTUU!") -> 3
A56: Hannu | B56: Aasla | C56: H | D56: 55 | E56: =(A56&" "&B56) -> Hannu Aasla | F56: 1.3409091 | G56: =VLOOKUP($E56,'Kisa 1'!$C$5:$J$151,8,0) -> 26 | H56: =VLOOKUP(E56,'Kisa 2'!$C$5:$J$183,8,0) -> 1 | I56: =VLOOKUP(E56,'Kisa 3'!$B$3:$I$176,8,0) -> 11 | J56: =VLOOKUP(E56,'Kisa 4'!$J$2:$Q$195,8,0) -> 1 | K56: =COUNT(G56:J56) -> 4 | L56: =SUMIF(G56:J56,"<>#PUUTTUU!") -> 39 | M56: =SUBTOTAL(9,G56,I56,J56) -> 38
A57: Harri | B57: Humppi | C57: H | E57: =(A57&" "&B57) -> Harri Humppi | F57: 1 | G57: =VLOOKUP($E57,'Kisa 1'!$C$5:$J$151,8,0) -> #N/A | H57: =VLOOKUP(E57,'Kisa 2'!$C$5:$J$183,8,0) -> #N/A | I57: =VLOOKUP(E57,'Kisa 3'!$B$3:$I$176,8,0) -> 1 | J57: =VLOOKUP(E57,'Kisa 4'!$J$2:$Q$195,8,0) -> 1 | K57: =COUNT(G57:J57) -> 2 | L57: =SUMIF(G57:J57,"<>#PUUTTUU!") -> 2
A58: Harri | B58: Pajula | C58: H | D58: 40 | E58: =(A58&" "&B58) -> Harri Pajula | F58: 1.1136364 | G58: =VLOOKUP($E58,'Kisa 1'!$C$5:$J$151,8,0) -> #N/A | H58: =VLOOKUP(E58,'Kisa 2'!$C$5:$J$183,8,0) -> #N/A | I58: =VLOOKUP(E58,'Kisa 3'!$B$3:$I$176,8,0) -> #N/A | J58: =VLOOKUP(E58,'Kisa 4'!$J$2:$Q$195,8,0) -> 1 | K58: =COUNT(G58:J58) -> 1 | L58: =SUMIF(G58:J58,"<>#PUUTTUU!") -> 1
A59: Harri | B59: Vehkalahti | C59: H | D59: 45 | E59: =(A59&" "&B59) -> Harri Vehkalahti | F59: 1.1590909 | G59: =VLOOKUP($E59,'Kisa 1'!$C$5:$J$151,8,0) -> #N/A | H59: =VLOOKUP(E59,'Kisa 2'!$C$5:$J$183,8,0) -> 1 | I59: =VLOOKUP(E59,'Kisa 3'!$B$3:$I$176,8,0) -> 1 | J59: =VLOOKUP(E59,'Kisa 4'!$J$2:$Q$195,8,0) -> #N/A | K59: =COUNT(G59:J59) -> 2 | L59: =SUMIF(G59:J59,"<>#PUUTTUU!") -> 2
A60: Heikki | B60: Lindberg | C60: H | E60: =(A60&" "&B60) -> Heikki Lindberg | F60: 1 | G60: =VLOOKUP($E60,'Kisa 1'!$C$5:$J$151,8,0) -> #N/A | H60: =VLOOKUP(E60,'Kisa 2'!$C$5:$J$183,8,0) -> 1 | I60: =VLOOKUP(E60,'Kisa 3'!$B$3:$I$176,8,0) -> 1 | J60: =VLOOKUP(E60,'Kisa 4'!$J$2:$Q$195,8,0) -> 1 | K60: =COUNT(G60:J60) -> 3 | L60: =SUMIF(G60:J60,"<>#PUUTTUU!") -> 3
A61: Heikki | B61: Takala | C61: H | D61: 12 | E61: =(A61&" "&B61) -> Heikki Takala | F61: 1.3181818 | G61: =VLOOKUP($E61,'Kisa 1'!$C$5:$J$151,8,0) -> #N/A | H61: =VLOOKUP(E61,'Kisa 2'!$C$5:$J$183,8,0) -> 1 | I61: =VLOOKUP(E61,'Kisa 3'!$B$3:$I$176,8,0) -> 1 | J61: =VLOOKUP(E61,'Kisa 4'!$J$2:$Q$195,8,0) -> 1 | K61: =COUNT(G61:J61) -> 3 | L61: =SUMIF(G61:J61,"<>#PUUTTUU!") -> 3
A62: Heini | B62: Papinsaari | C62: D | D62: 21 | E62: =(A62&" "&B62) -> Heini Papinsaari | F62: 1.1136364 | G62: =VLOOKUP($E62,'Kisa 1'!$C$5:$J$151,8,0) -> 4 | H62: =VLOOKUP(E62,'Kisa 2'!$C$5:$J$183,8,0) -> #N/A | I62: =VLOOKUP(E62,'Kisa 3'!$B$3:$I$176,8,0) -> #N/A | J62: =VLOOKUP(E62,'Kisa 4'!$J$2:$Q$195,8,0) -> #N/A | K62: =COUNT(G62:J62) -> 1 | L62: =SUMIF(G62:J62,"<>#PUUTTUU!") -> 4
A63: Heini | B63: Rintanen | C63: D | D63: 16 | E63: =(A63&" "&B63) -> Heini Rintanen | F63: 1.2727273 | G63: =VLOOKUP($E63,'Kisa 1'!$C$5:$J$151,8,0) -> 5 | H63: =VLOOKUP(E63,'Kisa 2'!$C$5:$J$183,8,0) -> #N/A | I63: =VLOOKUP(E63,'Kisa 3'!$B$3:$I$176,8,0) -> #N/A | J63: =VLOOKUP(E63,'Kisa 4'!$J$2:$Q$195,8,0) -> #N/A | K63: =COUNT(G63:J63) -> 1 | L63: =SUMIF(G63:J63,"<>#PUUTTUU!") -> 5
A64: Helena | B64: Kajaala-Ylikoski | C64: D | D64: 55 | E64: =(A64&" "&B64) -> Helena Kajaala-Ylikoski | F64: 1.4772727 | G64: =VLOOKUP($E64,'Kisa 1'!$C$5:$J$151,8,0) -> 1 | H64: =VLOOKUP(E64,'Kisa 2'!$C$5:$J$183,8,0) -> #N/A | I64: =VLOOKUP(E64,'Kisa 3'!$B$3:$I$176,8,0) -> 1 | J64: =VLOOKUP(E64,'Kisa 4'!$J$2:$Q$195,8,0) -> #N/A | K64: =COUNT(G64:J64) -> 2 | L64: =SUMIF(G64:J64,"<>#PUUTTUU!") -> 2
A65: Heli | B65: Annila | C65: D | D65: 50 | E65: =(A65&" "&B65) -> Heli Annila | F65: 1.3863636 | G65: =VLOOKUP($E65,'Kisa 1'!$C$5:$J$151,8,0) -> #N/A | H65: =VLOOKUP(E65,'Kisa 2'!$C$5:$J$183,8,0) -> 1 | I65: =VLOOKUP(E65,'Kisa 3'!$B$3:$I$176,8,0) -> 1 | J65: =VLOOKUP(E65,'Kisa 4'!$J$2:$Q$195,8,0) -> 1 | K65: =COUNT(G65:J65) -> 3 | L65: =SUMIF(G65:J65,"<>#PUUTTUU!") -> 3
A66: Heli | B66: Ketola | C66: D | D66: 40 | E66: =(A66&" "&B66) -> Heli Ketola | F66: 1.2727273 | G66: =VLOOKUP($E66,'Kisa 1'!$C$5:$J$151,8,0) -> 15 | H66: =VLOOKUP(E66,'Kisa 2'!$C$5:$J$183,8,0) -> #N/A | I66: =VLOOKUP(E66,'Kisa 3'!$B$3:$I$176,8,0) -> #N/A | J66: =VLOOKUP(E66,'Kisa 4'!$J$2:$Q$195,8,0) -> 13 | K66: =COUNT(G66:J66) -> 2 | L66: =SUMIF(G66:J66,"<>#PUUTTUU!") -> 28
A67: Hilkka | B67: Lankia | C67: D | D67: 65 | E67: =(A67&" "&B67) -> Hilkka Lankia | F67: 1.7272727 | G67: =VLOOKUP($E67,'Kisa 1'!$C$5:$J$151,8,0) -> 40 | H67: =VLOOKUP(E67,'Kisa 2'!$C$5:$J$183,8,0) -> 30 | I67: =VLOOKUP(E67,'Kisa 3'!$B$3:$I$176,8,0) -> 13 | J67: =VLOOKUP(E67,'Kisa 4'!$J$2:$Q$195,8,0) -> 43 | K67: =COUNT(G67:J67) -> 4 | L67: =SUMIF(G67:J67,"<>#PUUTTUU!") -> 126 | M67: =SUBTOTAL(9,G67,H67,J67) -> 113
A68: Hilla | B68: Niemelä | C68: D | D68: 14 | E68: =(A68&" "&B68) -> Hilla Niemelä | F68: 1.3409091 | G68: =VLOOKUP($E68,'Kisa 1'!$C$5:$J$151,8,0) -> #N/A | H68: =VLOOKUP(E68,'Kisa 2'!$C$5:$J$183,8,0) -> 1 | I68: =VLOOKUP(E68,'Kisa 3'!$B$3:$I$176,8,0) -> #N/A | J68: =VLOOKUP(E68,'Kisa 4'!$J$2:$Q$195,8,0) -> #N/A | K68: =COUNT(G68:J68) -> 1 | L68: =SUMIF(G68:J68,"<>#PUUTTUU!") -> 1
A69: Hilla | B69: Toivanen | C69: D | D69: 18 | E69: =(A69&" "&B69) -> Hilla Toivanen | F69: 1.25 | G69: =VLOOKUP($E69,'Kisa 1'!$C$5:$J$151,8,0) -> 1 | H69: =VLOOKUP(E69,'Kisa 2'!$C$5:$J$183,8,0) -> 1 | I69: =VLOOKUP(E69,'Kisa 3'!$B$3:$I$176,8,0) -> #N/A | J69: =VLOOKUP(E69,'Kisa 4'!$J$2:$Q$195,8,0) -> 1 | K69: =COUNT(G69:J69) -> 3 | L69: =SUMIF(G69:J69,"<>#PUUTTUU!") -> 3
A70: Idaliina | B70: Kuusisto | C70: D | D70: 14 | E70: =(A70&" "&B70) -> Idaliina Kuusisto | F70: 1.3409091 | G70: =VLOOKUP($E70,'Kisa 1'!$C$5:$J$151,8,0) -> 11 | H70: =VLOOKUP(E70,'Kisa 2'!$C$5:$J$183,8,0) -> 1 | I70: =VLOOKUP(E70,'Kisa 3'!$B$3:$I$176,8,0) -> #N/A | J70: =VLOOKUP(E70,'Kisa 4'!$J$2:$Q$195,8,0) -> 1 | K70: =COUNT(G70:J70) -> 3 | L70: =SUMIF(G70:J70,"<>#PUUTTUU!") -> 13
A71: Ilkka | B71: Nurminen | C71: H | D71: 40 | E71: =(A71&" "&B71) -> Ilkka Nurminen | F71: 1.1136364 | G71: =VLOOKUP($E71,'Kisa 1'!$C$5:$J$151,8,0) -> #N/A | H71: =VLOOKUP(E71,'Kisa 2'!$C$5:$J$183,8,0) -> 11 | I71: =VLOOKUP(E71,'Kisa 3'!$B$3:$I$176,8,0) -> 8 | J71: =VLOOKUP(E71,'Kisa 4'!$J$2:$Q$195,8,0) -> #N/A | K71: =COUNT(G71:J71) -> 2 | L71: =SUMIF(G71:J71,"<>#PUUTTUU!") -> 19
A72: Ilkka | B72: Ruokola | C72: H | D72: 45 | E72: =(A72&" "&B72) -> Ilkka Ruokola | F72: 1.1590909 | G72: =VLOOKUP($E72,'Kisa 1'!$C$5:$J$151,8,0) -> #N/A | H72: =VLOOKUP(E72,'Kisa 2'!$C$5:$J$183,8,0) -> 1 | I72: =VLOOKUP(E72,'Kisa 3'!$B$3:$I$176,8,0) -> #N/A | J72: =VLOOKUP(E72,'Kisa 4'!$J$2:$Q$195,8,0) -> #N/A | K72: =COUNT(G72:J72) -> 1 | L72: =SUMIF(G72:J72,"<>#PUUTTUU!") -> 1
A73: Ilona | B73: Tikkakoski | C73: D | D73: 12 | E73: =(A73&" "&B73) -> Ilona Tikkakoski | F73: 1.4090909 | G73: =VLOOKUP($E73,'Kisa 1'!$C$5:$J$151,8,0) -> 2 | H73: =VLOOKUP(E73,'Kisa 2'!$C$5:$J$183,8,0) -> #N/A | I73: =VLOOKUP(E73,'Kisa 3'!$B$3:$I$176,8,0) -> #N/A | J73: =VLOOKUP(E73,'Kisa 4'!$J$2:$Q$195,8,0) -> #N/A | K73: =COUNT(G73:J73) -> 1 | L73: =SUMIF(G73:J73,"<>#PUUTTUU!") -> 2
A74: Inka | B74: Joensivu | C74: D | D74: 12 | E74: =(A74&" "&B74) -> Inka Joensivu | F74: 1.4090909 | G74: =VLOOKUP($E74,'Kisa 1'!$C$5:$J$151,8,0) -> 1 | H74: =VLOOKUP(E74,'Kisa 2'!$C$5:$J$183,8,0) -> 1 | I74: =VLOOKUP(E74,'Kisa 3'!$B$3:$I$176,8,0) -> #N/A | J74: =VLOOKUP(E74,'Kisa 4'!$J$2:$Q$195,8,0) -> #N/A | K74: =COUNT(G74:J74) -> 2 | L74: =SUMIF(G74:J74,"<>#PUUTTUU!") -> 2
A75: Ismo | B75: Raitanen | C75: H | D75: 40 | E75: =(A75&" "&B75) -> Ismo Raitanen | F75: 1.1136364 | G75: =VLOOKUP($E75,'Kisa 1'!$C$5:$J$151,8,0) -> 1 | H75: =VLOOKUP(E75,'Kisa 2'!$C$5:$J$183,8,0) -> 1 | I75: =VLOOKUP(E75,'Kisa 3'!$B$3:$I$176,8,0) -> #N/A | J75: =VLOOKUP(E75,'Kisa 4'!$J$2:$Q$195,8,0) -> 8 | K75: =COUNT(G75:J75) -> 3 | L75: =SUMIF(G75:J75,"<>#PUUTTUU!") -> 10
A76: Jaakko | B76: Jutila | C76: H | D76: 20 | E76: =(A76&" "&B76) -> Jaakko Jutila | F76: 1.0454545 | G76: =VLOOKUP($E76,'Kisa 1'!$C$5:$J$151,8,0) -> #N/A | H76: =VLOOKUP(E76,'Kisa 2'!$C$5:$J$183,8,0) -> #N/A | I76: =VLOOKUP(E76,'Kisa 3'!$B$3:$I$176,8,0) -> #N/A | J76: =VLOOKUP(E76,'Kisa 4'!$J$2:$Q$195,8,0) -> 1 | K76: =COUNT(G76:J76) -> 1 | L76: =SUMIF(G76:J76,"<>#PUUTTUU!") -> 1
A77: Jaakko | B77: Koivisto | C77: H | D77: 21 | E77: =(A77&" "&B77) -> Jaakko Koivisto | F77: 1 | G77: =VLOOKUP($E77,'Kisa 1'!$C$5:$J$151,8,0) -> 1 | H77: =VLOOKUP(E77,'Kisa 2'!$C$5:$J$183,8,0) -> 1 | I77: =VLOOKUP(E77,'Kisa 3'!$B$3:$I$176,8,0) -> 1 | J77: =VLOOKUP(E77,'Kisa 4'!$J$2:$Q$195,8,0) -> 1 | K77: =COUNT(G77:J77) -> 4 | L77: =SUMIF(G77:J77,"<>#PUUTTUU!") -> 4 | M77: =SUBTOTAL(9,G77:I77) -> 3
A78: Jaakko | B78: Skog | C78: H | D78: 18 | E78: =(A78&" "&B78) -> Jaakko Skog | F78: 1.0909091 | G78: =VLOOKUP($E78,'Kisa 1'!$C$5:$J$151,8,0) -> #N/A | H78: =VLOOKUP(E78,'Kisa 2'!$C$5:$J$183,8,0) -> 14 | I78: =VLOOKUP(E78,'Kisa 3'!$B$3:$I$176,8,0) -> 32 | J78: =VLOOKUP(E78,'Kisa 4'!$J$2:$Q$195,8,0) -> 40 | K78: =COUNT(G78:J78) -> 3 | L78: =SUMIF(G78:J78,"<>#PUUTTUU!") -> 86
A79: Jaakko | B79: Takala | C79: H | D79: 14 | E79: =(A79&" "&B79) -> Jaakko Takala | F79: 1.2272727 | G79: =VLOOKUP($E79,'Kisa 1'!$C$5:$J$151,8,0) -> 1 | H79: =VLOOKUP(E79,'Kisa 2'!$C$5:$J$183,8,0) -> 1 | I79: =VLOOKUP(E79,'Kisa 3'!$B$3:$I$176,8,0) -> 1 | J79: =VLOOKUP(E79,'Kisa 4'!$J$2:$Q$195,8,0) -> 1 | K79: =COUNT(G79:J79) -> 4 | L79: =SUMIF(G79:J79,"<>#PUUTTUU!") -> 4 | M79: =SUBTOTAL(9,G79:I79) -> 3
A80: Jaana | B80: Pietilä | C80: D | D80: 45 | E80: =(A80&" "&B80) -> Jaana Pietilä | F80: 1.3181818 | G80: =VLOOKUP($E80,'Kisa 1'!$C$5:$J$151,8,0) -> 46 | H80: =VLOOKUP(E80,'Kisa 2'!$C$5:$J$183,8,0) -> 40 | I80: =VLOOKUP(E80,'Kisa 3'!$B$3:$I$176,8,0) -> #N/A | J80: =VLOOKUP(E80,'Kisa 4'!$J$2:$Q$195,8,0) -> 34 | K80: =COUNT(G80:J80) -> 3 | L80: =SUMIF(G80:J80,"<>#PUUTTUU!") -> 120
A81: Janne | B81: Konttila | C81: H | D81: 40 | E81: =(A81&" "&B81) -> Janne Konttila | F81: 1.1136364 | G81: =VLOOKUP($E81,'Kisa 1'!$C$5:$J$151,8,0) -> 1 | H81: =VLOOKUP(E81,'Kisa 2'!$C$5:$J$183,8,0) -> 4 | I81: =VLOOKUP(E81,'Kisa 3'!$B$3:$I$176,8,0) -> 1 | J81: =VLOOKUP(E81,'Kisa 4'!$J$2:$Q$195,8,0) -> 1 | K81: =COUNT(G81:J81) -> 4 | L81: =SUMIF(G81:J81,"<>#PUUTTUU!") -> 7 | M81: =SUBTOTAL(9,G81:I81) -> 6
A82: Janne | B82: Märkälä | C82: H | D82: 45 | E82: =(A82&" "&B82) -> Janne Märkälä | F82: 1.1590909 | G82: =VLOOKUP($E82,'Kisa 1'!$C$5:$J$151,8,0) -> 28 | H82: =VLOOKUP(E82,'Kisa 2'!$C$5:$J$183,8,0) -> #N/A | I82: =VLOOKUP(E82,'Kisa 3'!$B$3:$I$176,8,0) -> #N/A | J82: =VLOOKUP(E82,'Kisa 4'!$J$2:$Q$195,8,0) -> #N/A | K82: =COUNT(G82:J82) -> 1 | L82: =SUMIF(G82:J82,"<>#PUUTTUU!") -> 28
A83: Janne | B83: Tikkakoski | C83: H | D83: 35 | E83: =(A83&" "&B83) -> Janne Tikkakoski | F83: 1.0681818 | G83: =VLOOKUP($E83,'Kisa 1'!$C$5:$J$151,8,0) -> 1 | H83: =VLOOKUP(E83,'Kisa 2'!$C$5:$J$183,8,0) -> #N/A | I83: =VLOOKUP(E83,'Kisa 3'!$B$3:$I$176,8,0) -> 1 | J83: =VLOOKUP(E83,'Kisa 4'!$J$2:$Q$195,8,0) -> 1 | K83: =COUNT(G83:J83) -> 3 | L83: =SUMIF(G83:J83,"<>#PUUTTUU!") -> 3
A84: Jari | B84: Jurvakainen | C84: H | D84: 55 | E84: =(A84&" "&B84) -> Jari Jurvakainen | F84: 1.3409091 | G84: =VLOOKUP($E84,'Kisa 1'!$C$5:$J$151,8,0) -> #N/A | H84: =VLOOKUP(E84,'Kisa 2'!$C$5:$J$183,8,0) -> #N/A | I84: =VLOOKUP(E84,'Kisa 3'!$B$3:$I$176,8,0) -> 1 | J84: =VLOOKUP(E84,'Kisa 4'!$J$2:$Q$195,8,0) -> #N/A | K84: =COUNT(G84:J84) -> 1 | L84: =SUMIF(G84:J84,"<>#PUUTTUU!") -> 1
A85: Jari | B85: Kymäläinen | C85: H | D85: 21 | E85: =(A85&" "&B85) -> Jari Kymäläinen | F85: 1 | G85: =VLOOKUP($E85,'Kisa 1'!$C$5:$J$151,8,0) -> 1 | H85: =VLOOKUP(E85,'Kisa 2'!$C$5:$J$183,8,0) -> 1 | I85: =VLOOKUP(E85,'Kisa 3'!$B$3:$I$176,8,0) -> 1 | J85: =VLOOKUP(E85,'Kisa 4'!$J$2:$Q$195,8,0) -> 1 | K85: =COUNT(G85:J85) -> 4 | L85: =SUMIF(G85:J85,"<>#PUUTTUU!") -> 4 | M85: =SUBTOTAL(9,G85:I85) -> 3
A86: Jari | B86: Lepo | C86: H | D86: 40 | E86: =(A86&" "&B86) -> Jari Lepo | F86: 1.1136364 | G86: =VLOOKUP($E86,'Kisa 1'!$C$5:$J$151,8,0) -> #N/A | H86: =VLOOKUP(E86,'Kisa 2'!$C$5:$J$183,8,0) -> #N/A | I86: =VLOOKUP(E86,'Kisa 3'!$B$3:$I$176,8,0) -> #N/A | J86: =VLOOKUP(E86,'Kisa 4'!$J$2:$Q$195,8,0) -> 1 | K86: =COUNT(G86:J86) -> 1 | L86: =SUMIF(G86:J86,"<>#PUUTTUU!") -> 1
A87: Jari | B87: Toivonen | C87: H | D87: 50 | E87: =(A87&" "&B87) -> Jari Toivonen | F87: 1.25 | G87: =VLOOKUP($E87,'Kisa 1'!$C$5:$J$151,8,0) -> 1 | H87: =VLOOKUP(E87,'Kisa 2'!$C$5:$J$183,8,0) -> 1 | I87: =VLOOKUP(E87,'Kisa 3'!$B$3:$I$176,8,0) -> 1 | J87: =VLOOKUP(E87,'Kisa 4'!$J$2:$Q$195,8,0) -> 1 | K87: =COUNT(G87:J87) -> 4 | L87: =SUMIF(G87:J87,"<>#PUUTTUU!") -> 4 | M87: =SUBTOTAL(9,G87:I87) -> 3
A88: Jari | B88: Vahvelainen | C88: H | D88: 50 | E88: =(A88&" "&B88) -> Jari Vahvelainen | F88: 1.25 | G88: =VLOOKUP($E88,'Kisa 1'!$C$5:$J$151,8,0) -> 1 | H88: =VLOOKUP(E88,'Kisa 2'!$C$5:$J$183,8,0) -> #N/A | I88: =VLOOKUP(E88,'Kisa 3'!$B$3:$I$176,8,0) -> #N/A | J88: =VLOOKUP(E88,'Kisa 4'!$J$2:$Q$195,8,0) -> #N/A | K88: =COUNT(G88:J88) -> 1 | L88: =SUMIF(G88:J88,"<>#PUUTTUU!") -> 1
A89: Jarkko | B89: Huovila | C89: H | D89: 35 | E89: =(A89&" "&B89) -> Jarkko Huovila | F89: 1.0681818 | G89: =VLOOKUP($E89,'Kisa 1'!$C$5:$J$151,8,0) -> #N/A | H89: =VLOOKUP(E89,'Kisa 2'!$C$5:$J$183,8,0) -> 50 | I89: =VLOOKUP(E89,'Kisa 3'!$B$3:$I$176,8,0) -> 50 | J89: =VLOOKUP(E89,'Kisa 4'!$J$2:$Q$195,8,0) -> 46 | K89: =COUNT(G89:J89) -> 3 | L89: =SUMIF(G89:J89,"<>#PUUTTUU!") -> 146
A90: Jarno | B90: Riikonen | C90: H | D90: 40 | E90: =(A90&" "&B90) -> Jarno Riikonen | F90: 1.1136364 | G90: =VLOOKUP($E90,'Kisa 1'!$C$5:$J$151,8,0) -> 4 | H90: =VLOOKUP(E90,'Kisa 2'!$C$5:$J$183,8,0) -> 1 | I90: =VLOOKUP(E90,'Kisa 3'!$B$3:$I$176,8,0) -> #N/A | J90: =VLOOKUP(E90,'Kisa 4'!$J$2:$Q$195,8,0) -> 1 | K90: =COUNT(G90:J90) -> 3 | L90: =SUMIF(G90:J90,"<>#PUUTTUU!") -> 6
A91: Jasper | B91: Alajoutsi | C91: H | D91: 12 | E91: =(A91&" "&B91) -> Jasper Alajoutsi | F91: 1.3181818 | G91: =VLOOKUP($E91,'Kisa 1'!$C$5:$J$151,8,0) -> 1 | H91: =VLOOKUP(E91,'Kisa 2'!$C$5:$J$183,8,0) -> #N/A | I91: =VLOOKUP(E91,'Kisa 3'!$B$3:$I$176,8,0) -> 1 | J91: =VLOOKUP(E91,'Kisa 4'!$J$2:$Q$195,8,0) -> 1 | K91: =COUNT(G91:J91) -> 3 | L91: =SUMIF(G91:J91,"<>#PUUTTUU!") -> 3
A92: Jatta | B92: Haapamäki | C92: D | D92: 40 | E92: =(A92&" "&B92) -> Jatta Haapamäki | F92: 1.2727273 | G92: =VLOOKUP($E92,'Kisa 1'!$C$5:$J$151,8,0) -> #N/A | H92: =VLOOKUP(E92,'Kisa 2'!$C$5:$J$183,8,0) -> #N/A | I92: =VLOOKUP(E92,'Kisa 3'!$B$3:$I$176,8,0) -> #N/A | J92: =VLOOKUP(E92,'Kisa 4'!$J$2:$Q$195,8,0) -> 1 | K92: =COUNT(G92:J92) -> 1 | L92: =SUMIF(G92:J92,"<>#PUUTTUU!") -> 1
A93: Jenna | B93: Leipijärvi | C93: D | D93: 16 | E93: =(A93&" "&B93) -> Jenna Leipijärvi | F93: 1.2727273 | G93: =VLOOKUP($E93,'Kisa 1'!$C$5:$J$151,8,0) -> 1 | H93: =VLOOKUP(E93,'Kisa 2'!$C$5:$J$183,8,0) -> 2 | I93: =VLOOKUP(E93,'Kisa 3'!$B$3:$I$176,8,0) -> #N/A | J93: =VLOOKUP(E93,'Kisa 4'!$J$2:$Q$195,8,0) -> #N/A | K93: =COUNT(G93:J93) -> 2 | L93: =SUMIF(G93:J93,"<>#PUUTTUU!") -> 3
A94: Jenni | B94: Kivikko | C94: D | D94: 15 | E94: =(A94&" "&B94) -> Jenni Kivikko | F94: 1.2727273 | G94: =VLOOKUP($E94,'Kisa 1'!$C$5:$J$151,8,0) -> #N/A | H94: =VLOOKUP(E94,'Kisa 2'!$C$5:$J$183,8,0) -> #N/A | I94: =VLOOKUP(E94,'Kisa 3'!$B$3:$I$176,8,0) -> #N/A | J94: =VLOOKUP(E94,'Kisa 4'!$J$2:$Q$195,8,0) -> 1 | K94: =COUNT(G94:J94) -> 1 | L94: =SUMIF(G94:J94,"<>#PUUTTUU!") -> 1
A95: Jere | B95: Ahonen | C95: H | D95: 21 | E95: =(A95&" "&B95) -> Jere Ahonen | F95: 1 | G95: =VLOOKUP($E95,'Kisa 1'!$C$5:$J$151,8,0) -> 5 | H95: =VLOOKUP(E95,'Kisa 2'!$C$5:$J$183,8,0) -> 8 | I95: =VLOOKUP(E95,'Kisa 3'!$B$3:$I$176,8,0) -> 6 | J95: =VLOOKUP(E95,'Kisa 4'!$J$2:$Q$195,8,0) -> #N/A | K95: =COUNT(G95:J95) -> 3 | L95: =SUMIF(G95:J95,"<>#PUUTTUU!") -> 19
A96: Jere | B96: Simola | C96: H | D96: 10 | E96: =(A96&" "&B96) -> Jere Simola | F96: 1.4772727 | G96: =VLOOKUP($E96,'Kisa 1'!$C$5:$J$151,8,0) -> #N/A | H96: =VLOOKUP(E96,'Kisa 2'!$C$5:$J$183,8,0) -> 1 | I96: =VLOOKUP(E96,'Kisa 3'!$B$3:$I$176,8,0) -> 1 | J96: =VLOOKUP(E96,'Kisa 4'!$J$2:$Q$195,8,0) -> 1 | K96: =COUNT(G96:J96) -> 3 | L96: =SUMIF(G96:J96,"<>#PUUTTUU!") -> 3
A97: Joel | B97: Schüle | C97: H | D97: 14 | E97: =(A97&" "&B97) -> Joel Schüle | F97: 1.2272727 | G97: =VLOOKUP($E97,'Kisa 1'!$C$5:$J$151,8,0) -> 1 | H97: =VLOOKUP(E97,'Kisa 2'!$C$5:$J$183,8,0) -> #N/A | I97: =VLOOKUP(E97,'Kisa 3'!$B$3:$I$176,8,0) -> #N/A | J97: =VLOOKUP(E97,'Kisa 4'!$J$2:$Q$195,8,0) -> #N/A | K97: =COUNT(G97:J97) -> 1 | L97: =SUMIF(G97:J97,"<>#PUUTTUU!") -> 1
A98: Jonne | B98: Pitkänen | C98: H | D98: 18 | E98: =(A98&" "&B98) -> Jonne Pitkänen | F98: 1.0909091 | G98: =VLOOKUP($E98,'Kisa 1'!$C$5:$J$151,8,0) -> #N/A | H98: =VLOOKUP(E98,'Kisa 2'!$C$5:$J$183,8,0) -> 1 | I98: =VLOOKUP(E98,'Kisa 3'!$B$3:$I$176,8,0) -> 2 | J98: =VLOOKUP(E98,'Kisa 4'!$J$2:$Q$195,8,0) -> 1 | K98: =COUNT(G98:J98) -> 3 | L98: =SUMIF(G98:J98,"<>#PUUTTUU!") -> 4
A99: Joona | B99: Leipijärvi | C99: H | D99: 20 | E99: =(A99&" "&B99) -> Joona Leipijärvi | F99: 1.0454545 | G99: =VLOOKUP($E99,'Kisa 1'!$C$5:$J$151,8,0) -> 1 | H99: =VLOOKUP(E99,'Kisa 2'!$C$5:$J$183,8,0) -> 1 | I99: =VLOOKUP(E99,'Kisa 3'!$B$3:$I$176,8,0) -> #N/A | J99: =VLOOKUP(E99,'Kisa 4'!$J$2:$Q$195,8,0) -> #N/A | K99: =COUNT(G99:J99) -> 2 | L99: =SUMIF(G99:J99,"<>#PUUTTUU!") -> 2
... A107: Jukka | B107: Alajoutsi | C107: H | D107: 40 | E107: =(A107&" "&B107) -> Jukka Alajoutsi | F107: 1.1136364 | G107: =VLOOKUP($E107,'Kisa 1'!$C$5:$J$151,8,0) -> 1 | H107: =VLOOKUP(E107,'Kisa 2'!$C$5:$J$183,8,0) -> #N/A | I107: =VLOOKUP(E107,'Kisa 3'!$B$3:$I$176,8,0) -> 1 | J107: =VLOOKUP(E107,'Kisa 4'!$J$2:$Q$195,8,0) -> 1 | K107: =COUNT(G107:J107) -> 3 | L107: =SUMIF(G107:J107,"<>#PUUTTUU!") -> 3
A108: Jukka | B108: Kallio | C108: H | D108: 50 | E108: =(A108&" "&B108) -> Jukka Kallio | F108: 1.25 | G108: =VLOOKUP($E108,'Kisa 1'!$C$5:$J$151,8,0) -> 12 | H108: =VLOOKUP(E108,'Kisa 2'!$C$5:$J$183,8,0) -> 1 | I108: =VLOOKUP(E108,'Kisa 3'!$B$3:$I$176,8,0) -> 1 | J108: =VLOOKUP(E108,'Kisa 4'!$J$2:$Q$195,8,0) -> 1 | K108: =COUNT(G108:J108) -> 4 | L108: =SUMIF(G108:J108,"<>#PUUTTUU!") -> 15 | M108: =SUBTOTAL(9,G108:I108) -> 14
A109: Jukka | B109: Kyrölä | C109: H | D109: 60 | E109: =(A109&" "&B109) -> Jukka Kyrölä | F109: 1.4545455 | G109: =VLOOKUP($E109,'Kisa 1'!$C$5:$J$151,8,0) -> #N/A | H109: =VLOOKUP(E109,'Kisa 2'!$C$5:$J$183,8,0) -> 24 | I109: =VLOOKUP(E109,'Kisa 3'!$B$3:$I$176,8,0) -> #N/A | J109: =VLOOKUP(E109,'Kisa 4'!$J$2:$Q$195,8,0) -> 1 | K109: =COUNT(G109:J109) -> 2 | L109: =SUMIF(G109:J109,"<>#PUUTTUU!") -> 25
A110: Jukka-Pekka | B110: Seppänen | C110: H | D110: 21 | E110: =(A110&" "&B110) -> Jukka-Pekka Seppänen | F110: 1 | G110: =VLOOKUP($E110,'Kisa 1'!$C$5:$J$151,8,0) -> 30 | H110: =VLOOKUP(E110,'Kisa 2'!$C$5:$J$183,8,0) -> 22 | I110: =VLOOKUP(E110,'Kisa 3'!$B$3:$I$176,8,0) -> #N/A | J110: =VLOOKUP(E110,'Kisa 4'!$J$2:$Q$195,8,0) -> #N/A | K110: =COUNT(G110:J110) -> 2 | L110: =SUMIF(G110:J110,"<>#PUUTTUU!") -> 52
A111: Julia | B111: Hirvonen | C111: D | D111: 14 | E111: =(A111&" "&B111) -> Julia Hirvonen | F111: 1.3409091 | G111: =VLOOKUP($E111,'Kisa 1'!$C$5:$J$151,8,0) -> #N/A | H111: =VLOOKUP(E111,'Kisa 2'!$C$5:$J$183,8,0) -> #N/A | I111: =VLOOKUP(E111,'Kisa 3'!$B$3:$I$176,8,0) -> 2 | J111: =VLOOKUP(E111,'Kisa 4'!$J$2:$Q$195,8,0) -> 1 | K111: =COUNT(G111:J111) -> 2 | L111: =SUMIF(G111:J111,"<>#PUUTTUU!") -> 3
A112: Jussi-Elmeri | B112: Halme | C112: H | D112: 20 | E112: =(A112&" "&B112) -> Jussi-Elmeri Halme | F112: 1.0454545 | G112: =VLOOKUP($E112,'Kisa 1'!$C$5:$J$151,8,0) -> #N/A | H112: =VLOOKUP(E112,'Kisa 2'!$C$5:$J$183,8,0) -> 37 | I112: =VLOOKUP(E112,'Kisa 3'!$B$3:$I$176,8,0) -> #N/A | J112: =VLOOKUP(E112,'Kisa 4'!$J$2:$Q$195,8,0) -> #N/A | K112: =COUNT(G112:J112) -> 1 | L112: =SUMIF(G112:J112,"<>#PUUTTUU!") -> 37
A113: Jutta | B113: Nurminen | C113: D | D113: 16 | E113: =(A113&" "&B113) -> Jutta Nurminen | F113: 1.2727273 | G113: =VLOOKUP($E113,'Kisa 1'!$C$5:$J$151,8,0) -> #N/A | H113: =VLOOKUP(E113,'Kisa 2'!$C$5:$J$183,8,0) -> #N/A | I113: =VLOOKUP(E113,'Kisa 3'!$B$3:$I$176,8,0) -> 20 | J113: =VLOOKUP(E113,'Kisa 4'!$J$2:$Q$195,8,0) -> #N/A | K113: =COUNT(G113:J113) -> 1 | L113: =SUMIF(G113:J113,"<>#PUUTTUU!") -> 20
A114: Juuso | B114: Manninen | C114: H | D114: 21 | E114: =(A114&" "&B114) -> Juuso Manninen | F114: 1 | G114: =VLOOKUP($E114,'Kisa 1'!$C$5:$J$151,8,0) -> #N/A | H114: =VLOOKUP(E114,'Kisa 2'!$C$5:$J$183,8,0) -> #N/A | I114: =VLOOKUP(E114,'Kisa 3'!$B$3:$I$176,8,0) -> #N/A | J114: =VLOOKUP(E114,'Kisa 4'!$J$2:$Q$195,8,0) -> 1 | K114: =COUNT(G114:J114) -> 1 | L114: =SUMIF(G114:J114,"<>#PUUTTUU!") -> 1
...

Sheet TULOS
A1: Keski-Tampereen Sprinttiviikko 2014-2015 Pistetilanne
A2: Naiset | C2: Sarja | E2: TASOITUS | F2: Kisa1 | G2: Kisa2 | H2: Kisa3 | I2: Kisa4 | J2: Pisteet
A3: Sari | B3: Saarijärvi | C3: D | D3: 45 | E3: Sari Saarijärvi | F3: 1.3181818 | G3: 43 | H3: 50 | I3: 50 | J3: 46 | K3: 4 | L3: 146
A4: Lotta | B4: Eerola | C4: D | D4: 14 | E4: Lotta Eerola | F4: 1.3409091 | G4: 50 | H4: 43 | I4: 46 | J4: 50 | K4: 4 | L4: 146
A5: Jaana | B5: Pietilä | C5: D | D5: 45 | E5: Jaana Pietilä | F5: 1.3181818 | G5: 46 | H5: 40 | I5: #N/A | J5: 34 | K5: 3 | L5: 120
A6: Hilkka | B6: Lankia | C6: D | D6: 65 | E6: Hilkka Lankia | F6: 1.7272727 | G6: 43 | H6: 30 | I6: 16 | J6: 43 | K6: 4 | L6: 116
A7: Hanna-Maija | B7: Koski | C7: D | D7: 35 | E7: Hanna-Maija Koski | F7: 1.2272727 | G7: 34 | H7: 32 | I7: 28 | J7: 40 | K7: 4 | L7: 106
A8: Sanni | B8: Kymäläinen | C8: D | D8: 20 | E8: Sanni Kymäläinen | F8: 1.2045455 | G8: 26 | H8: 46 | I8: 32 | J8: 26 | K8: 4 | L8: 104
A9: Salla | B9: Pitkänen | C9: D | D9: 16 | E9: Salla Pitkänen | F9: 1.2727273 | G9: #N/A | H9: 26 | I9: 43 | J9: 20 | K9: 3 | L9: 89
A10: Saara | B10: Yli-Hietanen | C10: D | D10: 14 | E10: Saara Yli-Hietanen | F10: 1.3409091 | G10: 30 | H10: 18 | I10: 37 | J10: 15 | K10: 4 | L10: 85
A11: Anni | B11: Haanpää | C11: D | D11: 16 | E11: Anni Haanpää | F11: 1.2727273 | G11: 37 | H11: 1 | I11: #N/A | J11: 37 | K11: 3 | L11: 75
A12: Laura | B12: Palm | C12: D | D12: 21 | E12: Laura Palm | F12: 1.1136364 | G12: 32 | H12: 37 | I12: 1 | J12: #N/A | K12: 3 | L12: 70
A13: Kaisa | B13: Haanpää | C13: D | D13: 14 | E13: Kaisa Haanpää | F13: 1.3409091 | G13: #N/A | H13: #N/A | I13: 34 | J13: 32 | K13: 2 | L13: 66
A14: Ella | B14: Skog | C14: D | D14: 16 | E14: Ella Skog | F14: 1.2727273 | G14: #N/A | H14: 15 | I14: 28 | J14: 22 | K14: 3 | L14: 65
A15: Anna | B15: Kotkajuuri | C15: D | D15: 20 | E15: Anna Kotkajuuri | F15: 1.2045455 | G15: #N/A | H15: 34 | I15: 30 | J15: #N/A | K15: 2 | L15: 64
A16: Rosa | B16: Simola | C16: D | D16: 14 | E16: Rosa Simola | F16: 1.3409091 | G16: 20 | H16: 14 | I16: 22 | J16: 18 | K16: 4 | L16: 60
A17: Lotta | B17: Välkki | C17: D | D17: 14 | E17: Lotta Välkki | F17: 1.3409091 | G17: 12 | H17: 28 | I17: 3 | J17: 12 | K17: 4 | L17: 52
A18: Terttu | B18: Jalanto | C18: D | D18: 50 | E18: Terttu Jalanto | F18: 1.3863636 | G18: 18 | H18: #N/A | I18: 24 | J18: 7 | K18: 3 | L18: 49
A19: Reea | B19: Simola | C19: D | D19: 16 | E19: Reea Simola | F19: 1.2727273 | G19: 14 | H19: 5 | I19: 1 | J19: 26 | K19: 4 | L19: 45
A20: Silja | B20: Yli-Hietanen | C20: D | D20: 12 | E20: Silja Yli-Hietanen | F20: 1.4090909 | G20: 9 | H20: 20 | I20: 1 | J20: 12 | K20: 4 | L20: 41
A21: Terhi | B21: Rajamäki | C21: D | D21: 50 | E21: Terhi Rajamäki | F21: 1.3863636 | G21: 16 | H21: 1 | I21: 11 | J21: 14 | K21: 4 | L21: 41
A22: Sirkka-Liisa | B22: Lauronen | C22: D | D22: 35 | E22: Sirkka-Liisa Lauronen | F22: 1.2272727 | G22: #N/A | H22: #N/A | I22: 40 | J22: #N/A | K22: 1 | L22: 40
A23: Minna | B23: Konttila | C23: D | D23: 40 | E23: Minna Konttila | F23: 1.2727273 | G23: 9 | H23: 7 | I23: 18 | J23: 1 | K23: 4 | L23: 34
A24: Salla | B24: Saarijärvi | C24: D | D24: 18 | E24: Salla Saarijärvi | F24: 1.25 | G24: #N/A | H24: 16 | I24: 16 | J24: #N/A | K24: 2 | L24: 32
A25: Tuula | B25: Sani | C25: D | D25: 55 | E25: Tuula Sani | F25: 1.4772727 | G25: #N/A | H25: #N/A | I25: 1 | J25: 30 | K25: 2 | L25: 31
A26: Katri | B26: Niittymäki | C26: D | D26: 40 | E26: Katri Niittymäki | F26: 1.2727273 | G26: #N/A | H26: 11 | I26: 1 | J26: 18 | K26: 3 | L26: 30
A27: Sonja | B27: Kyrölä | C27: D | D27: 21 | E27: Sonja Kyrölä | F27: 1.1136364 | G27: 30 | H27: #N/A | I27: #N/A | J27: #N/A | K27: 1 | L27: 30
A28: Kati | B28: Haanpää | C28: D | D28: 40 | E28: Kati Haanpää | F28: 1.2727273 | G28: 3 | H28: 3 | I28: 16 | J28: 10 | K28: 4 | L28: 29
A29: Heli | B29: Ketola | C29: D | D29: 40 | E29: Heli Ketola | F29: 1.2727273 | G29: 15 | H29: #N/A | I29: #N/A | J29: 14 | K29: 2 | L29: 29
A30: Elo | B30: Saue | C30: D | D30: 40 | E30: Elo Saue | F30: 1.2727273 | G30: #N/A | H30: #N/A | I30: #N/A | J30: 28 | K30: 1 | L30: 28
A31: Riikka | B31: Eerola | C31: D | D31: 45 | E31: Riikka Eerola | F31: 1.3181818 | G31: 13 | H31: 6 | I31: 9 | J31: #N/A | K31: 3 | L31: 28
A32: Minna | B32: Saarinen | C32: D | D32: 21 | E32: Minna Saarinen | F32: 1.1136364 | G32: #N/A | H32: 13 | I32: 12 | J32: #N/A | K32: 2 | L32: 25
A33: Mervi | B33: Pesu | C33: D | D33: 40 | E33: Mervi Pesu | F33: 1.2727273 | G33: #N/A | H33: 24 | I33: #N/A | J33: #N/A | K33: 1 | L33: 24
A34: Vilma | B34: Annala | C34: D | D34: 16 | E34: Vilma Annala | F34: 1.2727273 | G34: 24 | H34: #N/A | I34: #N/A | J34: #N/A | K34: 1 | L34: 24
A35: Alma | B35: Toivonen | C35: D | D35: 20 | E35: Alma Toivonen | F35: 1.2045455 | G35: #N/A | H35: 22 | I35: #N/A | J35: #N/A | K35: 1 | L35: 22
A36: Miia | B36: Niittynen | C36: D | D36: 21 | E36: Miia Niittynen | F36: 1.1136364 | G36: 22 | H36: #N/A | I36: #N/A | J36: #N/A | K36: 1 | L36: 22
A37: Suvi | B37: Harju | C37: D | D37: 21 | E37: Suvi Harju | F37: 1.1136364 | G37: 1 | H37: 9 | I37: 10 | J37: 1 | K37: 4 | L37: 20
A38: Jutta | B38: Nurminen | C38: D | D38: 16 | E38: Jutta Nurminen | F38: 1.2727273 | G38: #N/A | H38: #N/A | I38: 20 | J38: #N/A | K38: 1 | L38: 20
A39: Kiia | B39: Isokallio | C39: D | D39: 16 | E39: Kiia Isokallio | F39: 1.2727273 | G39: #N/A | H39: #N/A | I39: 16 | J39: 2 | K39: 2 | L39: 18
A40: Idaliina | B40: Kuusisto | C40: D | D40: 14 | E40: Idaliina Kuusisto | F40: 1.3409091 | G40: 11 | H40: 1 | I40: #N/A | J40: 1 | K40: 3 | L40: 13
A41: Tuire | B41: Niemi | C41: D | D41: 60 | E41: Tuire Niemi | F41: 1.5909091 | G41: #N/A | H41: 8 | I41: 1 | J41: 4 | K41: 3 | L41: 13
A42: Marika | B42: Hara | C42: D | D42: 21 | E42: Marika Hara | F42: 1.1136364 | G42: #N/A | H42: 12 | I42: #N/A | J42: #N/A | K42: 1 | L42: 12
A43: Niina | B43: Papinsaari | C43: D | D43: 21 | E43: Niina Papinsaari | F43: 1.1136364 | G43: 1 | H43: 11 | I43: #N/A | J43: #N/A | K43: 2 | L43: 12
A44: Emmi | B44: Mähönen | C44: D | D44: 21 | E44: Emmi Mähönen | F44: 1.1136364 | G44: 11 | H44: #N/A | I44: #N/A | J44: #N/A | K44: 1 | L44: 11
A45: Essi | B45: Jalanto | C45: D | D45: 20 | E45: Essi Jalanto | F45: 1.2045455 | G45: #N/A | H45: #N/A | I45: 1 | J45: 10 | K45: 2 | L45: 11
A46: Tiina | B46: Äijälä | C46: D | D46: 50 | E46: Tiina Äijälä | F46: 1.3863636 | G46: 1 | H46: #N/A | I46: 9 | J46: #N/A | K46: 2 | L46: 10
A47: Mari | B47: Rintanen | C47: D | D47: 40 | E47: Mari Rintanen | F47: 1.2727273 | G47: 9 | H47: #N/A | I47: #N/A | J47: #N/A | K47: 1 | L47: 9
A48: Katri | B48: Kontio | C48: D | D48: 12 | E48: Katri Kontio | F48: 1.4090909 | G48: #N/A | H48: #N/A | I48: 7 | J48: 1 | K48: 2 | L48: 8
A49: Sonja | B49: Leinamo | C49: D | D49: 12 | E49: Sonja Leinamo | F49: 1.4090909 | G49: #N/A | H49: #N/A | I49: #N/A | J49: 8 | K49: 1 | L49: 8
A50: Rita | B50: Simola | C50: D | D50: 12 | E50: Rita Simola | F50: 1.4090909 | G50: 1 | H50: 1 | I50: 1 | J50: 5 | K50: 4 | L50: 7
A51: Minttu | B51: Paunu | C51: D | D51: 18 | E51: Minttu Paunu | F51: 1.25 | G51: 1 | H51: 1 | I51: 5 | J51: #N/A | K51: 3 | L51: 7
A52: Salla | B52: Mustonen | C52: D | D52: 14 | E52: Salla Mustonen | F52: 1.3409091 | G52: 1 | H52: #N/A | I52: 6 | J52: #N/A | K52: 2 | L52: 7
A53: Anni | B53: Kivilaakso | C53: D | D53: 18 | E53: Anni Kivilaakso | F53: 1.25 | G53: 6 | H53: #N/A | I53: #N/A | J53: #N/A | K53: 1 | L53: 6
A54: Anni | B54: Tanskanen | C54: D | D54: 15 | E54: Anni Tanskanen | F54: 1.2727273 | G54: #N/A | H54: #N/A | I54: #N/A | J54: 6 | K54: 1 | L54: 6
A55: Kira | B55: Holmala | C55: D | D55: 8 | E55: Kira Holmala | F55: 1.6590909 | G55: 1 | H55: 4 | I55: #N/A | J55: 1 | K55: 3 | L55: 6
A56: Heini | B56: Rintanen | C56: D | D56: 16 | E56: Heini Rintanen | F56: 1.2727273 | G56: 5 | H56: #N/A | I56: #N/A | J56: #N/A | K56: 1 | L56: 5
A57: Liisa | B57: Matinheikki | C57: D | D57: 10 | E57: Liisa Matinheikki | F57: 1.5 | G57: #N/A | H57: #N/A | I57: 4 | J57: 1 | K57: 2 | L57: 5
A58: Saija | B58: Laurila | C58: D | D58: 50 | E58: Saija Laurila | F58: 1.3863636 | G58: #N/A | H58: 1 | I58: 1 | J58: 3 | K58: 3 | L58: 5
A59: Heini | B59: Papinsaari | C59: D | D59: 21 | E59: Heini Papinsaari | F59: 1.1136364 | G59: 4 | H59: #N/A | I59: #N/A | J59: #N/A | K59: 1 | L59: 4
A60: Maija | B60: Yli-Hietanen | C60: D | D60: 40 | E60: Maija Yli-Hietanen | F60: 1.2727273 | G60: 1 | H60: 1 | I60: 1 | J60: 1 | K60: 4 | L60: 3
A61: Marika | B61: Aronen-Ketola | C61: D | D61: 45 | E61: Marika Aronen-Ketola | F61: 1.3181818 | G61: 1 | H61: 1 | I61: 1 | J61: 1 | K61: 4 | L61: 3
A62: Marita | B62: Kymäläinen | C62: D | D62: 50 | E62: Marita Kymäläinen | F62: 1.3863636 | G62: 1 | H62: 1 | I62: 1 | J62: 1 | K62: 4 | L62: 3
A63: Nina | B63: Viitala | C63: D | D63: 16 | E63: Nina Viitala | F63: 1.2727273 | G63: 1 | H63: 1 | I63: 1 | J63: 1 | K63: 4 | L63: 3
A64: Sanna | B64: Raunila | C64: D | D64: 35 | E64: Sanna Raunila | F64: 1.2272727 | G64: 1 | H64: 1 | I64: 1 | J64: 1 | K64: 4 | L64: 3
A65: Sini | B65: Viitala | C65: D | D65: 14 | E65: Sini Viitala | F65: 1.3409091 | G65: 1 | H65: 1 | I65: 1 | J65: 1 | K65: 4 | L65: 3
A66: Taina | B66: Koivisto | C66: D | D66: 55 | E66: Taina Koivisto | F66: 1.4772727 | G66: 1 | H66: 1 | I66: 1 | J66: 1 | K66: 4 | L66: 3
A67: Tuuli-Maija | B67: Stenman | C67: D | D67: 40 | E67: Tuuli-Maija Stenman | F67: 1.2727273 | G67: 1 | H67: 1 | I67: 1 | J67: 1 | K67: 4 | L67: 3
A68: Anneli | B68: Hautaniemi | C68: D | D68: 50 | E68: Anneli Hautaniemi | F68: 1.3863636 | G68: #N/A | H68: 1 | I68: 1 | J68: 1 | K68: 3 | L68: 3
A69: Hanni | B69: Koski | C69: D | D69: 8 | E69: Hanni Koski | F69: 1.6590909 | G69: 1 | H69: 1 | I69: #N/A | J69: 1 | K69: 3 | L69: 3
A70: Heli | B70: Annila | C70: D | D70: 50 | E70: Heli Annila | F70: 1.3863636 | G70: #N/A | H70: 1 | I70: 1 | J70: 1 | K70: 3 | L70: 3
A71: Hilla | B71: Toivanen | C71: D | D71: 18 | E71: Hilla Toivanen | F71: 1.25 | G71: 1 | H71: 1 | I71: #N/A | J71: 1 | K71: 3 | L71: 3
A72: Jenna | B72: Leipijärvi | C72: D | D72: 16 | E72: Jenna Leipijärvi | F72: 1.2727273 | G72: 1 | H72: 2 | I72: #N/A | J72: #N/A | K72: 2 | L72: 3
A73: Julia | B73: Hirvonen | C73: D | D73: 14 | E73: Julia Hirvonen | F73: 1.3409091 | G73: #N/A | H73: #N/A | I73: 2 | J73: 1 | K73: 2 | L73: 3
A74: Kaisa | B74: Takala | C74: D | D74: 10 | E74: Kaisa Takala | F74: 1.5 | G74: #N/A | H74: 1 | I74: 1 | J74: 1 | K74: 3 | L74: 3
A75: Katriina | B75: Nummela | C75: D | D75: 35 | E75: Katriina Nummela | F75: 1.2272727 | G75: 1 | H75: #N/A | I75: 1 | J75: 1 | K75: 3 | L75: 3
A76: Kristiina | B76: Oksanen | C76: D | D76: 45 | E76: Kristiina Oksanen | F76: 1.3181818 | G76: 1 | H76: 1 | I76: #N/A | J76: 1 | K76: 3 | L76: 3
A77: Merja | B77: Toivonen | C77: D | D77: 50 | E77: Merja Toivonen | F77: 1.3863636 | G77: 1 | H77: #N/A | I77: 1 | J77: 1 | K77: 3 | L77: 3
A78: Minttu | B78: Toivanen | C78: D | D78: 20 | E78: Minttu Toivanen | F78: 1.2045455 | G78: 1 | H78: 1 | I78: #N/A | J78: 1 | K78: 3 | L78: 3
A79: Sanna | B79: Matinheikki | C79: D | D79: 40 | E79: Sanna Matinheikki | F79: 1.2727273 | G79: #N/A | H79: 1 | I79: 1 | J79: 1 | K79: 3 | L79: 3
A80: Sirpa | B80: Papinsaari | C80: D | D80: 55 | E80: Sirpa Papinsaari | F80: 1.4772727 | G80: #N/A | H80: 1 | I80: 1 | J80: 1 | K80: 3 | L80: 3
A81: Tuula | B81: Toivanen | C81: D | D81: 55 | E81: Tuula Toivanen | F81: 1.4772727 | G81: 1 | H81: 1 | I81: #N/A | J81: 1 | K81: 3 | L81: 3
A82: Vilma | B82: Pesu | C82: D | D82: 12 | E82: Vilma Pesu | F82: 1.4090909 | G82: #N/A | H82: 1 | I82: 1 | J82: 1 | K82: 3 | L82: 3
A83: Anja | B83: Mäkelä | C83: D | D83: 50 | E83: Anja Mäkelä | F83: 1.3863636 | G83: 1 | H83: 1 | I83: #N/A | J83: #N/A | K83: 2 | L83: 2
A84: Anna-Reetta | B84: Reunanen | C84: D | D84: 18 | E84: Anna-Reetta Reunanen | F84: 1.25 | G84: 1 | H84: 1 | I84: #N/A | J84: #N/A | K84: 2 | L84: 2
A85: Eeva-Liisa | B85: Salonen | C85: D | D85: 40 | E85: Eeva-Liisa Salonen | F85: 1.2727273 | G85: #N/A | H85: 1 | I85: #N/A | J85: 1 | K85: 2 | L85: 2
A86: Ella | B86: Filppula | C86: D | D86: 12 | E86: Ella Filppula | F86: 1.4090909 | G86: #N/A | H86: #N/A | I86: 1 | J86: 1 | K86: 2 | L86: 2
A87: Elli-Noora | B87: Kamppuri | C87: D | D87: 18 | E87: Elli-Noora Kamppuri | F87: 1.25 | G87: 1 | H87: 1 | I87: #N/A | J87: #N/A | K87: 2 | L87: 2
A88: Elmiina | B88: Laakso | C88: D | D88: 10 | E88: Elmiina Laakso | F88: 1.5 | G88: #N/A | H88: 1 | I88: 1 | J88: #N/A | K88: 2 | L88: 2
A89: Helena | B89: Kajaala-Ylikoski | C89: D | D89: 55 | E89: Helena Kajaala-Ylikoski | F89: 1.4772727 | G89: 1 | H89: #N/A | I89: 1 | J89: #N/A | K89: 2 | L89: 2
A90: Ilona | B90: Tikkakoski | C90: D | D90: 12 | E90: Ilona Tikkakoski | F90: 1.4090909 | G90: 2 | H90: #N/A | I90: #N/A | J90: #N/A | K90: 1 | L90: 2
A91: Inka | B91: Joensivu | C91: D | D91: 12 | E91: Inka Joensivu | F91: 1.4090909 | G91: 1 | H91: 1 | I91: #N/A | J91: #N/A | K91: 2 | L91: 2
A92: Kati | B92: Kuusisto | C92: D | D92: 40 | E92: Kati Kuusisto | F92: 1.2727273 | G92: #N/A | H92: 1 | I92: #N/A | J92: 1 | K92: 2 | L92: 2
A93: Kirsi | B93: Kontio | C93: D | D93: 10 | E93: Kirsi Kontio | F93: 1.5 | G93: #N/A | H93: #N/A | I93: 1 | J93: 1 | K93: 2 | L93: 2
A94: Liisa | B94: Rajalampi | C94: D | D94: 50 | E94: Liisa Rajalampi | F94: 1.3863636 | G94: #N/A | H94: #N/A | I94: 1 | J94: 1 | K94: 2 | L94: 2
A95: Miia | B95: Tukiainen | C95: D | D95: 40 | E95: Miia Tukiainen | F95: 1.2727273 | G95: 1 | H95: 1 | I95: #N/A | J95: #N/A | K95: 2 | L95: 2
A96: Pihla | B96: Häkkinen | C96: D | D96: 12 | E96: Pihla Häkkinen | F96: 1.4090909 | G96: #N/A | H96: 1 | I96: 1 | J96: #N/A | K96: 2 | L96: 2
A97: Pirjo | B97: Giltig | C97: D | D97: 40 | E97: Pirjo Giltig | F97: 1.2727273 | G97: #N/A | H97: 1 | I97: 1 | J97: #N/A | K97: 2 | L97: 2
A98: Päivi | B98: Annila | C98: D | D98: 50 | E98: Päivi Annila | F98: 1.3863636 | G98: 1 | H98: 1 | I98: #N/A | J98: #N/A | K98: 2 | L98: 2
A99: Vuokko | B99: Jurvakainen | C99: D | D99: 21 | E99: Vuokko Jurvakainen | F99: 1.1136364 | G99: #N/A | H99: #N/A | I99: 1 | J99: 1 | K99: 2 | L99: 2
A100: Anna | B100: Mustajoki | C100: D | D100: 40 | E100: Anna Mustajoki | F100: 1.2727273 | G100: #N/A | H100: #N/A | I100: 1 | J100: #N/A | K100: 1 | L100: 1
...

Sheet ..

Sheet ....
A1: Osakilpailu | B1: 26.12.2014 | F1: TASOITUS | G1: 1 | H1: 2 | I1: 3 | J1: 4 | K1: Kisojen määrä | L1: pisteet | M1: pisteet, kun 4 kisaa
A2: Lotta | B2: Eerola | C2: D | D2: 14 | E2: =(A2&" "&B2) -> Lotta Eerola | F2: 1.3409091 | G2: =VLOOKUP($E2,'Kisa 1'!$C$5:$J$151,8,0) -> 50 | H2: =VLOOKUP(E2,'Kisa 2'!$C$5:$J$183,8,0) -> 43 | I2: =VLOOKUP(E2,'Kisa 3'!$B$3:$I$176,8,0) -> 46 | J2: =VLOOKUP(E2,'Kisa 4'!$J$2:$Q$195,8,0) -> 50 | K2: =COUNT(G2:J2) -> 4 | L2: =SUMIF(G2:J2,"<>#PUUTTUU!") -> 189 | M2: =SUBTOTAL(9,G2,I2,J2) -> 146
A3: Sari | B3: Saarijärvi | C3: D | D3: 45 | E3: =(A3&" "&B3) -> Sari Saarijärvi | F3: 1.3181818 | G3: =VLOOKUP($E3,'Kisa 1'!$C$5:$J$151,8,0) -> 43 | H3: =VLOOKUP(E3,'Kisa 2'!$C$5:$J$183,8,0) -> 50 | I3: =VLOOKUP(E3,'Kisa 3'!$B$3:$I$176,8,0) -> 50 | J3: =VLOOKUP(E3,'Kisa 4'!$J$2:$Q$195,8,0) -> 46 | K3: =COUNT(G3:J3) -> 4 | L3: =SUMIF(G3:J3,"<>#PUUTTUU!") -> 189 | M3: =SUBTOTAL(9,H3:J3) -> 146
A4: Hanna-Maija | B4: Koski | C4: D | D4: 35 | E4: =(A4&" "&B4) -> Hanna-Maija Koski | F4: 1.2272727 | G4: =VLOOKUP($E4,'Kisa 1'!$C$5:$J$151,8,0) -> 34 | H4: =VLOOKUP(E4,'Kisa 2'!$C$5:$J$183,8,0) -> 32 | I4: =VLOOKUP(E4,'Kisa 3'!$B$3:$I$176,8,0) -> 28 | J4: =VLOOKUP(E4,'Kisa 4'!$J$2:$Q$195,8,0) -> 40 | K4: =COUNT(G4:J4) -> 4 | L4: =SUMIF(G4:J4,"<>#PUUTTUU!") -> 134 | M4: =SUBTOTAL(9,G4,H4,J4) -> 106
A5: Sanni | B5: Kymäläinen | C5: D | D5: 20 | E5: =(A5&" "&B5) -> Sanni Kymäläinen | F5: 1.2045455 | G5: =VLOOKUP($E5,'Kisa 1'!$C$5:$J$151,8,0) -> 26 | H5: =VLOOKUP(E5,'Kisa 2'!$C$5:$J$183,8,0) -> 46 | I5: =VLOOKUP(E5,'Kisa 3'!$B$3:$I$176,8,0) -> 32 | J5: =VLOOKUP(E5,'Kisa 4'!$J$2:$Q$195,8,0) -> 24 | K5: =COUNT(G5:J5) -> 4 | L5: =SUMIF(G5:J5,"<>#PUUTTUU!") -> 128 | M5: =SUBTOTAL(9,G5:I5) -> 104
A6: Hilkka | B6: Lankia | C6: D | D6: 65 | E6: =(A6&" "&B6) -> Hilkka Lankia | F6: 1.7272727 | G6: =VLOOKUP($E6,'Kisa 1'!$C$5:$J$151,8,0) -> 40 | H6: =VLOOKUP(E6,'Kisa 2'!$C$5:$J$183,8,0) -> 30 | I6: =VLOOKUP(E6,'Kisa 3'!$B$3:$I$176,8,0) -> 13 | J6: =VLOOKUP(E6,'Kisa 4'!$J$2:$Q$195,8,0) -> 43 | K6: =COUNT(G6:J6) -> 4 | L6: =SUMIF(G6:J6,"<>#PUUTTUU!") -> 126 | M6: =SUBTOTAL(9,G6,H6,J6) -> 113
A7: Jaana | B7: Pietilä | C7: D | D7: 45 | E7: =(A7&" "&B7) -> Jaana Pietilä | F7: 1.3181818 | G7: =VLOOKUP($E7,'Kisa 1'!$C$5:$J$151,8,0) -> 46 | H7: =VLOOKUP(E7,'Kisa 2'!$C$5:$J$183,8,0) -> 40 | I7: =VLOOKUP(E7,'Kisa 3'!$B$3:$I$176,8,0) -> #N/A | J7: =VLOOKUP(E7,'Kisa 4'!$J$2:$Q$195,8,0) -> 34 | K7: =COUNT(G7:J7) -> 3 | L7: =SUMIF(G7:J7,"<>#PUUTTUU!") -> 120 | M7: 120
A8: Saara | B8: Yli-Hietanen | C8: D | D8: 14 | E8: =(A8&" "&B8) -> Saara Yli-Hietanen | F8: 1.3409091 | G8: =VLOOKUP($E8,'Kisa 1'!$C$5:$J$151,8,0) -> 28 | H8: =VLOOKUP(E8,'Kisa 2'!$C$5:$J$183,8,0) -> 18 | I8: =VLOOKUP(E8,'Kisa 3'!$B$3:$I$176,8,0) -> 37 | J8: =VLOOKUP(E8,'Kisa 4'!$J$2:$Q$195,8,0) -> 15 | K8: =COUNT(G8:J8) -> 4 | L8: =SUMIF(G8:J8,"<>#PUUTTUU!") -> 98 | M8: =SUBTOTAL(9,G8:I8) -> 83
A9: Salla | B9: Pitkänen | C9: D | D9: 16 | E9: =(A9&" "&B9) -> Salla Pitkänen | F9: 1.2727273 | G9: =VLOOKUP($E9,'Kisa 1'!$C$5:$J$151,8,0) -> #N/A | H9: =VLOOKUP(E9,'Kisa 2'!$C$5:$J$183,8,0) -> 26 | I9: =VLOOKUP(E9,'Kisa 3'!$B$3:$I$176,8,0) -> 43 | J9: =VLOOKUP(E9,'Kisa 4'!$J$2:$Q$195,8,0) -> 20 | K9: =COUNT(G9:J9) -> 3 | L9: =SUMIF(G9:J9,"<>#PUUTTUU!") -> 89 | M9: =SUMIF(H9:K9,"<>#PUUTTUU!") -> 92
A10: Anni | B10: Haanpää | C10: D | D10: 16 | E10: =(A10&" "&B10) -> Anni Haanpää | F10: 1.2727273 | G10: =VLOOKUP($E10,'Kisa 1'!$C$5:$J$151,8,0) -> 37 | H10: =VLOOKUP(E10,'Kisa 2'!$C$5:$J$183,8,0) -> 1 | I10: =VLOOKUP(E10,'Kisa 3'!$B$3:$I$176,8,0) -> #N/A | J10: =VLOOKUP(E10,'Kisa 4'!$J$2:$Q$195,8,0) -> 37 | K10: =COUNT(G10:J10) -> 3 | L10: =SUMIF(G10:J10,"<>#PUUTTUU!") -> 75 | M10: 75
A11: Rosa | B11: Simola | C11: D | D11: 14 | E11: =(A11&" "&B11) -> Rosa Simola | F11: 1.3409091 | G11: =VLOOKUP($E11,'Kisa 1'!$C$5:$J$151,8,0) -> 20 | H11: =VLOOKUP(E11,'Kisa 2'!$C$5:$J$183,8,0) -> 14 | I11: =VLOOKUP(E11,'Kisa 3'!$B$3:$I$176,8,0) -> 22 | J11: =VLOOKUP(E11,'Kisa 4'!$J$2:$Q$195,8,0) -> 18 | K11: =COUNT(G11:J11) -> 4 | L11: =SUMIF(G11:J11,"<>#PUUTTUU!") -> 74 | M11: =SUBTOTAL(9,G11,I11,J11) -> 60
A12: Laura | B12: Palm | C12: D | D12: 21 | E12: =(A12&" "&B12) -> Laura Palm | F12: 1.1136364 | G12: =VLOOKUP($E12,'Kisa 1'!$C$5:$J$151,8,0) -> 32 | H12: =VLOOKUP(E12,'Kisa 2'!$C$5:$J$183,8,0) -> 37 | I12: =VLOOKUP(E12,'Kisa 3'!$B$3:$I$176,8,0) -> 1 | J12: =VLOOKUP(E12,'Kisa 4'!$J$2:$Q$195,8,0) -> #N/A | K12: =COUNT(G12:J12) -> 3 | L12: =SUMIF(G12:J12,"<>#PUUTTUU!") -> 70 | M12: =SUMIF(H12:K12,"<>#PUUTTUU!") -> 41
A13: Kaisa | B13: Haanpää | C13: D | D13: 14 | E13: =(A13&" "&B13) -> Kaisa Haanpää | F13: 1.3409091 | G13: =VLOOKUP($E13,'Kisa 1'!$C$5:$J$151,8,0) -> #N/A | H13: =VLOOKUP(E13,'Kisa 2'!$C$5:$J$183,8,0) -> #N/A | I13: =VLOOKUP(E13,'Kisa 3'!$B$3:$I$176,8,0) -> 34 | J13: =VLOOKUP(E13,'Kisa 4'!$J$2:$Q$195,8,0) -> 32 | K13: =COUNT(G13:J13) -> 2 | L13: =SUMIF(G13:J13,"<>#PUUTTUU!") -> 66 | M13: =SUMIF(H13:K13,"<>#PUUTTUU!") -> 68
A14: Ella | B14: Skog | C14: D | D14: 16 | E14: =(A14&" "&B14) -> Ella Skog | F14: 1.2727273 | G14: =VLOOKUP($E14,'Kisa 1'!$C$5:$J$151,8,0) -> #N/A | H14: =VLOOKUP(E14,'Kisa 2'!$C$5:$J$183,8,0) -> 15 | I14: =VLOOKUP(E14,'Kisa 3'!$B$3:$I$176,8,0) -> 28 | J14: =VLOOKUP(E14,'Kisa 4'!$J$2:$Q$195,8,0) -> 22 | K14: =COUNT(G14:J14) -> 3 | L14: =SUMIF(G14:J14,"<>#PUUTTUU!") -> 65 | M14: =SUMIF(H14:K14,"<>#PUUTTUU!") -> 68
A15: Anna | B15: Kotkajuuri | C15: D | D15: 20 | E15: =(A15&" "&B15) -> Anna Kotkajuuri | F15: 1.2045455 | G15: =VLOOKUP($E15,'Kisa 1'!$C$5:$J$151,8,0) -> #N/A | H15: =VLOOKUP(E15,'Kisa 2'!$C$5:$J$183,8,0) -> 34 | I15: =VLOOKUP(E15,'Kisa 3'!$B$3:$I$176,8,0) -> 30 | J15: =VLOOKUP(E15,'Kisa 4'!$J$2:$Q$195,8,0) -> #N/A | K15: =COUNT(G15:J15) -> 2 | L15: =SUMIF(G15:J15,"<>#PUUTTUU!") -> 64 | M15: =SUMIF(H15:K15,"<>#PUUTTUU!") -> 66
A16: Lotta | B16: Välkki | C16: D | D16: 14 | E16: =(A16&" "&B16) -> Lotta Välkki | F16: 1.3409091 | G16: =VLOOKUP($E16,'Kisa 1'!$C$5:$J$151,8,0) -> 12 | H16: =VLOOKUP(E16,'Kisa 2'!$C$5:$J$183,8,0) -> 28 | I16: =VLOOKUP(E16,'Kisa 3'!$B$3:$I$176,8,0) -> 3 | J16: =VLOOKUP(E16,'Kisa 4'!$J$2:$Q$195,8,0) -> 11 | K16: =COUNT(G16:J16) -> 4 | L16: =SUMIF(G16:J16,"<>#PUUTTUU!") -> 54 | M16: =SUBTOTAL(9,G16:H16,J16) -> 51
A17: Terttu | B17: Jalanto | C17: D | D17: 50 | E17: =(A17&" "&B17) -> Terttu Jalanto | F17: 1.3863636 | G17: =VLOOKUP($E17,'Kisa 1'!$C$5:$J$151,8,0) -> 18 | H17: =VLOOKUP(E17,'Kisa 2'!$C$5:$J$183,8,0) -> #N/A | I17: =VLOOKUP(E17,'Kisa 3'!$B$3:$I$176,8,0) -> 24 | J17: =VLOOKUP(E17,'Kisa 4'!$J$2:$Q$195,8,0) -> 7 | K17: =COUNT(G17:J17) -> 3 | L17: =SUMIF(G17:J17,"<>#PUUTTUU!") -> 49 | M17: =SUMIF(H17:K17,"<>#PUUTTUU!") -> 34
A18: Reea | B18: Simola | C18: D | D18: 16 | E18: =(A18&" "&B18) -> Reea Simola | F18: 1.2727273 | G18: =VLOOKUP($E18,'Kisa 1'!$C$5:$J$151,8,0) -> 14 | H18: =VLOOKUP(E18,'Kisa 2'!$C$5:$J$183,8,0) -> 5 | I18: =VLOOKUP(E18,'Kisa 3'!$B$3:$I$176,8,0) -> 1 | J18: =VLOOKUP(E18,'Kisa 4'!$J$2:$Q$195,8,0) -> 26 | K18: =COUNT(G18:J18) -> 4 | L18: =SUMIF(G18:J18,"<>#PUUTTUU!") -> 46 | M18: =SUBTOTAL(9,G18,H18,J18) -> 45
A19: Terhi | B19: Rajamäki | C19: D | D19: 50 | E19: =(A19&" "&B19) -> Terhi Rajamäki | F19: 1.3863636 | G19: =VLOOKUP($E19,'Kisa 1'!$C$5:$J$151,8,0) -> 16 | H19: =VLOOKUP(E19,'Kisa 2'!$C$5:$J$183,8,0) -> 1 | I19: =VLOOKUP(E19,'Kisa 3'!$B$3:$I$176,8,0) -> 11 | J19: =VLOOKUP(E19,'Kisa 4'!$J$2:$Q$195,8,0) -> 14 | K19: =COUNT(G19:J19) -> 4 | L19: =SUMIF(G19:J19,"<>#PUUTTUU!") -> 42 | M19: =SUBTOTAL(9,G19,I19:J19) -> 41
A20: Silja | B20: Yli-Hietanen | C20: D | D20: 12 | E20: =(A20&" "&B20) -> Silja Yli-Hietanen | F20: 1.4090909 | G20: =VLOOKUP($E20,'Kisa 1'!$C$5:$J$151,8,0) -> 8 | H20: =VLOOKUP(E20,'Kisa 2'!$C$5:$J$183,8,0) -> 20 | I20: =VLOOKUP(E20,'Kisa 3'!$B$3:$I$176,8,0) -> 1 | J20: =VLOOKUP(E20,'Kisa 4'!$J$2:$Q$195,8,0) -> 12 | K20: =COUNT(G20:J20) -> 4 | L20: =SUMIF(G20:J20,"<>#PUUTTUU!") -> 41 | M20: =SUBTOTAL(9,G20:H20,J20) -> 40
A21: Sirkka-Liisa | B21: Lauronen | C21: D | D21: 35 | E21: =(A21&" "&B21) -> Sirkka-Liisa Lauronen | F21: 1.2272727 | G21: =VLOOKUP($E21,'Kisa 1'!$C$5:$J$151,8,0) -> #N/A | H21: =VLOOKUP(E21,'Kisa 2'!$C$5:$J$183,8,0) -> #N/A | I21: =VLOOKUP(E21,'Kisa 3'!$B$3:$I$176,8,0) -> 40 | J21: =VLOOKUP(E21,'Kisa 4'!$J$2:$Q$195,8,0) -> #N/A | K21: =COUNT(G21:J21) -> 1 | L21: =SUMIF(G21:J21,"<>#PUUTTUU!") -> 40 | M21: 40
A22: Minna | B22: Konttila | C22: D | D22: 40 | E22: =(A22&" "&B22) -> Minna Konttila | F22: 1.2727273 | G22: =VLOOKUP($E22,'Kisa 1'!$C$5:$J$151,8,0) -> 9 | H22: =VLOOKUP(E22,'Kisa 2'!$C$5:$J$183,8,0) -> 7 | I22: =VLOOKUP(E22,'Kisa 3'!$B$3:$I$176,8,0) -> 18 | J22: =VLOOKUP(E22,'Kisa 4'!$J$2:$Q$195,8,0) -> 1 | K22: =COUNT(G22:J22) -> 4 | L22: =SUMIF(G22:J22,"<>#PUUTTUU!") -> 35 | M22: =SUBTOTAL(9,G22:I22) -> 34
A23: Salla | B23: Saarijärvi | C23: D | D23: 18 | E23: =(A23&" "&B23) -> Salla Saarijärvi | F23: 1.25 | G23: =VLOOKUP($E23,'Kisa 1'!$C$5:$J$151,8,0) -> #N/A | H23: =VLOOKUP(E23,'Kisa 2'!$C$5:$J$183,8,0) -> 16 | I23: =VLOOKUP(E23,'Kisa 3'!$B$3:$I$176,8,0) -> 16 | J23: =VLOOKUP(E23,'Kisa 4'!$J$2:$Q$195,8,0) -> #N/A | K23: =COUNT(G23:J23) -> 2 | L23: =SUMIF(G23:J23,"<>#PUUTTUU!") -> 32 | M23: 32
A24: Tuula | B24: Sani | C24: D | D24: 55 | E24: =(A24&" "&B24) -> Tuula Sani | F24: 1.4772727 | G24: =VLOOKUP($E24,'Kisa 1'!$C$5:$J$151,8,0) -> #N/A | H24: =VLOOKUP(E24,'Kisa 2'!$C$5:$J$183,8,0) -> #N/A | I24: =VLOOKUP(E24,'Kisa 3'!$B$3:$I$176,8,0) -> 1 | J24: =VLOOKUP(E24,'Kisa 4'!$J$2:$Q$195,8,0) -> 30 | K24: =COUNT(G24:J24) -> 2 | L24: =SUMIF(G24:J24,"<>#PUUTTUU!") -> 31 | M24: 31
A25: Sonja | B25: Kyrölä | C25: D | D25: 21 | E25: =(A25&" "&B25) -> Sonja Kyrölä | F25: 1.1136364 | G25: =VLOOKUP($E25,'Kisa 1'!$C$5:$J$151,8,0) -> 30 | H25: =VLOOKUP(E25,'Kisa 2'!$C$5:$J$183,8,0) -> #N/A | I25: =VLOOKUP(E25,'Kisa 3'!$B$3:$I$176,8,0) -> #N/A | J25: =VLOOKUP(E25,'Kisa 4'!$J$2:$Q$195,8,0) -> #N/A | K25: =COUNT(G25:J25) -> 1 | L25: =SUMIF(G25:J25,"<>#PUUTTUU!") -> 30 | M25: 30
A26: Kati | B26: Haanpää | C26: D | D26: 40 | E26: =(A26&" "&B26) -> Kati Haanpää | F26: 1.2727273 | G26: =VLOOKUP($E26,'Kisa 1'!$C$5:$J$151,8,0) -> 3 | H26: =VLOOKUP(E26,'Kisa 2'!$C$5:$J$183,8,0) -> 3 | I26: =VLOOKUP(E26,'Kisa 3'!$B$3:$I$176,8,0) -> 14 | J26: =VLOOKUP(E26,'Kisa 4'!$J$2:$Q$195,8,0) -> 9 | K26: =COUNT(G26:J26) -> 4 | L26: =SUMIF(G26:J26,"<>#PUUTTUU!") -> 29 | M26: =SUBTOTAL(9,H26:J26) -> 26
A27: Elo | B27: Saue | C27: D | D27: 40 | E27: =(A27&" "&B27) -> Elo Saue | F27: 1.2727273 | G27: =VLOOKUP($E27,'Kisa 1'!$C$5:$J$151,8,0) -> #N/A | H27: =VLOOKUP(E27,'Kisa 2'!$C$5:$J$183,8,0) -> #N/A | I27: =VLOOKUP(E27,'Kisa 3'!$B$3:$I$176,8,0) -> #N/A | J27: =VLOOKUP(E27,'Kisa 4'!$J$2:$Q$195,8,0) -> 28 | K27: =COUNT(G27:J27) -> 1 | L27: =SUMIF(G27:J27,"<>#PUUTTUU!") -> 28 | M27: 28
A28: Heli | B28: Ketola | C28: D | D28: 40 | E28: =(A28&" "&B28) -> Heli Ketola | F28: 1.2727273 | G28: =VLOOKUP($E28,'Kisa 1'!$C$5:$J$151,8,0) -> 15 | H28: =VLOOKUP(E28,'Kisa 2'!$C$5:$J$183,8,0) -> #N/A | I28: =VLOOKUP(E28,'Kisa 3'!$B$3:$I$176,8,0) -> #N/A | J28: =VLOOKUP(E28,'Kisa 4'!$J$2:$Q$195,8,0) -> 13 | K28: =COUNT(G28:J28) -> 2 | L28: =SUMIF(G28:J28,"<>#PUUTTUU!") -> 28 | M28: 28
A29: Katri | B29: Niittymäki | C29: D | D29: 40 | E29: =(A29&" "&B29) -> Katri Niittymäki | F29: 1.2727273 | G29: =VLOOKUP($E29,'Kisa 1'!$C$5:$J$151,8,0) -> #N/A | H29: =VLOOKUP(E29,'Kisa 2'!$C$5:$J$183,8,0) -> 11 | I29: =VLOOKUP(E29,'Kisa 3'!$B$3:$I$176,8,0) -> 1 | J29: =VLOOKUP(E29,'Kisa 4'!$J$2:$Q$195,8,0) -> 16 | K29: =COUNT(G29:J29) -> 3 | L29: =SUMIF(G29:J29,"<>#PUUTTUU!") -> 28 | M29: 28
A30: Riikka | B30: Eerola | C30: D | D30: 45 | E30: =(A30&" "&B30) -> Riikka Eerola | F30: 1.3181818 | G30: =VLOOKUP($E30,'Kisa 1'!$C$5:$J$151,8,0) -> 13 | H30: =VLOOKUP(E30,'Kisa 2'!$C$5:$J$183,8,0) -> 6 | I30: =VLOOKUP(E30,'Kisa 3'!$B$3:$I$176,8,0) -> 9 | J30: =VLOOKUP(E30,'Kisa 4'!$J$2:$Q$195,8,0) -> #N/A | K30: =COUNT(G30:J30) -> 3 | L30: =SUMIF(G30:J30,"<>#PUUTTUU!") -> 28 | M30: 28
A31: Minna | B31: Saarinen | C31: D | D31: 21 | E31: =(A31&" "&B31) -> Minna Saarinen | F31: 1.1136364 | G31: =VLOOKUP($E31,'Kisa 1'!$C$5:$J$151,8,0) -> #N/A | H31: =VLOOKUP(E31,'Kisa 2'!$C$5:$J$183,8,0) -> 13 | I31: =VLOOKUP(E31,'Kisa 3'!$B$3:$I$176,8,0) -> 12 | J31: =VLOOKUP(E31,'Kisa 4'!$J$2:$Q$195,8,0) -> #N/A | K31: =COUNT(G31:J31) -> 2 | L31: =SUMIF(G31:J31,"<>#PUUTTUU!") -> 25 | M31: 25
A32: Mervi | B32: Pesu | C32: D | D32: 40 | E32: =(A32&" "&B32) -> Mervi Pesu | F32: 1.2727273 | G32: =VLOOKUP($E32,'Kisa 1'!$C$5:$J$151,8,0) -> #N/A | H32: =VLOOKUP(E32,'Kisa 2'!$C$5:$J$183,8,0) -> 24 | I32: =VLOOKUP(E32,'Kisa 3'!$B$3:$I$176,8,0) -> #N/A | J32: =VLOOKUP(E32,'Kisa 4'!$J$2:$Q$195,8,0) -> #N/A | K32: =COUNT(G32:J32) -> 1 | L32: =SUMIF(G32:J32,"<>#PUUTTUU!") -> 24 | M32: 24
A33: Vilma | B33: Annala | C33: D | D33: 16 | E33: =(A33&" "&B33) -> Vilma Annala | F33: 1.2727273 | G33: =VLOOKUP($E33,'Kisa 1'!$C$5:$J$151,8,0) -> 24 | H33: =VLOOKUP(E33,'Kisa 2'!$C$5:$J$183,8,0) -> #N/A | I33: =VLOOKUP(E33,'Kisa 3'!$B$3:$I$176,8,0) -> #N/A | J33: =VLOOKUP(E33,'Kisa 4'!$J$2:$Q$195,8,0) -> #N/A | K33: =COUNT(G33:J33) -> 1 | L33: =SUMIF(G33:J33,"<>#PUUTTUU!") -> 24 | M33: 24
A34: Alma | B34: Toivonen | C34: D | D34: 20 | E34: =(A34&" "&B34) -> Alma Toivonen | F34: 1.2045455 | G34: =VLOOKUP($E34,'Kisa 1'!$C$5:$J$151,8,0) -> #N/A | H34: =VLOOKUP(E34,'Kisa 2'!$C$5:$J$183,8,0) -> 22 | I34: =VLOOKUP(E34,'Kisa 3'!$B$3:$I$176,8,0) -> #N/A | J34: =VLOOKUP(E34,'Kisa 4'!$J$2:$Q$195,8,0) -> #N/A | K34: =COUNT(G34:J34) -> 1 | L34: =SUMIF(G34:J34,"<>#PUUTTUU!") -> 22 | M34: 22
A35: Miia | B35: Niittynen | C35: D | D35: 21 | E35: =(A35&" "&B35) -> Miia Niittynen | F35: 1.1136364 | G35: =VLOOKUP($E35,'Kisa 1'!$C$5:$J$151,8,0) -> 22 | H35: =VLOOKUP(E35,'Kisa 2'!$C$5:$J$183,8,0) -> #N/A | I35: =VLOOKUP(E35,'Kisa 3'!$B$3:$I$176,8,0) -> #N/A | J35: =VLOOKUP(E35,'Kisa 4'!$J$2:$Q$195,8,0) -> #N/A | K35: =COUNT(G35:J35) -> 1 | L35: =SUMIF(G35:J35,"<>#PUUTTUU!") -> 22 | M35: 22
A36: Suvi | B36: Harju | C36: D | D36: 21 | E36: =(A36&" "&B36) -> Suvi Harju | F36: 1.1136364 | G36: =VLOOKUP($E36,'Kisa 1'!$C$5:$J$151,8,0) -> 1 | H36: =VLOOKUP(E36,'Kisa 2'!$C$5:$J$183,8,0) -> 9 | I36: =VLOOKUP(E36,'Kisa 3'!$B$3:$I$176,8,0) -> 10 | J36: =VLOOKUP(E36,'Kisa 4'!$J$2:$Q$195,8,0) -> 1 | K36: =COUNT(G36:J36) -> 4 | L36: =SUMIF(G36:J36,"<>#PUUTTUU!") -> 21 | M36: =SUBTOTAL(9,H36:J36) -> 20
A37: Jutta | B37: Nurminen | C37: D | D37: 16 | E37: =(A37&" "&B37) -> Jutta Nurminen | F37: 1.2727273 | G37: =VLOOKUP($E37,'Kisa 1'!$C$5:$J$151,8,0) -> #N/A | H37: =VLOOKUP(E37,'Kisa 2'!$C$5:$J$183,8,0) -> #N/A | I37: =VLOOKUP(E37,'Kisa 3'!$B$3:$I$176,8,0) -> 20 | J37: =VLOOKUP(E37,'Kisa 4'!$J$2:$Q$195,8,0) -> #N/A | K37: =COUNT(G37:J37) -> 1 | L37: =SUMIF(G37:J37,"<>#PUUTTUU!") -> 20 | M37: 20
A38: Kiia | B38: Isokallio | C38: D | D38: 16 | E38: =(A38&" "&B38) -> Kiia Isokallio | F38: 1.2727273 | G38: =VLOOKUP($E38,'Kisa 1'!$C$5:$J$151,8,0) -> #N/A | H38: =VLOOKUP(E38,'Kisa 2'!$C$5:$J$183,8,0) -> #N/A | I38: =VLOOKUP(E38,'Kisa 3'!$B$3:$I$176,8,0) -> 15 | J38: =VLOOKUP(E38,'Kisa 4'!$J$2:$Q$195,8,0) -> 2 | K38: =COUNT(G38:J38) -> 2 | L38: =SUMIF(G38:J38,"<>#PUUTTUU!") -> 17 | M38: 17
A39: Idaliina | B39: Kuusisto | C39: D | D39: 14 | E39: =(A39&" "&B39) -> Idaliina Kuusisto | F39: 1.3409091 | G39: =VLOOKUP($E39,'Kisa 1'!$C$5:$J$151,8,0) -> 11 | H39: =VLOOKUP(E39,'Kisa 2'!$C$5:$J$183,8,0) -> 1 | I39: =VLOOKUP(E39,'Kisa 3'!$B$3:$I$176,8,0) -> #N/A | J39: =VLOOKUP(E39,'Kisa 4'!$J$2:$Q$195,8,0) -> 1 | K39: =COUNT(G39:J39) -> 3 | L39: =SUMIF(G39:J39,"<>#PUUTTUU!") -> 13 | M39: 13
A40: Tuire | B40: Niemi | C40: D | D40: 60 | E40: =(A40&" "&B40) -> Tuire Niemi | F40: 1.5909091 | G40: =VLOOKUP($E40,'Kisa 1'!$C$5:$J$151,8,0) -> #N/A | H40: =VLOOKUP(E40,'Kisa 2'!$C$5:$J$183,8,0) -> 8 | I40: =VLOOKUP(E40,'Kisa 3'!$B$3:$I$176,8,0) -> 1 | J40: =VLOOKUP(E40,'Kisa 4'!$J$2:$Q$195,8,0) -> 4 | K40: =COUNT(G40:J40) -> 3 | L40: =SUMIF(G40:J40,"<>#PUUTTUU!") -> 13 | M40: 13
A41: Marika | B41: Hara | C41: D | D41: 21 | E41: =(A41&" "&B41) -> Marika Hara | F41: 1.1136364 | G41: =VLOOKUP($E41,'Kisa 1'!$C$5:$J$151,8,0) -> #N/A | H41: =VLOOKUP(E41,'Kisa 2'!$C$5:$J$183,8,0) -> 12 | I41: =VLOOKUP(E41,'Kisa 3'!$B$3:$I$176,8,0) -> #N/A | J41: =VLOOKUP(E41,'Kisa 4'!$J$2:$Q$195,8,0) -> #N/A | K41: =COUNT(G41:J41) -> 1 | L41: =SUMIF(G41:J41,"<>#PUUTTUU!") -> 12 | M41: 12
A42: Niina | B42: Papinsaari | C42: D | D42: 21 | E42: =(A42&" "&B42) -> Niina Papinsaari | F42: 1.1136364 | G42: =VLOOKUP($E42,'Kisa 1'!$C$5:$J$151,8,0) -> 1 | H42: =VLOOKUP(E42,'Kisa 2'!$C$5:$J$183,8,0) -> 11 | I42: =VLOOKUP(E42,'Kisa 3'!$B$3:$I$176,8,0) -> #N/A | J42: =VLOOKUP(E42,'Kisa 4'!$J$2:$Q$195,8,0) -> #N/A | K42: =COUNT(G42:J42) -> 2 | L42: =SUMIF(G42:J42,"<>#PUUTTUU!") -> 12 | M42: 12
A43: Essi | B43: Jalanto | C43: D | D43: 20 | E43: =(A43&" "&B43) -> Essi Jalanto | F43: 1.2045455 | G43: =VLOOKUP($E43,'Kisa 1'!$C$5:$J$151,8,0) -> #N/A | H43: =VLOOKUP(E43,'Kisa 2'!$C$5:$J$183,8,0) -> #N/A | I43: =VLOOKUP(E43,'Kisa 3'!$B$3:$I$176,8,0) -> 1 | J43: =VLOOKUP(E43,'Kisa 4'!$J$2:$Q$195,8,0) -> 10 | K43: =COUNT(G43:J43) -> 2 | L43: =SUMIF(G43:J43,"<>#PUUTTUU!") -> 11 | M43: 11
A44: Emmi | B44: Mähönen | C44: D | D44: 21 | E44: =(A44&" "&B44) -> Emmi Mähönen | F44: 1.1136364 | G44: =VLOOKUP($E44,'Kisa 1'!$C$5:$J$151,8,0) -> 10 | H44: =VLOOKUP(E44,'Kisa 2'!$C$5:$J$183,8,0) -> #N/A | I44: =VLOOKUP(E44,'Kisa 3'!$B$3:$I$176,8,0) -> #N/A | J44: =VLOOKUP(E44,'Kisa 4'!$J$2:$Q$195,8,0) -> #N/A | K44: =COUNT(G44:J44) -> 1 | L44: =SUMIF(G44:J44,"<>#PUUTTUU!") -> 10 | M44: 10
A45: Tiina | B45: Äijälä | C45: D | D45: 50 | E45: =(A45&" "&B45) -> Tiina Äijälä | F45: 1.3863636 | G45: =VLOOKUP($E45,'Kisa 1'!$C$5:$J$151,8,0) -> 1 | H45: =VLOOKUP(E45,'Kisa 2'!$C$5:$J$183,8,0) -> #N/A | I45: =VLOOKUP(E45,'Kisa 3'!$B$3:$I$176,8,0) -> 8 | J45: =VLOOKUP(E45,'Kisa 4'!$J$2:$Q$195,8,0) -> #N/A | K45: =COUNT(G45:J45) -> 2 | L45: =SUMIF(G45:J45,"<>#PUUTTUU!") -> 9 | M45: 9
A46: Katri | B46: Kontio | C46: D | D46: 12 | E46: =(A46&" "&B46) -> Katri Kontio | F46: 1.4090909 | G46: =VLOOKUP($E46,'Kisa 1'!$C$5:$J$151,8,0) -> #N/A | H46: =VLOOKUP(E46,'Kisa 2'!$C$5:$J$183,8,0) -> #N/A | I46: =VLOOKUP(E46,'Kisa 3'!$B$3:$I$176,8,0) -> 7 | J46: =VLOOKUP(E46,'Kisa 4'!$J$2:$Q$195,8,0) -> 1 | K46: =COUNT(G46:J46) -> 2 | L46: =SUMIF(G46:J46,"<>#PUUTTUU!") -> 8 | M46: 8
A47: Rita | B47: Simola | C47: D | D47: 12 | E47: =(A47&" "&B47) -> Rita Simola | F47: 1.4090909 | G47: =VLOOKUP($E47,'Kisa 1'!$C$5:$J$151,8,0) -> 1 | H47: =VLOOKUP(E47,'Kisa 2'!$C$5:$J$183,8,0) -> 1 | I47: =VLOOKUP(E47,'Kisa 3'!$B$3:$I$176,8,0) -> 1 | J47: =VLOOKUP(E47,'Kisa 4'!$J$2:$Q$195,8,0) -> 5 | K47: =COUNT(G47:J47) -> 4 | L47: =SUMIF(G47:J47,"<>#PUUTTUU!") -> 8 | M47: =SUBTOTAL(9,H47:J47) -> 7
A48: Sonja | B48: Leinamo | C48: D | D48: 12 | E48: =(A48&" "&B48) -> Sonja Leinamo | F48: 1.4090909 | G48: =VLOOKUP($E48,'Kisa 1'!$C$5:$J$151,8,0) -> #N/A | H48: =VLOOKUP(E48,'Kisa 2'!$C$5:$J$183,8,0) -> #N/A | I48: =VLOOKUP(E48,'Kisa 3'!$B$3:$I$176,8,0) -> #N/A | J48: =VLOOKUP(E48,'Kisa 4'!$J$2:$Q$195,8,0) -> 8 | K48: =COUNT(G48:J48) -> 1 | L48: =SUMIF(G48:J48,"<>#PUUTTUU!") -> 8 | M48: 8
A49: Mari | B49: Rintanen | C49: D | D49: 40 | E49: =(A49&" "&B49) -> Mari Rintanen | F49: 1.2727273 | G49: =VLOOKUP($E49,'Kisa 1'!$C$5:$J$151,8,0) -> 7 | H49: =VLOOKUP(E49,'Kisa 2'!$C$5:$J$183,8,0) -> #N/A | I49: =VLOOKUP(E49,'Kisa 3'!$B$3:$I$176,8,0) -> #N/A | J49: =VLOOKUP(E49,'Kisa 4'!$J$2:$Q$195,8,0) -> #N/A | K49: =COUNT(G49:J49) -> 1 | L49: =SUMIF(G49:J49,"<>#PUUTTUU!") -> 7 | M49: 7
A50: Minttu | B50: Paunu | C50: D | D50: 18 | E50: =(A50&" "&B50) -> Minttu Paunu | F50: 1.25 | G50: =VLOOKUP($E50,'Kisa 1'!$C$5:$J$151,8,0) -> 1 | H50: =VLOOKUP(E50,'Kisa 2'!$C$5:$J$183,8,0) -> 1 | I50: =VLOOKUP(E50,'Kisa 3'!$B$3:$I$176,8,0) -> 5 | J50: =VLOOKUP(E50,'Kisa 4'!$J$2:$Q$195,8,0) -> #N/A | K50: =COUNT(G50:J50) -> 3 | L50: =SUMIF(G50:J50,"<>#PUUTTUU!") -> 7 | M50: 7
A51: Salla | B51: Mustonen | C51: D | D51: 14 | E51: =(A51&" "&B51) -> Salla Mustonen | F51: 1.3409091 | G51: =VLOOKUP($E51,'Kisa 1'!$C$5:$J$151,8,0) -> 1 | H51: =VLOOKUP(E51,'Kisa 2'!$C$5:$J$183,8,0) -> #N/A | I51: =VLOOKUP(E51,'Kisa 3'!$B$3:$I$176,8,0) -> 6 | J51: =VLOOKUP(E51,'Kisa 4'!$J$2:$Q$195,8,0) -> #N/A | K51: =COUNT(G51:J51) -> 2 | L51: =SUMIF(G51:J51,"<>#PUUTTUU!") -> 7 | M51: 7
A52: Anni | B52: Kivilaakso | C52: D | D52: 18 | E52: =(A52&" "&B52) -> Anni Kivilaakso | F52: 1.25 | G52: =VLOOKUP($E52,'Kisa 1'!$C$5:$J$151,8,0) -> 6 | H52: =VLOOKUP(E52,'Kisa 2'!$C$5:$J$183,8,0) -> #N/A | I52: =VLOOKUP(E52,'Kisa 3'!$B$3:$I$176,8,0) -> #N/A | J52: =VLOOKUP(E52,'Kisa 4'!$J$2:$Q$195,8,0) -> #N/A | K52: =COUNT(G52:J52) -> 1 | L52: =SUMIF(G52:J52,"<>#PUUTTUU!") -> 6 | M52: 6
A53: Anni | B53: Tanskanen | C53: D | D53: 15 | E53: =(A53&" "&B53) -> Anni Tanskanen | F53: 1.2727273 | G53: =VLOOKUP($E53,'Kisa 1'!$C$5:$J$151,8,0) -> #N/A | H53: =VLOOKUP(E53,'Kisa 2'!$C$5:$J$183,8,0) -> #N/A | I53: =VLOOKUP(E53,'Kisa 3'!$B$3:$I$176,8,0) -> #N/A | J53: =VLOOKUP(E53,'Kisa 4'!$J$2:$Q$195,8,0) -> 6 | K53: =COUNT(G53:J53) -> 1 | L53: =SUMIF(G53:J53,"<>#PUUTTUU!") -> 6 | M53: 6
A54: Kira | B54: Holmala | C54: D | D54: 8 | E54: =(A54&" "&B54) -> Kira Holmala | F54: 1.6590909 | G54: =VLOOKUP($E54,'Kisa 1'!$C$5:$J$151,8,0) -> 1 | H54: =VLOOKUP(E54,'Kisa 2'!$C$5:$J$183,8,0) -> 4 | I54: =VLOOKUP(E54,'Kisa 3'!$B$3:$I$176,8,0) -> #N/A | J54: =VLOOKUP(E54,'Kisa 4'!$J$2:$Q$195,8,0) -> 1 | K54: =COUNT(G54:J54) -> 3 | L54: =SUMIF(G54:J54,"<>#PUUTTUU!") -> 6 | M54: 6
A55: Heini | B55: Rintanen | C55: D | D55: 16 | E55: =(A55&" "&B55) -> Heini Rintanen | F55: 1.2727273 | G55: =VLOOKUP($E55,'Kisa 1'!$C$5:$J$151,8,0) -> 5 | H55: =VLOOKUP(E55,'Kisa 2'!$C$5:$J$183,8,0) -> #N/A | I55: =VLOOKUP(E55,'Kisa 3'!$B$3:$I$176,8,0) -> #N/A | J55: =VLOOKUP(E55,'Kisa 4'!$J$2:$Q$195,8,0) -> #N/A | K55: =COUNT(G55:J55) -> 1 | L55: =SUMIF(G55:J55,"<>#PUUTTUU!") -> 5 | M55: 5
A56: Liisa | B56: Matinheikki | C56: D | D56: 10 | E56: =(A56&" "&B56) -> Liisa Matinheikki | F56: 1.5 | G56: =VLOOKUP($E56,'Kisa 1'!$C$5:$J$151,8,0) -> #N/A | H56: =VLOOKUP(E56,'Kisa 2'!$C$5:$J$183,8,0) -> #N/A | I56: =VLOOKUP(E56,'Kisa 3'!$B$3:$I$176,8,0) -> 4 | J56: =VLOOKUP(E56,'Kisa 4'!$J$2:$Q$195,8,0) -> 1 | K56: =COUNT(G56:J56) -> 2 | L56: =SUMIF(G56:J56,"<>#PUUTTUU!") -> 5 | M56: 5
A57: Saija | B57: Laurila | C57: D | D57: 50 | E57: =(A57&" "&B57) -> Saija Laurila | F57: 1.3863636 | G57: =VLOOKUP($E57,'Kisa 1'!$C$5:$J$151,8,0) -> #N/A | H57: =VLOOKUP(E57,'Kisa 2'!$C$5:$J$183,8,0) -> 1 | I57: =VLOOKUP(E57,'Kisa 3'!$B$3:$I$176,8,0) -> 1 | J57: =VLOOKUP(E57,'Kisa 4'!$J$2:$Q$195,8,0) -> 3 | K57: =COUNT(G57:J57) -> 3 | L57: =SUMIF(G57:J57,"<>#PUUTTUU!") -> 5 | M57: 5
A58: Heini | B58: Papinsaari | C58: D | D58: 21 | E58: =(A58&" "&B58) -> Heini Papinsaari | F58: 1.1136364 | G58: =VLOOKUP($E58,'Kisa 1'!$C$5:$J$151,8,0) -> 4 | H58: =VLOOKUP(E58,'Kisa 2'!$C$5:$J$183,8,0) -> #N/A | I58: =VLOOKUP(E58,'Kisa 3'!$B$3:$I$176,8,0) -> #N/A | J58: =VLOOKUP(E58,'Kisa 4'!$J$2:$Q$195,8,0) -> #N/A | K58: =COUNT(G58:J58) -> 1 | L58: =SUMIF(G58:J58,"<>#PUUTTUU!") -> 4 | M58: 4
A59: Maija | B59: Yli-Hietanen | C59: D | D59: 40 | E59: =(A59&" "&B59) -> Maija Yli-Hietanen | F59: 1.2727273 | G59: =VLOOKUP($E59,'Kisa 1'!$C$5:$J$151,8,0) -> 1 | H59: =VLOOKUP(E59,'Kisa 2'!$C$5:$J$183,8,0) -> 1 | I59: =VLOOKUP(E59,'Kisa 3'!$B$3:$I$176,8,0) -> 1 | J59: =VLOOKUP(E59,'Kisa 4'!$J$2:$Q$195,8,0) -> 1 | K59: =COUNT(G59:J59) -> 4 | L59: =SUMIF(G59:J59,"<>#PUUTTUU!") -> 4 | M59: =SUBTOTAL(9,H59:J59) -> 3
A60: Marika | B60: Aronen-Ketola | C60: D | D60: 45 | E60: =(A60&" "&B60) -> Marika Aronen-Ketola | F60: 1.3181818 | G60: =VLOOKUP($E60,'Kisa 1'!$C$5:$J$151,8,0) -> 1 | H60: =VLOOKUP(E60,'Kisa 2'!$C$5:$J$183,8,0) -> 1 | I60: =VLOOKUP(E60,'Kisa 3'!$B$3:$I$176,8,0) -> 1 | J60: =VLOOKUP(E60,'Kisa 4'!$J$2:$Q$195,8,0) -> 1 | K60: =COUNT(G60:J60) -> 4 | L60: =SUMIF(G60:J60,"<>#PUUTTUU!") -> 4 | M60: =SUBTOTAL(9,H60:J60) -> 3
A61: Marita | B61: Kymäläinen | C61: D | D61: 50 | E61: =(A61&" "&B61) -> Marita Kymäläinen | F61: 1.3863636 | G61: =VLOOKUP($E61,'Kisa 1'!$C$5:$J$151,8,0) -> 1 | H61: =VLOOKUP(E61,'Kisa 2'!$C$5:$J$183,8,0) -> 1 | I61: =VLOOKUP(E61,'Kisa 3'!$B$3:$I$176,8,0) -> 1 | J61: =VLOOKUP(E61,'Kisa 4'!$J$2:$Q$195,8,0) -> 1 | K61: =COUNT(G61:J61) -> 4 | L61: =SUMIF(G61:J61,"<>#PUUTTUU!") -> 4 | M61: =SUBTOTAL(9,H61:J61) -> 3
A62: Nina | B62: Viitala | C62: D | D62: 16 | E62: =(A62&" "&B62) -> Nina Viitala | F62: 1.2727273 | G62: =VLOOKUP($E62,'Kisa 1'!$C$5:$J$151,8,0) -> 1 | H62: =VLOOKUP(E62,'Kisa 2'!$C$5:$J$183,8,0) -> 1 | I62: =VLOOKUP(E62,'Kisa 3'!$B$3:$I$176,8,0) -> 1 | J62: =VLOOKUP(E62,'Kisa 4'!$J$2:$Q$195,8,0) -> 1 | K62: =COUNT(G62:J62) -> 4 | L62: =SUMIF(G62:J62,"<>#PUUTTUU!") -> 4 | M62: =SUBTOTAL(9,G62:I62) -> 3
A63: Sanna | B63: Raunila | C63: D | D63: 35 | E63: =(A63&" "&B63) -> Sanna Raunila | F63: 1.2272727 | G63: =VLOOKUP($E63,'Kisa 1'!$C$5:$J$151,8,0) -> 1 | H63: =VLOOKUP(E63,'Kisa 2'!$C$5:$J$183,8,0) -> 1 | I63: =VLOOKUP(E63,'Kisa 3'!$B$3:$I$176,8,0) -> 1 | J63: =VLOOKUP(E63,'Kisa 4'!$J$2:$Q$195,8,0) -> 1 | K63: =COUNT(G63:J63) -> 4 | L63: =SUMIF(G63:J63,"<>#PUUTTUU!") -> 4 | M63: =SUBTOTAL(9,H63:J63) -> 3
A64: Sini | B64: Viitala | C64: D | D64: 14 | E64: =(A64&" "&B64) -> Sini Viitala | F64: 1.3409091 | G64: =VLOOKUP($E64,'Kisa 1'!$C$5:$J$151,8,0) -> 1 | H64: =VLOOKUP(E64,'Kisa 2'!$C$5:$J$183,8,0) -> 1 | I64: =VLOOKUP(E64,'Kisa 3'!$B$3:$I$176,8,0) -> 1 | J64: =VLOOKUP(E64,'Kisa 4'!$J$2:$Q$195,8,0) -> 1 | K64: =COUNT(G64:J64) -> 4 | L64: =SUMIF(G64:J64,"<>#PUUTTUU!") -> 4 | M64: =SUBTOTAL(9,H64:J64) -> 3
A65: Taina | B65: Koivisto | C65: D | D65: 55 | E65: =(A65&" "&B65) -> Taina Koivisto | F65: 1.4772727 | G65: =VLOOKUP($E65,'Kisa 1'!$C$5:$J$151,8,0) -> 1 | H65: =VLOOKUP(E65,'Kisa 2'!$C$5:$J$183,8,0) -> 1 | I65: =VLOOKUP(E65,'Kisa 3'!$B$3:$I$176,8,0) -> 1 | J65: =VLOOKUP(E65,'Kisa 4'!$J$2:$Q$195,8,0) -> 1 | K65: =COUNT(G65:J65) -> 4 | L65: =SUMIF(G65:J65,"<>#PUUTTUU!") -> 4 | M65: =SUBTOTAL(9,H65:J65) -> 3
A66: Tuuli-Maija | B66: Stenman | C66: D | D66: 40 | E66: =(A66&" "&B66) -> Tuuli-Maija Stenman | F66: 1.2727273 | G66: =VLOOKUP($E66,'Kisa 1'!$C$5:$J$151,8,0) -> 1 | H66: =VLOOKUP(E66,'Kisa 2'!$C$5:$J$183,8,0) -> 1 | I66: =VLOOKUP(E66,'Kisa 3'!$B$3:$I$176,8,0) -> 1 | J66: =VLOOKUP(E66,'Kisa 4'!$J$2:$Q$195,8,0) -> 1 | K66: =COUNT(G66:J66) -> 4 | L66: =SUMIF(G66:J66,"<>#PUUTTUU!") -> 4 | M66: =SUBTOTAL(9,H66:J66) -> 3
A67: Anneli | B67: Hautaniemi | C67: D | D67: 50 | E67: =(A67&" "&B67) -> Anneli Hautaniemi | F67: 1.3863636 | G67: =VLOOKUP($E67,'Kisa 1'!$C$5:$J$151,8,0) -> #N/A | H67: =VLOOKUP(E67,'Kisa 2'!$C$5:$J$183,8,0) -> 1 | I67: =VLOOKUP(E67,'Kisa 3'!$B$3:$I$176,8,0) -> 1 | J67: =VLOOKUP(E67,'Kisa 4'!$J$2:$Q$195,8,0) -> 1 | K67: =COUNT(G67:J67) -> 3 | L67: =SUMIF(G67:J67,"<>#PUUTTUU!") -> 3 | M67: 3
A68: Hanni | B68: Koski | C68: D | D68: 8 | E68: =(A68&" "&B68) -> Hanni Koski | F68: 1.6590909 | G68: =VLOOKUP($E68,'Kisa 1'!$C$5:$J$151,8,0) -> 1 | H68: =VLOOKUP(E68,'Kisa 2'!$C$5:$J$183,8,0) -> 1 | I68: =VLOOKUP(E68,'Kisa 3'!$B$3:$I$176,8,0) -> #N/A | J68: =VLOOKUP(E68,'Kisa 4'!$J$2:$Q$195,8,0) -> 1 | K68: =COUNT(G68:J68) -> 3 | L68: =SUMIF(G68:J68,"<>#PUUTTUU!") -> 3 | M68: 3
A69: Heli | B69: Annila | C69: D | D69: 50 | E69: =(A69&" "&B69) -> Heli Annila | F69: 1.3863636 | G69: =VLOOKUP($E69,'Kisa 1'!$C$5:$J$151,8,0) -> #N/A | H69: =VLOOKUP(E69,'Kisa 2'!$C$5:$J$183,8,0) -> 1 | I69: =VLOOKUP(E69,'Kisa 3'!$B$3:$I$176,8,0) -> 1 | J69: =VLOOKUP(E69,'Kisa 4'!$J$2:$Q$195,8,0) -> 1 | K69: =COUNT(G69:J69) -> 3 | L69: =SUMIF(G69:J69,"<>#PUUTTUU!") -> 3 | M69: 3
A70: Hilla | B70: Toivanen | C70: D | D70: 18 | E70: =(A70&" "&B70) -> Hilla Toivanen | F70: 1.25 | G70: =VLOOKUP($E70,'Kisa 1'!$C$5:$J$151,8,0) -> 1 | H70: =VLOOKUP(E70,'Kisa 2'!$C$5:$J$183,8,0) -> 1 | I70: =VLOOKUP(E70,'Kisa 3'!$B$3:$I$176,8,0) -> #N/A | J70: =VLOOKUP(E70,'Kisa 4'!$J$2:$Q$195,8,0) -> 1 | K70: =COUNT(G70:J70) -> 3 | L70: =SUMIF(G70:J70,"<>#PUUTTUU!") -> 3 | M70: 3
A71: Jenna | B71: Leipijärvi | C71: D | D71: 16 | E71: =(A71&" "&B71) -> Jenna Leipijärvi | F71: 1.2727273 | G71: =VLOOKUP($E71,'Kisa 1'!$C$5:$J$151,8,0) -> 1 | H71: =VLOOKUP(E71,'Kisa 2'!$C$5:$J$183,8,0) -> 2 | I71: =VLOOKUP(E71,'Kisa 3'!$B$3:$I$176,8,0) -> #N/A | J71: =VLOOKUP(E71,'Kisa 4'!$J$2:$Q$195,8,0) -> #N/A | K71: =COUNT(G71:J71) -> 2 | L71: =SUMIF(G71:J71,"<>#PUUTTUU!") -> 3 | M71: 3
A72: Julia | B72: Hirvonen | C72: D | D72: 14 | E72: =(A72&" "&B72) -> Julia Hirvonen | F72: 1.3409091 | G72: =VLOOKUP($E72,'Kisa 1'!$C$5:$J$151,8,0) -> #N/A | H72: =VLOOKUP(E72,'Kisa 2'!$C$5:$J$183,8,0) -> #N/A | I72: =VLOOKUP(E72,'Kisa 3'!$B$3:$I$176,8,0) -> 2 | J72: =VLOOKUP(E72,'Kisa 4'!$J$2:$Q$195,8,0) -> 1 | K72: =COUNT(G72:J72) -> 2 | L72: =SUMIF(G72:J72,"<>#PUUTTUU!") -> 3 | M72: 3
A73: Kaisa | B73: Takala | C73: D | D73: 10 | E73: =(A73&" "&B73) -> Kaisa Takala | F73: 1.5 | G73: =VLOOKUP($E73,'Kisa 1'!$C$5:$J$151,8,0) -> #N/A | H73: =VLOOKUP(E73,'Kisa 2'!$C$5:$J$183,8,0) -> 1 | I73: =VLOOKUP(E73,'Kisa 3'!$B$3:$I$176,8,0) -> 1 | J73: =VLOOKUP(E73,'Kisa 4'!$J$2:$Q$195,8,0) -> 1 | K73: =COUNT(G73:J73) -> 3 | L73: =SUMIF(G73:J73,"<>#PUUTTUU!") -> 3 | M73: 3
A74: Katriina | B74: Nummela | C74: D | D74: 35 | E74: =(A74&" "&B74) -> Katriina Nummela | F74: 1.2272727 | G74: =VLOOKUP($E74,'Kisa 1'!$C$5:$J$151,8,0) -> 1 | H74: =VLOOKUP(E74,'Kisa 2'!$C$5:$J$183,8,0) -> #N/A | I74: =VLOOKUP(E74,'Kisa 3'!$B$3:$I$176,8,0) -> 1 | J74: =VLOOKUP(E74,'Kisa 4'!$J$2:$Q$195,8,0) -> 1 | K74: =COUNT(G74:J74) -> 3 | L74: =SUMIF(G74:J74,"<>#PUUTTUU!") -> 3 | M74: 3
A75: Kristiina | B75: Oksanen | C75: D | D75: 45 | E75: =(A75&" "&B75) -> Kristiina Oksanen | F75: 1.3181818 | G75: =VLOOKUP($E75,'Kisa 1'!$C$5:$J$151,8,0) -> 1 | H75: =VLOOKUP(E75,'Kisa 2'!$C$5:$J$183,8,0) -> 1 | I75: =VLOOKUP(E75,'Kisa 3'!$B$3:$I$176,8,0) -> #N/A | J75: =VLOOKUP(E75,'Kisa 4'!$J$2:$Q$195,8,0) -> 1 | K75: =COUNT(G75:J75) -> 3 | L75: =SUMIF(G75:J75,"<>#PUUTTUU!") -> 3 | M75: 3
A76: Merja | B76: Toivonen | C76: D | D76: 50 | E76: =(A76&" "&B76) -> Merja Toivonen | F76: 1.3863636 | G76: =VLOOKUP($E76,'Kisa 1'!$C$5:$J$151,8,0) -> 1 | H76: =VLOOKUP(E76,'Kisa 2'!$C$5:$J$183,8,0) -> #N/A | I76: =VLOOKUP(E76,'Kisa 3'!$B$3:$I$176,8,0) -> 1 | J76: =VLOOKUP(E76,'Kisa 4'!$J$2:$Q$195,8,0) -> 1 | K76: =COUNT(G76:J76) -> 3 | L76: =SUMIF(G76:J76,"<>#PUUTTUU!") -> 3 | M76: 3
A77: Minttu | B77: Toivanen | C77: D | D77: 20 | E77: =(A77&" "&B77) -> Minttu Toivanen | F77: 1.2045455 | G77: =VLOOKUP($E77,'Kisa 1'!$C$5:$J$151,8,0) -> 1 | H77: =VLOOKUP(E77,'Kisa 2'!$C$5:$J$183,8,0) -> 1 | I77: =VLOOKUP(E77,'Kisa 3'!$B$3:$I$176,8,0) -> #N/A | J77: =VLOOKUP(E77,'Kisa 4'!$J$2:$Q$195,8,0) -> 1 | K77: =COUNT(G77:J77) -> 3 | L77: =SUMIF(G77:J77,"<>#PUUTTUU!") -> 3 | M77: 3
A78: Sanna | B78: Matinheikki | C78: D | D78: 40 | E78: =(A78&" "&B78) -> Sanna Matinheikki | F78: 1.2727273 | G78: =VLOOKUP($E78,'Kisa 1'!$C$5:$J$151,8,0) -> #N/A | H78: =VLOOKUP(E78,'Kisa 2'!$C$5:$J$183,8,0) -> 1 | I78: =VLOOKUP(E78,'Kisa 3'!$B$3:$I$176,8,0) -> 1 | J78: =VLOOKUP(E78,'Kisa 4'!$J$2:$Q$195,8,0) -> 1 | K78: =COUNT(G78:J78) -> 3 | L78: =SUMIF(G78:J78,"<>#PUUTTUU!") -> 3 | M78: 3
... A121: Pirjo | B121: Alamäyry | C121: D | D121: 18 | E121: =(A121&" "&B121) -> Pirjo Alamäyry | F121: 1.25 | G121: =VLOOKUP($E121,'Kisa 1'!$C$5:$J$151,8,0) -> #N/A | H121: =VLOOKUP(E121,'Kisa 2'!$C$5:$J$183,8,0) -> 1 | I121: =VLOOKUP(E121,'Kisa 3'!$B$3:$I$176,8,0) -> #N/A | J121: =VLOOKUP(E121,'Kisa 4'!$J$2:$Q$195,8,0) -> #N/A | K121: =COUNT(G121:J121) -> 1 | L121: =SUMIF(G121:J121,"<>#PUUTTUU!") -> 1 | M121: 1
A122: Riikka | B122: Koskinen | C122: D | E122: =(A122&" "&B122) -> Riikka Koskinen | F122: 1.1136364 | G122: =VLOOKUP($E122,'Kisa 1'!$C$5:$J$151,8,0) -> #N/A | H122: =VLOOKUP(E122,'Kisa 2'!$C$5:$J$183,8,0) -> #N/A | I122: =VLOOKUP(E122,'Kisa 3'!$B$3:$I$176,8,0) -> 1 | J122: =VLOOKUP(E122,'Kisa 4'!$J$2:$Q$195,8,0) -> #N/A | K122: =COUNT(G122:J122) -> 1 | L122: =SUMIF(G122:J122,"<>#PUUTTUU!") -> 1 | M122: 1
A123: Saana | B123: Lehtovirta | C123: D | D123: 6 | E123: =(A123&" "&B123) -> Saana Lehtovirta | F123: 1.8409091 | G123: =VLOOKUP($E123,'Kisa 1'!$C$5:$J$151,8,0) -> #N/A | H123: =VLOOKUP(E123,'Kisa 2'!$C$5:$J$183,8,0) -> #N/A | I123: =VLOOKUP(E123,'Kisa 3'!$B$3:$I$176,8,0) -> 1 | J123: =VLOOKUP(E123,'Kisa 4'!$J$2:$Q$195,8,0) -> #N/A | K123: =COUNT(G123:J123) -> 1 | L123: =SUMIF(G123:J123,"<>#PUUTTUU!") -> 1 | M123: 1
A124: Salla | B124: Vahvelainen | C124: D | D124: 21 | E124: =(A124&" "&B124) -> Salla Vahvelainen | F124: 1.1136364 | G124: =VLOOKUP($E124,'Kisa 1'!$C$5:$J$151,8,0) -> 1 | H124: =VLOOKUP(E124,'Kisa 2'!$C$5:$J$183,8,0) -> #N/A | I124: =VLOOKUP(E124,'Kisa 3'!$B$3:$I$176,8,0) -> #N/A | J124: =VLOOKUP(E124,'Kisa 4'!$J$2:$Q$195,8,0) -> #N/A | K124: =COUNT(G124:J124) -> 1 | L124: =SUMIF(G124:J124,"<>#PUUTTUU!") -> 1 | M124: 1
A125: Sara | B125: Kurth | C125: D | D125: 14 | E125: =(A125&" "&B125) -> Sara Kurth | F125: 1.3409091 | G125: =VLOOKUP($E125,'Kisa 1'!$C$5:$J$151,8,0) -> #N/A | H125: =VLOOKUP(E125,'Kisa 2'!$C$5:$J$183,8,0) -> #N/A | I125: =VLOOKUP(E125,'Kisa 3'!$B$3:$I$176,8,0) -> #N/A | J125: =VLOOKUP(E125,'Kisa 4'!$J$2:$Q$195,8,0) -> 1 | K125: =COUNT(G125:J125) -> 1 | L125: =SUMIF(G125:J125,"<>#PUUTTUU!") -> 1 | M125: 1
A126: Sari | B126: Oksa | C126: D | D126: 45 | E126: =(A126&" "&B126) -> Sari Oksa | F126: 1.3181818 | G126: =VLOOKUP($E126,'Kisa 1'!$C$5:$J$151,8,0) -> 1 | H126: =VLOOKUP(E126,'Kisa 2'!$C$5:$J$183,8,0) -> #N/A | I126: =VLOOKUP(E126,'Kisa 3'!$B$3:$I$176,8,0) -> #N/A | J126: =VLOOKUP(E126,'Kisa 4'!$J$2:$Q$195,8,0) -> #N/A | K126: =COUNT(G126:J126) -> 1 | L126: =SUMIF(G126:J126,"<>#PUUTTUU!") -> 1 | M126: 1
A127: Sirra | B127: Toivonen | C127: D | D127: 45 | E127: =(A127&" "&B127) -> Sirra Toivonen | F127: 1.3181818 | G127: =VLOOKUP($E127,'Kisa 1'!$C$5:$J$151,8,0) -> #N/A | H127: =VLOOKUP(E127,'Kisa 2'!$C$5:$J$183,8,0) -> 1 | I127: =VLOOKUP(E127,'Kisa 3'!$B$3:$I$176,8,0) -> #N/A | J127: =VLOOKUP(E127,'Kisa 4'!$J$2:$Q$195,8,0) -> #N/A | K127: =COUNT(G127:J127) -> 1 | L127: =SUMIF(G127:J127,"<>#PUUTTUU!") -> 1 | M127: 1
A128: Suvi | B128: Haarajoki | C128: D | D128: 21 | E128: =(A128&" "&B128) -> Suvi Haarajoki | F128: 1.1136364 | G128: =VLOOKUP($E128,'Kisa 1'!$C$5:$J$151,8,0) -> #N/A | H128: =VLOOKUP(E128,'Kisa 2'!$C$5:$J$183,8,0) -> #N/A | I128: =VLOOKUP(E128,'Kisa 3'!$B$3:$I$176,8,0) -> 1 | J128: =VLOOKUP(E128,'Kisa 4'!$J$2:$Q$195,8,0) -> #N/A | K128: =COUNT(G128:J128) -> 1 | L128: =SUMIF(G128:J128,"<>#PUUTTUU!") -> 1 | M128: 1
A129: Teija | B129: Rauhala | C129: D | D129: 21 | E129: =(A129&" "&B129) -> Teija Rauhala | F129: 1.1136364 | G129: =VLOOKUP($E129,'Kisa 1'!$C$5:$J$151,8,0) -> #N/A | H129: =VLOOKUP(E129,'Kisa 2'!$C$5:$J$183,8,0) -> 1 | I129: =VLOOKUP(E129,'Kisa 3'!$B$3:$I$176,8,0) -> #N/A | J129: =VLOOKUP(E129,'Kisa 4'!$J$2:$Q$195,8,0) -> #N/A | K129: =COUNT(G129:J129) -> 1 | L129: =SUMIF(G129:J129,"<>#PUUTTUU!") -> 1 | M129: 1
A130: Venla | B130: Haanpää | C130: D | D130: 8 | E130: =(A130&" "&B130) -> Venla Haanpää | F130: 1.6590909 | G130: =VLOOKUP($E130,'Kisa 1'!$C$5:$J$151,8,0) -> 1 | H130: =VLOOKUP(E130,'Kisa 2'!$C$5:$J$183,8,0) -> #N/A | I130: =VLOOKUP(E130,'Kisa 3'!$B$3:$I$176,8,0) -> #N/A | J130: =VLOOKUP(E130,'Kisa 4'!$J$2:$Q$195,8,0) -> #N/A | K130: =COUNT(G130:J130) -> 1 | L130: =SUMIF(G130:J130,"<>#PUUTTUU!") -> 1 | M130: 1
A131: Villa | B131: Mustajoki | C131: D | D131: 12 | E131: =(A131&" "&B131) -> Villa Mustajoki | F131: 1.4090909 | G131: =VLOOKUP($E131,'Kisa 1'!$C$5:$J$151,8,0) -> #N/A | H131: =VLOOKUP(E131,'Kisa 2'!$C$5:$J$183,8,0) -> #N/A | I131: =VLOOKUP(E131,'Kisa 3'!$B$3:$I$176,8,0) -> 1 | J131: =VLOOKUP(E131,'Kisa 4'!$J$2:$Q$195,8,0) -> #N/A | K131: =COUNT(G131:J131) -> 1 | L131: =SUMIF(G131:J131,"<>#PUUTTUU!") -> 1 | M131: 1
A132: Anna | B132: Jussila | C132: D | D132: 21 | E132: =(A132&" "&B132) -> Anna Jussila | F132: 1.1136364 | G132: =VLOOKUP($E132,'Kisa 1'!$C$5:$J$151,8,0) -> #N/A | H132: =VLOOKUP(E132,'Kisa 2'!$C$5:$J$183,8,0) -> #N/A | I132: =VLOOKUP(E132,'Kisa 3'!$B$3:$I$176,8,0) -> #N/A | J132: =VLOOKUP(E132,'Kisa 4'!$J$2:$Q$195,8,0) -> #N/A | K132: =COUNT(G132:J132) -> 0 | L132: =SUMIF(G132:J132,"<>#PUUTTUU!") -> 0 | M132: 0
A134: Jarkko | B134: Huovila | C134: H | D134: 35 | E134: =(A134&" "&B134) -> Jarkko Huovila | F134: 1.0681818 | G134: =VLOOKUP($E134,'Kisa 1'!$C$5:$J$151,8,0) -> #N/A | H134: =VLOOKUP(E134,'Kisa 2'!$C$5:$J$183,8,0) -> 50 | I134: =VLOOKUP(E134,'Kisa 3'!$B$3:$I$176,8,0) -> 50 | J134: =VLOOKUP(E134,'Kisa 4'!$J$2:$Q$195,8,0) -> 46 | K134: =COUNT(G134:J134) -> 3 | L134: =SUMIF(G134:J134,"<>#PUUTTUU!") -> 146 | M134: 146
A135: Vili | B135: Mustonen | C135: H | D135: 18 | E135: =(A135&" "&B135) -> Vili Mustonen | F135: 1.0909091 | G135: =VLOOKUP($E135,'Kisa 1'!$C$5:$J$151,8,0) -> 24 | H135: =VLOOKUP(E135,'Kisa 2'!$C$5:$J$183,8,0) -> 40 | I135: =VLOOKUP(E135,'Kisa 3'!$B$3:$I$176,8,0) -> 40 | J135: =VLOOKUP(E135,'Kisa 4'!$J$2:$Q$195,8,0) -> 43 | K135: =COUNT(G135:J135) -> 4 | L135: =SUMIF(G135:J135,"<>#PUUTTUU!") -> 147 | M135: =SUBTOTAL(9,H135:J135) -> 123
A136: Anton | B136: Kuukka | C136: H | D136: 18 | E136: =(A136&" "&B136) -> Anton Kuukka | F136: 1.0909091 | G136: =VLOOKUP($E136,'Kisa 1'!$C$5:$J$151,8,0) -> 32 | H136: =VLOOKUP(E136,'Kisa 2'!$C$5:$J$183,8,0) -> 50 | I136: =VLOOKUP(E136,'Kisa 3'!$B$3:$I$176,8,0) -> 1 | J136: =VLOOKUP(E136,'Kisa 4'!$J$2:$Q$195,8,0) -> 37 | K136: =COUNT(G136:J136) -> 4 | L136: =SUMIF(G136:J136,"<>#PUUTTUU!") -> 120 | M136: =SUBTOTAL(9,G136,H136,J136) -> 119
A137: Sakari | B137: Koivuniemi | C137: H | D137: 14 | E137: =(A137&" "&B137) -> Sakari Koivuniemi | F137: 1.2272727 | G137: =VLOOKUP($E137,'Kisa 1'!$C$5:$J$151,8,0) -> 46 | H137: =VLOOKUP(E137,'Kisa 2'!$C$5:$J$183,8,0) -> 32 | I137: =VLOOKUP(E137,'Kisa 3'!$B$3:$I$176,8,0) -> 26 | J137: =VLOOKUP(E137,'Kisa 4'!$J$2:$Q$195,8,0) -> 1 | K137: =COUNT(G137:J137) -> 4 | L137: =SUMIF(G137:J137,"<>#PUUTTUU!") -> 105 | M137: =SUBTOTAL(9,G137:I137) -> 104
A138: Arttu | B138: Vesterinen | C138: H | D138: 16 | E138: =(A138&" "&B138) -> Arttu Vesterinen | F138: 1.1363636 | G138: =VLOOKUP($E138,'Kisa 1'!$C$5:$J$151,8,0) -> 40 | H138: =VLOOKUP(E138,'Kisa 2'!$C$5:$J$183,8,0) -> 30 | I138: =VLOOKUP(E138,'Kisa 3'!$B$3:$I$176,8,0) -> 1 | J138: =VLOOKUP(E138,'Kisa 4'!$J$2:$Q$195,8,0) -> 32 | K138: =COUNT(G138:J138) -> 4 | L138: =SUMIF(G138:J138,"<>#PUUTTUU!") -> 103 | M138: =SUBTOTAL(9,G138,H138,J138) -> 102
A139: Mikko | B139: Eerola | C139: H | D139: 14 | E139: =(A139&" "&B139) -> Mikko Eerola | F139: 1.2272727 | G139: =VLOOKUP($E139,'Kisa 1'!$C$5:$J$151,8,0) -> 43 | H139: =VLOOKUP(E139,'Kisa 2'!$C$5:$J$183,8,0) -> 13 | I139: =VLOOKUP(E139,'Kisa 3'!$B$3:$I$176,8,0) -> 34 | J139: =VLOOKUP(E139,'Kisa 4'!$J$2:$Q$195,8,0) -> 19 | K139: =COUNT(G139:J139) -> 4 | L139: =SUMIF(G139:J139,"<>#PUUTTUU!") -> 109 | M139: =SUBTOTAL(9,G139,I139,J139) -> 96
A140: Mikko | B140: Sani | C140: H | D140: 60 | E140: =(A140&" "&B140) -> Mikko Sani | F140: 1.4545455 | G140: =VLOOKUP($E140,'Kisa 1'!$C$5:$J$151,8,0) -> #N/A | H140: =VLOOKUP(E140,'Kisa 2'!$C$5:$J$183,8,0) -> #N/A | I140: =VLOOKUP(E140,'Kisa 3'!$B$3:$I$176,8,0) -> 46 | J140: =VLOOKUP(E140,'Kisa 4'!$J$2:$Q$195,8,0) -> 50 | K140: =COUNT(G140:J140) -> 2 | L140: =SUMIF(G140:J140,"<>#PUUTTUU!") -> 96 | M140: 96
A141: Pekka | B141: Kannus | C141: H | D141: 55 | E141: =(A141&" "&B141) -> Pekka Kannus | F141: 1.3409091 | G141: =VLOOKUP($E141,'Kisa 1'!$C$5:$J$151,8,0) -> 37 | H141: =VLOOKUP(E141,'Kisa 2'!$C$5:$J$183,8,0) -> 1 | I141: =VLOOKUP(E141,'Kisa 3'!$B$3:$I$176,8,0) -> 22 | J141: =VLOOKUP(E141,'Kisa 4'!$J$2:$Q$195,8,0) -> 32 | K141: =COUNT(G141:J141) -> 4 | L141: =SUMIF(G141:J141,"<>#PUUTTUU!") -> 92 | M141: =SUBTOTAL(9,G141,I141,J141) -> 91
A142: Jaakko | B142: Skog | C142: H | D142: 18 | E142: =(A142&" "&B142) -> Jaakko Skog | F142: 1.0909091 | G142: =VLOOKUP($E142,'Kisa 1'!$C$5:$J$151,8,0) -> #N/A | H142: =VLOOKUP(E142,'Kisa 2'!$C$5:$J$183,8,0) -> 14 | I142: =VLOOKUP(E142,'Kisa 3'!$B$3:$I$176,8,0) -> 32 | J142: =VLOOKUP(E142,'Kisa 4'!$J$2:$Q$195,8,0) -> 40 | K142: =COUNT(G142:J142) -> 3 | L142: =SUMIF(G142:J142,"<>#PUUTTUU!") -> 86 | M142: 86
A143: Teemu | B143: Oksanen | C143: H | D143: 14 | E143: =(A143&" "&B143) -> Teemu Oksanen | F143: 1.2272727 | G143: =VLOOKUP($E143,'Kisa 1'!$C$5:$J$151,8,0) -> 20 | H143: =VLOOKUP(E143,'Kisa 2'!$C$5:$J$183,8,0) -> 37 | I143: =VLOOKUP(E143,'Kisa 3'!$B$3:$I$176,8,0) -> 1 | J143: =VLOOKUP(E143,'Kisa 4'!$J$2:$Q$195,8,0) -> 28 | K143: =COUNT(G143:J143) -> 4 | L143: =SUMIF(G143:J143,"<>#PUUTTUU!") -> 86 | M143: =SUBTOTAL(9,G143:H143,J143) -> 85
...
