Workbook

Sheet Loppupisteet
B1: Keski-Tampereen Sprinttiviikko 2014-2015 Pistetilanne
B2: Naiset | D2: Loppupisteet | E2: Kisa1 | F2: Kisa2 | G2: Kisa3 | H2: Kisa4 | I2: Sarja | K2: TASOITUS
A3: 1/2 | B3: Lotta | C3: Eerola | D3: 146 | E3: 50 | F3: 43 | G3: 46 | H3: 50 | I3: D | J3: 14 | K3: 1.3409091
A4: 1/2 | B4: Sari | C4: Saarijärvi | D4: 146 | E4: 43 | F4: 50 | G4: 50 | H4: 46 | I4: D | J4: 45 | K4: 1.3181818
A5: 3 | B5: Jaana | C5: Pietilä-Annala | D5: 120 | E5: 46 | F5: 40 | H5: 34 | I5: D | J5: 45 | K5: 1.3181818
A6: 4 | B6: Hilkka | C6: Lankia | D6: 116 | E6: 43 | F6: 30 | G6: 16 | H6: 43 | I6: D | J6: 65 | K6: 1.7272727
A7: 5 | B7: Hanna-Maija | C7: Koski | D7: 106 | E7: 34 | F7: 32 | G7: 28 | H7: 40 | I7: D | J7: 35 | K7: 1.2272727
A8: 6 | B8: Sanni | C8: Kymäläinen | D8: 104 | E8: 26 | F8: 46 | G8: 32 | H8: 26 | I8: D | J8: 20 | K8: 1.2045455
A9: 7 | B9: Salla | C9: Pitkänen | D9: 89 | F9: 26 | G9: 43 | H9: 20 | I9: D | J9: 16 | K9: 1.2727273
A10: 8 | B10: Saara | C10: Yli-Hietanen | D10: 85 | E10: 30 | F10: 18 | G10: 37 | H10: 15 | I10: D | J10: 14 | K10: 1.3409091
A11: 9 | B11: Anni | C11: Haanpää | D11: 75 | E11: 37 | F11: 1 | G11: 0 | H11: 37 | I11: D | J11: 16 | K11: 1.2727273
A12: 10 | B12: Laura | C12: Palm | D12: 70 | E12: 32 | F12: 37 | G12: 1 | H12: 0 | I12: D | J12: 21 | K12: 1.1136364
A13: 11 | B13: Kaisa | C13: Haanpää | D13: 66 | E13: 0 | F13: 0 | G13: 34 | H13: 32 | I13: D | J13: 14 | K13: 1.3409091
A14: 12 | B14: Ella | C14: Skog | D14: 65 | E14: 0 | F14: 15 | G14: 28 | H14: 22 | I14: D | J14: 16 | K14: 1.2727273
A15: 13 | B15: Anna | C15: Kotkajuuri | D15: 64 | E15: 0 | F15: 34 | G15: 30 | H15: 0 | I15: D | J15: 20 | K15: 1.2045455
A16: 14 | B16: Rosa | C16: Simola | D16: 60 | E16: 20 | F16: 14 | G16: 22 | H16: 18 | I16: D | J16: 14 | K16: 1.3409091
A17: 15 | B17: Lotta | C17: Välkki | D17: 52 | E17: 12 | F17: 28 | G17: 3 | H17: 12 | I17: D | J17: 14 | K17: 1.3409091
A18: 16 | B18: Terttu | C18: Jalanto | D18: 49 | E18: 18 | G18: 24 | H18: 7 | I18: D | J18: 50 | K18: 1.3863636
A19: 17 | B19: Reea | C19: Simola | D19: 45 | E19: 14 | F19: 5 | G19: 1 | H19: 26 | I19: D | J19: 16 | K19: 1.2727273
A20: 18 | B20: Silja | C20: Yli-Hietanen | D20: 41 | E20: 9 | F20: 20 | G20: 1 | H20: 12 | I20: D | J20: 12 | K20: 1.4090909
A21: 19 | B21: Terhi | C21: Rajamäki | D21: 41 | E21: 16 | F21: 1 | G21: 11 | H21: 14 | I21: D | J21: 50 | K21: 1.3863636
A22: 20 | B22: Sirkka-Liisa | C22: Lauronen | D22: 40 | G22: 40 | I22: D | J22: 35 | K22: 1.2272727
A23: 21 | B23: Minna | C23: Konttila | D23: 34 | E23: 9 | F23: 7 | G23: 18 | H23: 1 | I23: D | J23: 40 | K23: 1.2727273
A24: 22 | B24: Salla | C24: Saarijärvi | D24: 32 | F24: 16 | G24: 16 | I24: D | J24: 18 | K24: 1.25
A25: 23 | B25: Tuula | C25: Sani | D25: 31 | G25: 1 | H25: 30 | I25: D | J25: 55 | K25: 1.4772727
A26: 24 | B26: Katri | C26: Niittymäki | D26: 30 | F26: 11 | G26: 1 | H26: 18 | I26: D | J26: 40 | K26: 1.2727273
A27: 25 | B27: Sonja | C27: Kyrölä | D27: 30 | E27: 30 | I27: D | J27: 21 | K27: 1.1136364
A28: 26 | B28: Kati | C28: Haanpää | D28: 29 | E28: 3 | F28: 3 | G28: 16 | H28: 10 | I28: D | J28: 40 | K28: 1.2727273
A29: 27 | B29: Heli | C29: Ketola | D29: 29 | E29: 15 | H29: 14 | I29: D | J29: 40 | K29: 1.2727273
A30: 28 | B30: Elo | C30: Saue | D30: 28 | H30: 28 | I30: D | J30: 40 | K30: 1.2727273
A31: 29 | B31: Riikka | C31: Eerola | D31: 28 | E31: 13 | F31: 6 | G31: 9 | I31: D | J31: 45 | K31: 1.3181818
A32: 30 | B32: Minna | C32: Saarinen | D32: 25 | F32: 13 | G32: 12 | I32: D | J32: 21 | K32: 1.1136364
A33: 31 | B33: Mervi | C33: Pesu | D33: 24 | F33: 24 | I33: D | J33: 40 | K33: 1.2727273
A34: 32 | B34: Vilma | C34: Annala | D34: 24 | E34: 24 | I34: D | J34: 16 | K34: 1.2727273
A35: 33 | B35: Alma | C35: Toivonen | D35: 22 | F35: 22 | I35: D | J35: 20 | K35: 1.2045455
A36: 34 | B36: Miia | C36: Niittynen | D36: 22 | E36: 22 | I36: D | J36: 21 | K36: 1.1136364
A37: 35 | B37: Suvi | C37: Harju | D37: 20 | E37: 1 | F37: 9 | G37: 10 | H37: 1 | I37: D | J37: 21 | K37: 1.1136364
A38: 36 | B38: Jutta | C38: Nurminen | D38: 20 | G38: 20 | I38: D | J38: 16 | K38: 1.2727273
A39: 37 | B39: Kiia | C39: Isokallio | D39: 18 | G39: 16 | H39: 2 | I39: D | J39: 16 | K39: 1.2727273
A40: 38 | B40: Idaliina | C40: Kuusisto | D40: 13 | E40: 11 | F40: 1 | H40: 1 | I40: D | J40: 14 | K40: 1.3409091
...

Sheet Kisa 1
A1: K-TSV 1. osakilpailu, 26.12.2014 | B1: Arin laskenta
B2: Matka
A3: A1
E4: min/km | F4: Hae ikätasoitus | G4: Tasoitettu tulos | H4: Hae sukupuoli | I4: Sija | J4: Pisteet
A5: A2 | B5: 13. | C5: Lotta Eerola | D5: 0:20:38 | E5: 0.0039790902 | F5: 1.3409091 | G5: 0.0029674571 | H5: D | I5: 1 | J5: 50
A6: B1 | B6: 1. | C6: Jaana Pietilä | D6: 0:19:03 | E6: 0.0039991435 | F6: 1.3181818 | G6: 0.003033833 | H6: D | I6: 2 | J6: 46
A7: B2 | B7: 3. | C7: Sari Saarijärvi | D7: 0:19:22 | E7: 0.0040841403 | F7: 1.3181818 | G7: 0.0030983133 | H7: D | I7: 3 | J7: 43
A8: B1 | B8: 11. | C8: Hilkka Lankia | D8: 0:25:31 | E8: 0.005356683 | F8: 1.7272727 | G8: 0.0031012375 | H8: D | I8: 3 | J8: 40
A9: A2 | B9: 16. | C9: Anni Haanpää | D9: 0:21:07 | E9: 0.0040722999 | F9: 1.2727273 | G9: 0.0031996642 | H9: D | I9: 5 | J9: 37
A10: A2 | B10: 12. | C10: Hanna-Maija Koski | D10: 0:20:30 | E10: 0.0039533771 | F10: 1.2272727 | G10: 0.0032212703 | H10: D | I10: 6 | J10: 34
A11: A2 | B11: 4. | C11: Laura Palm | D11: 0:18:40 | E11: 0.0035998231 | F11: 1.1136364 | G11: 0.0032324942 | H11: D | I11: 7 | J11: 32
A12: A2 | B12: 8. | C12: Sonja Kyrölä | D12: 0:19:14 | E12: 0.0037091034 | F12: 1.1136364 | G12: 0.0033306235 | H12: D | I12: 8 | J12: 30
A13: A1 | B13: 25. | C13: Saara Yli-Hietanen | D13: 0:23:24 | E13: 0.0044679681 | F13: 1.3409091 | G13: 0.003332044 | H13: D | I13: 8 | J13: 28
A14: A2 | B14: 14. | C14: Sanni Kymäläinen | D14: 0:20:54 | E14: 0.0040305162 | F14: 1.2045455 | G14: 0.0033460889 | H14: D | I14: 10 | J14: 26
A15: B2 | B15: 5. | C15: Vilma Annala | D15: 0:20:16 | E15: 0.0042739369 | F15: 1.2727273 | G15: 0.0033580932 | H15: D | I15: 11 | J15: 24
A16: A2 | B16: 9. | C16: Miia Niittynen | D16: 0:19:26 | E16: 0.003747673 | F16: 1.1136364 | G16: 0.0033652574 | H16: D | I16: 12 | J16: 22
... A34: A1 | B34: 18. | C34: Suvi Harju | D34: 0:21:57 | E34: 0.0041911068 | F34: 1.1136364 | G34: 0.0037634429 | H34: D | I34: 30 | J34: 1
A35: A2 | B35: 33. | C35: Tiina Äijälä | D35: 0:27:37 | E35: 0.0053258097 | F35: 1.3863636 | G35: 0.0038415677 | H35: D | J35: 1
A36: B1 | B36: 12. | C36: Inka Joensivu | D36: 0:25:52 | E36: 0.0054301581 | F36: 1.4090909 | G36: 0.0038536606 | H36: D | J36: 1
A37: B2 | B37: 17. | C37: Helena Kajaala-Ylikoski | D37: 0:27:23 | E37: 0.0057747354 | F37: 1.4772727 | G37: 0.0039090517 | H37: D | J37: 1
A38: B2 | B38: 16. | C38: Marita Kymäläinen | D38: 0:25:48 | E38: 0.0054408341 | F38: 1.3863636 | G38: 0.0039245361 | H38: D | J38: 1
A39: B1 | B39: 10. | C39: Salla Mustonen | D39: 0:25:12 | E39: 0.0052902056 | F39: 1.3409091 | G39: 0.003945238 | H39: D | J39: 1
A40: A1 | B40: 29. | C40: Pinja Toivanen | D40: 0:25:14 | E40: 0.0048180226 | F40: 1.2045455 | G40: 0.0039998678 | H40: D | J40: 1
A41: B2 | B41: 11. | C41: Katriina Nummela | D41: 0:23:20 | E41: 0.004920651 | F41: 1.2272727 | G41: 0.0040094193 | H41: D | J41: 1
A42: A2 | B42: 21. | C42: Niina Papinsaari | D42: 0:23:13 | E42: 0.00447728 | F42: 1.1136364 | G42: 0.0040204147 | H42: D | J42: 1
A43: A2 | B43: 31. | C43: Jenna Leipijärvi | D43: 0:27:20 | E43: 0.0052711695 | F43: 1.2727273 | G43: 0.0041416332 | H43: D | J43: 1
A44: A2 | B44: 38. | C44: Päivi Annila | D44: 0:30:12 | E44: 0.0058239995 | F44: 1.3863636 | G44: 0.0042009177 | H44: D | J44: 1
A45: A1 | B45: 35. | C45: Minttu Paunu | D45: 0:27:39 | E45: 0.005279458 | F45: 1.25 | G45: 0.0042235664 | H45: D | J45: 1
A46: B2 | B46: 18. | C46: Anja Mäkelä | D46: 0:27:55 | E46: 0.0058872074 | F46: 1.3863636 | G46: 0.0042465103 | H46: D | J46: 1
... A69: B1 | B69: 21. | C69: Tuuli-Maija Stenman | D69: 0:37:12 | E69: 0.0078093511 | F69: 1.1136364 | G69: 0.0070124785 | H69: D | J69: 1
A70: B1 | C70: Rita Simola | D70: 0:Ei: | E70: #VALUE! | F70: 1.4090909 | G70: #VALUE! | H70: D | J70: 1
A72: B2 | B72: 1. | C72: Akseli Konttila | D72: 0:17:45 | E72: 0.0037432095 | F72: 1.3181818 | G72: 0.0028396762 | H72: H | I72: 1 | J72: 50
A73: A1 | B73: 9. | C73: Sakari Koivuniemi | D73: 0:18:28 | E73: 0.0035260033 | F73: 1.2272727 | G73: 0.0028730397 | H73: H | I73: 2 | J73: 46
A74: A1 | B74: 11. | C74: Mikko Eerola | D74: 0:18:44 | E74: 0.0035769203 | F74: 1.2272727 | G74: 0.0029145277 | H74: H | I74: 3 | J74: 43
A75: A1 | B75: 3. | C75: Arttu Vesterinen | D75: 0:17:28 | E75: 0.0033350645 | F75: 1.1363636 | G75: 0.0029348568 | H75: H | I75: 4 | J75: 40
A76: B2 | B76: 2. | C76: Pekka Kannus | D76: 0:18:54 | E76: 0.0039857273 | F76: 1.3409091 | G76: 0.0029724068 | H76: H | I76: 5 | J76: 37
A77: A2 | B77: 1. | C77: Pyry Mustonen | D77: 0:17:01 | E77: 0.0032816244 | F77: 1.0909091 | G77: 0.0030081557 | H77: H | I77: 6 | J77: 34
A78: A1 | B78: 2. | C78: Anton Kuukka | D78: 0:17:16 | E78: 0.0032968768 | F78: 1.0909091 | G78: 0.003022137 | H78: H | I78: 7 | J78: 32
A79: A1 | B79: 1. | C79: Jukka-Pekka Seppänen | D79: 0:15:59 | E79: 0.0030518386 | F79: 1 | G79: 0.0030518386 | H79: H | I79: 8 | J79: 30
A80: A1 | B80: 10. | C80: Janne Märkälä | D80: 0:18:34 | E80: 0.0035450972 | F80: 1.1590909 | G80: 0.0030585152 | H80: H | I80: 8 | J80: 28
...

Sheet Kisa 2
A1: 2. kisa | B1: 2.
A2: A1 | B2: 3.088
A3: (Lähti: | B3: 51
E4: min/km | F4: Hae ikätasoitus | G4: Tasoitettu tulos | H4: Hae sukupuoli | I4: Sija | J4: Pisteet
A5: 2.709 | B5: 18. | C5: Aapo Liponkoski | D5: 0:21:39 | E5: 0.0055499159 | F5: 1.4772727 | G5: 0.0037568662 | H5: H | I5: 30 | J5: 1
A6: 2.709 | B6: 2. | C6: Akseli Konttila | D6: 0:17:15 | E6: 0.0044219884 | F6: 1.3181818 | G6: 0.0033546119 | H6: H | I6: 9 | J6: 28
A7: 2.709 | B7: 38. | C7: Akseli Pesu | D7: 0:31:20 | E7: 0.0080322109 | F7: 1.4772727 | G7: 0.0054371889 | H7: H | J7: 1
A8: 2.767 | B8: 5. | C8: Aleksi Hiidenhovi | D8: 0:14:36 | E8: 0.0036642172 | F8: 1.1363636 | G8: 0.0032245111 | H8: H | I8: 3 | J8: 43
A9: 3.088 | B9: 3. | C9: Aleksi Tuovinen | D9: 0:15:57 | E9: 0.0035869135 | F9: 1 | G9: 0.0035869135 | H9: H | I9: 21 | J9: 10
A10: 2.709 | B10: 3. | C10: Alma Toivonen | D10: 0:17:34 | E10: 0.004503165 | F10: 1.2045455 | G10: 0.0037384766 | H10: D | I10: 12 | J10: 22
A11: 3.088 | B11: 7. | C11: André Bruguière | D11: 0:17:12 | E11: 0.0038680196 | F11: 1 | G11: 0.0038680196 | H11: H | J11: 1
A12: 3.088 | B12: 45. | C12: Anja Mäkelä | D12: 0:33:47 | E12: 0.0075973602 | F12: 1.3863636 | G12: 0.0054800631 | H12: D | J12: 1
A13: 2.767 | B13: 12. | C13: Anna Kotkajuuri | D13: 0:16:45 | E13: 0.0042038108 | F13: 1.2045455 | G13: 0.0034899561 | H13: D | I13: 6 | J13: 34
A14: 2.767 | B14: 54. | C14: Anna Ruokola | D14: 0:32:47 | E14: 0.008227757 | F14: 1.3409091 | G14: 0.0061359544 | H14: D | J14: 1
A15: 3.088 | B15: 39. | C15: Anna-Reetta Reunanen | D15: 0:27:04 | E15: 0.0060868835 | F15: 1.25 | G15: 0.0048695068 | H15: D | J15: 1
A16: 2.709 | B16: 40. | C16: Anneli Hautaniemi | D16: 0:31:31 | E16: 0.0080792079 | F16: 1.3863636 | G16: 0.0058276253 | H16: D | J16: 1
A17: 2.767 | C17: Anni Haanpää | D17: 0:Ei: | E17: #VALUE! | F17: 1.2727273 | G17: #VALUE! | H17: D | J17: 1
A18: 2.709 | B18: 32. | C18: Anton Vehkalahti | D18: 0:27:30 | E18: 0.0070495468 | F18: 1.3181818 | G18: 0.005347932 | H18: H | J18: 1
A19: 2.709 | B19: 1. | C19: Anton Kuukka | D19: 0:13:11 | E19: 0.00337951 | F19: 1.0909091 | G19: 0.0030978842 | H19: H | I19: 1 | J19: 50
A20: 3.088 | B20: 18. | C20: Antti Lammi | D20: 0:20:03 | E20: 0.0045089414 | F20: 1.1363636 | G20: 0.0039678685 | H20: H | J20: 1
A21: 2.767 | B21: 26. | C21: Antti Lepola | D21: 0:20:00 | E21: 0.0050194756 | F21: 1.25 | G21: 0.0040155805 | H21: H | J21: 1
A22: 2.709 | B22: 16. | C22: Ari Ovaska | D22: 0:20:59 | E22: 0.0053790178 | F22: 1.4545455 | G22: 0.0036980747 | H22: H | I22: 25 | J22: 6
A23: 2.767 | B23: 53. | C23: Arttu Pitkänen | D23: 0:32:46 | E23: 0.0082235741 | F23: 1.2272727 | G23: 0.00670069 | H23: H | J23: 1
A24: 2.767 | B24: 6. | C24: Arttu Vesterinen | D24: 0:15:00 | E24: 0.0037646067 | F24: 1.1363636 | G24: 0.0033128539 | H24: H | I24: 8 | J24: 30
A25: 2.767 | B25: 36. | C25: Eemeli Laakso | D25: 0:23:05 | E25: 0.0057933114 | F25: 1.1363636 | G25: 0.005098114 | H25: H | J25: 1
A26: 2.767 | B26: 31. | C26: Eemil Koskinen | D26: 0:20:55 | E26: 0.0052495349 | F26: 1.3181818 | G26: 0.0039824058 | H26: H | J26: 1
A27: 2.709 | B27: 44. | C27: Eeva-Liisa Salonen | D27: 0:34:34 | E27: 0.0088610667 | F27: 1.2727273 | G27: 0.0069622667 | H27: D | J27: 1
A28: 2.709 | B28: 24. | C28: Eino Lehtiniemi | D28: 0:24:35 | E28: 0.0063018676 | F28: 1.3181818 | G28: 0.0047807271 | H28: H | J28: 1
A29: 2.767 | C29: Elisa Tuomisto | D29: 0:Ei: | E29: #VALUE! | F29: 1.1136364 | G29: #VALUE! | H29: D | J29: 1
A30: 2.767 | B30: 25. | C30: Ella Skog | D30: 0:19:50 | E30: 0.0049776466 | F30: 1.2727273 | G30: 0.003911008 | H30: D | I30: 16 | J30: 15
A31: 3.088 | B31: 38. | C31: Elli-Noora Kamppuri | D31: 0:26:25 | E31: 0.0059407084 | F31: 1.25 | G31: 0.0047525667 | H31: D | J31: 1
A32: 2.709 | C32: Elmiina Laakso | D32: 0:Ei: | E32: #VALUE! | F32: 1.5 | G32: #VALUE! | H32: D | J32: 1
A33: 2.767 | B33: 13. | C33: Hanna-Maija Koski | D33: 0:17:19 | E33: 0.0043460293 | F33: 1.2272727 | G33: 0.003541209 | H33: D | I33: 7 | J33: 32
A34: 2.709 | B34: 50. | C34: Hanni Koski | D34: 0:41:15 | E34: 0.01057432 | F34: 1.6590909 | G34: 0.0063735628 | H34: D | J34: 1
A35: 3.088 | B35: 27. | C35: Hannu Aasla | D35: 0:22:42 | E35: 0.0051048863 | F35: 1.3409091 | G35: 0.0038070338 | H35: H | J35: 1
A36: 2.767 | B36: 38. | C36: Harri Vehkalahti | D36: 0:23:36 | E36: 0.0059229812 | F36: 1.1590909 | G36: 0.005110023 | H36: H | J36: 1
A37: 2.709 | B37: 9. | C37: Heikki Lindberg | D37: 0:18:24 | E37: 0.0047167877 | F37: 1 | G37: 0.0047167877 | H37: H | J37: 1
A38: 2.709 | B38: 19. | C38: Heikki Takala | D38: 0:21:45 | E38: 0.0055755506 | F38: 1.4772727 | G38: 0.0037742189 | H38: H | J38: 1
A39: 2.709 | B39: 27. | C39: Heli Annila | D39: 0:24:46 | E39: 0.0063488646 | F39: 1.3863636 | G39: 0.0045795089 | H39: D | J39: 1
A40: 2.767 | B40: 41. | C40: Hilkka Lankia | D40: 0:24:28 | E40: 0.0061404918 | F40: 1.7272727 | G40: 0.0035550216 | H40: D | I40: 8 | J40: 30
...

Sheet Kisa 3
A1: 3. kisa
D2: min/km | E2: Hae ikätasoitus | F2: Tasoitettu tulos | G2: Hae sukupuoli | H2: Sija | I2: Pisteet
A3: 3. | B3: Sari Saarijärvi | C3: 0:14:32 | D3: 0.00399865 | E3: 1.3181818 | F3: 0.0030334586 | G3: D | H3: 1 | I3: 50
A4: 5. | B4: Lotta Eerola | C4: 0:15:21 | D4: 0.0042233448 | E4: 1.3409091 | F4: 0.0031496131 | G4: D | H4: 2 | I4: 46
A5: 5. | B5: Salla Pitkänen | C5: 0:14:41 | D5: 0.0040656935 | E5: 1.2727273 | F5: 0.0031944735 | G5: D | H5: 3 | I5: 43
A6: 3. | B6: Sirkka-Liisa Lauronen | C6: 0:14:28 | D6: 0.0040057003 | E6: 1.2272727 | F6: 0.0032639039 | G6: D | H6: 4 | I6: 40
A7: 12. | B7: Saara Yli-Hietanen | C7: 0:16:29 | D7: 0.0044470704 | E7: 1.3409091 | F7: 0.0033164593 | G7: D | H7: 5 | I7: 37
B8: Kaisa Haanpää | C8: 0:16:37 | D8: 0.004571851 | E8: 1.2272727 | F8: 0.003409516 | G8: D | H8: 6 | I8: 34
A9: 3. | B9: Sanni Kymäläinen | C9: 0:14:59 | D9: 0.0041603729 | E9: 1.2045455 | F9: 0.0034538945 | G9: D | H9: 7 | I9: 32
A10: 7. | B10: Anna Kotkajuuri | C10: 0:15:16 | D10: 0.0042272137 | E10: 1.2045455 | F10: 0.0035093849 | G10: D | H10: 8 | I10: 30
A11: 13. | B11: Ella Skog | C11: 0:16:55 | D11: 0.0046543919 | E11: 1.2727273 | F11: 0.0036570222 | G11: D | H11: 9 | I11: 28
A12: 6. | B12: Hanna-Maija Koski | C12: 0:16:10 | D12: 0.0044889452 | E12: 1.2272727 | F12: 0.003657659 | G12: D | H12: 9 | I12: 28
A13: 9. | B13: Terttu Jalanto | C13: 0:19:30 | D13: 0.0052507432 | E13: 1.3863636 | F13: 0.0037874213 | G13: D | H13: 11 | I13: 24
A14: 12. | B14: Rosa Simola | C14: 0:18:28 | D14: 0.0051275786 | E14: 1.3409091 | F14: 0.0038239569 | G14: D | H14: 12 | I14: 22
A15: 17. | B15: Jutta Nurminen | C15: 0:17:43 | D15: 0.0048745011 | E15: 1.2727273 | F15: 0.0038299651 | G15: D | H15: 13 | I15: 20
A16: 19. | B16: Minna Konttila | C16: 0:18:04 | D16: 0.0049707988 | E16: 1.2727273 | F16: 0.0039056277 | G16: D | H16: 14 | I16: 18
A17: 14. | B17: Salla Saarijärvi | C17: 0:18:06 | D17: 0.004883234 | E17: 1.25 | F17: 0.0039065872 | G17: D | H17: 15 | I17: 16
A18: 11. | B18: Kiia Isokallio | C18: 0:17:55 | D18: 0.0049748619 | E18: 1.2727273 | F18: 0.0039088201 | G18: D | H18: 15 | I18: 15
A19: 15. | B19: Kati Haanpää | C19: 0:18:28 | D19: 0.0049821578 | E19: 1.2727273 | F19: 0.0039145525 | G19: D | H19: 15 | I19: 14
A20: 28. | B20: Hilkka Lankia | C20: 0:24:35 | D20: 0.0067637715 | E20: 1.7272727 | F20: 0.0039158677 | G20: D | H20: 15 | I20: 13
... A32: 22. | B32: Saija Laurila | C32: 0:22:38 | D32: 0.0062845232 | E32: 1.3863636 | F32: 0.0045330987 | G32: D | H32: 30 | I32: 1
A33: 22. | B33: Villa Mustajoki | C33: 0:23:09 | D33: 0.0064100434 | E33: 1.4090909 | F33: 0.0045490631 | G33: D | I33: 1
A34: 25. | B34: Heli Annila | C34: 0:23:01 | D34: 0.0063327244 | E34: 1.3863636 | F34: 0.0045678668 | G34: D | I34: 1
A35: 20. | B35: Marika Aronen-Ketola | C35: 0:21:47 | D35: 0.0060316247 | E35: 1.3181818 | F35: 0.0045757153 | G35: D | I35: 1
A36: 27. | B36: Silja Yli-Hietanen | C36: 0:24:00 | D36: 0.0066032752 | E36: 1.4090909 | F36: 0.0046861953 | G36: D | I36: 1
A37: 29. | B37: Tuire Niemi | C37: 0:27:07 | D37: 0.0075293956 | E37: 1.5909091 | F37: 0.004732763 | G37: D | I37: 1
A38: 16. | B38: Vuokko Jurvakainen | C38: 0:19:09 | D38: 0.0053173175 | E38: 1.1136364 | F38: 0.0047747341 | G38: D | I38: 1
A39: 23. | B39: Reea Simola | C39: 0:23:01 | D39: 0.0063909621 | E39: 1.2727273 | F39: 0.0050214702 | G39: D | I39: 1
A40: 26. | B40: Merja Toivonen | C40: 0:25:19 | D40: 0.0070295956 | E40: 1.3863636 | F40: 0.005070528 | G40: D | I40: 1
A41: 32. | B41: Rita Simola | C41: 0:27:15 | D41: 0.0074974687 | E41: 1.4090909 | F41: 0.0053207843 | G41: D | I41: 1
A42: 26. | B42: Maija Yli-Hietanen | C42: 0:24:28 | D42: 0.0067746175 | E42: 1.2727273 | F42: 0.0053229138 | G42: D | I42: 1
A43: 33. | B43: Vilma Pesu | C43: 0:28:36 | D43: 0.007868903 | E43: 1.4090909 | F43: 0.0055843828 | G43: D | I43: 1
A44: 28. | B44: Sanna Raunila | C44: 0:25:05 | D44: 0.0069453674 | E44: 1.2272727 | F44: 0.0056591883 | G44: D | I44: 1
... A65: 40. | B65: Suvi Haarajoki | C65: 0:41:05 | D65: 0.011303523 | E65: 1.1136364 | F65: 0.010150102 | G65: D | I65: 1
B66: Laura Palm | C66: 0:tu:os | D66: #VALUE! | E66: 1.1136364 | F66: #VALUE! | G66: D | I66: 1
B67: Marita Kymäläinen | C67: 0:tu:os | D67: #VALUE! | E67: 1.3863636 | F67: #VALUE! | G67: D | I67: 1
B68: Pirjo Giltig | C68: 0:tu:os | D68: #VALUE! | E68: 1.2727273 | F68: #VALUE! | G68: D | I68: 1
B69: Tuula Sani | C69: 0:tu:os | D69: #VALUE! | E69: 1.4772727 | F69: #VALUE! | G69: D | I69: 1
A71: 2. | B71: Jarkko Huovila | C71: 0:11:07 | D71: 0.002999187 | E71: 1.0681818 | F71: 0.0028077496 | G71: H | H71: 1 | I71: 50
A72: 6. | B72: Mikko Sani | C72: 0:15:04 | D72: 0.0041718353 | E72: 1.4545455 | F72: 0.0028681368 | G72: H | H72: 2 | I72: 46
...

Sheet Kisa  4
K1: min/km | L1: Hae ikätasoitus | M1: Tasoitettu tulos | N1: Hae vastaava nimi | O1: Hae sukupuoli | P1: Sija | Q1: Pisteet
A2: 3.465 | B2: 12 | C2: Lotta | D2: Eerola | E2: 0.013217593 | F2: +03.22 | J2: Lotta Eerola | K2: 0.003814601 | L2: 1.3409091 | M2: 0.0028447872 | N2: Lotta Eerola | O2: D | P2: 1 | Q2: 50
A3: 2.94 | B3: 1 | C3: Sari | D3: Saarijärvi | E3: 0.011041667 | J3: Sari Saarijärvi | K3: 0.0037556689 | L3: 1.3181818 | M3: 0.0028491282 | N3: Sari Saarijärvi | O3: D | P3: 1 | Q3: 46
A4: 3.538 | B4: 20 | C4: Hilkka | D4: Lankia | E4: 0.0178125 | F4: +08.59 | J4: Hilkka Lankia | K4: 0.0050346241 | L4: 1.7272727 | M4: 0.0029147824 | N4: Hilkka Lankia | O4: D | P4: 3 | Q4: 43
A5: 3.597 | B5: 14 | C5: Hanna-Maija | D5: Koski | E5: 0.013125 | F5: +03.30 | J5: Hanna-Maija Koski | K5: 0.0036488741 | L5: 1.2272727 | M5: 0.0029731566 | N5: Hanna-Maija Koski | O5: D | P5: 4 | Q5: 40
A6: 3.465 | B6: 13 | C6: Anni | D6: Haanpää | E6: 0.013229167 | F6: +03.23 | J6: Anni Haanpää | K6: 0.0038179413 | L6: 1.2727273 | M6: 0.002999811 | N6: Anni Haanpää | O6: D | P6: 5 | Q6: 37
A7: 3.538 | B7: 9 | C7: Jaana | D7: Pietilä | E7: 0.014166667 | F7: +03.44 | J7: Jaana Pietilä | K7: 0.0040041455 | L7: 1.3181818 | M7: 0.0030376276 | N7: Jaana Pietilä | O7: D | P7: 6 | Q7: 34
A8: 3.465 | B8: 20 | C8: Kaisa | D8: Haanpää | E8: 0.014155093 | F8: +04.43 | J8: Kaisa Haanpää | K8: 0.0040851638 | L8: 1.3409091 | M8: 0.0030465628 | N8: Kaisa Haanpää | O8: D | P8: 7 | Q8: 32
A9: 2.94 | B9: 7 | C9: Tuula | D9: Sani | E9: 0.013287037 | F9: +03.14 | J9: Tuula Sani | K9: 0.0045194004 | L9: 1.4772727 | M9: 0.0030592864 | N9: Tuula Sani | O9: D | P9: 8 | Q9: 30
A10: 3.538 | B10: 8 | C10: Elo | D10: Saue | E10: 0.014085648 | F10: +03.37 | J10: Elo Saue | K10: 0.0039812459 | L10: 1.2727273 | M10: 0.0031281218 | N10: Elo Saue | O10: D | P10: 9 | Q10: 28
A11: 3.538 | B11: 10 | C11: Reea | D11: Simola | E11: 0.014270833 | F11: +03.53 | J11: Reea Simola | K11: 0.0040335877 | L11: 1.2727273 | M11: 0.0031692475 | N11: Reea Simola | O11: D | P11: 10 | Q11: 26
A12: 3.465 | B12: 14 | C12: Sanni | D12: Kymäläinen | E12: 0.013229167 | F12: +03.23 | J12: Sanni Kymäläinen | K12: 0.0038179413 | L12: 1.2045455 | M12: 0.0031696117 | N12: Sanni Kymäläinen | O12: D | P12: 10 | Q12: 24
A13: 3.597 | B13: 22 | C13: Ella | D13: Skog | E13: 0.014606481 | F13: +05.38 | J13: Ella Skog | K13: 0.0040607399 | L13: 1.2727273 | M13: 0.0031905814 | N13: Ella Skog | O13: D | P13: 12 | Q13: 22
A14: 3.465 | B14: 22 | C14: Salla | D14: Pitkänen | E14: 0.014178241 | F14: +04.45 | J14: Salla Pitkänen | K14: 0.0040918444 | L14: 1.2727273 | M14: 0.0032150206 | N14: Salla Pitkänen | O14: D | P14: 13 | Q14: 20
A15: 3.597 | B15: 28 | C15: Rosa | D15: Simola | E15: 0.01568287 | F15: +07.11 | J15: Rosa Simola | K15: 0.0043599862 | L15: 1.3409091 | M15: 0.0032515151 | N15: Rosa Simola | O15: D | P15: 14 | Q15: 18
... A31: 3.465 | B31: 31 | C31: Minna | D31: Konttila | E31: 0.016122685 | F31: +07.33 | J31: Minna Konttila | K31: 0.0046530116 | L31: 1.2727273 | M31: 0.0036559377 | N31: Minna Konttila | O31: D | P31: 30 | Q31: 1
A32: 2.765 | B32: 5 | C32: Sanna | D32: Matinheikki | E32: 0.012997685 | F32: +02.26 | J32: Sanna Matinheikki | K32: 0.0047007903 | L32: 1.2727273 | M32: 0.0036934781 | N32: Sanna Matinheikki | O32: D | Q32: 1
A33: 3.538 | B33: 29 | C33: Liisa | D33: Kohijoki | E33: 0.022824074 | F33: +16.12 | J33: Liisa Kohijoki | K33: 0.0064511233 | L33: 1.7272727 | M33: 0.0037348608 | N33: Liisa Kohijoki | O33: D | Q33: 1
A34: 2.765 | B34: 3 | C34: Vuokko | D34: Jurvakainen | E34: 0.011724537 | F34: 36 | J34: Vuokko Jurvakainen | K34: 0.0042403389 | L34: 1.1136364 | M34: 0.0038076513 | N34: Vuokko Jurvakainen | O34: D | Q34: 1
A35: 3.465 | B35: 38 | C35: Idaliina | D35: Kuusisto | E35: 0.017905093 | F35: +10.07 | J35: Idaliina Kuusisto | K35: 0.0051674149 | L35: 1.3409091 | M35: 0.0038536653 | N35: Idaliina Kuusisto | O35: D | Q35: 1
A36: 2.94 | B36: 16 | C36: Marita | D36: Kymäläinen | E36: 0.015798611 | F36: +06.51 | J36: Marita Kymäläinen | K36: 0.0053736772 | L36: 1.3863636 | M36: 0.0038760951 | N36: Marita Kymäläinen | O36: D | Q36: 1
A37: 3.465 | B37: 35 | C37: Jenni | D37: Kivikko | E37: 0.017164352 | F37: +09.03 | J37: Jenni Kivikko | K37: 0.0049536369 | L37: 1.2727273 | M37: 0.0038921433 | N37: Jenni Kivikko | O37: D | Q37: 1
A38: 3.465 | B38: 26 | C38: Suvi | D38: Harju | E38: 0.015069444 | F38: +06.02 | J38: Suvi Harju | K38: 0.004349046 | L38: 1.1136364 | M38: 0.0039052658 | N38: Suvi Harju | O38: D | Q38: 1
A39: 3.465 | B39: 34 | C39: Hilla | D39: Toivanen | E39: 0.01693287 | F39: +08.43 | J39: Hilla Toivanen | K39: 0.0048868313 | L39: 1.25 | M39: 0.003909465 | N39: Hilla Toivanen | O39: D | Q39: 1
A40: 2.94 | B40: 15 | C40: Kristiina | D40: Oksanen | E40: 0.015752315 | F40: +06.47 | J40: Kristiina Oksanen | K40: 0.0053579302 | L40: 1.3181818 | M40: 0.0040646367 | N40: Kristiina Oksanen | O40: D | Q40: 1
A41: 2.765 | B41: 14 | C41: Merja | D41: Toivonen | E41: 0.015775463 | F41: +06.26 | J41: Merja Toivonen | K41: 0.0057054116 | L41: 1.3863636 | M41: 0.0041153788 | N41: Merja Toivonen | O41: D | Q41: 1
A42: 2.765 | B42: 22 | C42: Kira | D42: Holmala | E42: 0.018923611 | F42: +10.58 | J42: Kira Holmala | K42: 0.0068439823 | L42: 1.6590909 | M42: 0.00412514 | N42: Kira Holmala | O42: D | Q42: 1
A43: 3.465 | B43: 36 | C43: Minttu | D43: Toivanen | E43: 0.017222222 | F43: +09.08 | J43: Minttu Toivanen | K43: 0.0049703383 | L43: 1.2045455 | M43: 0.0041263186 | N43: Minttu Toivanen | O43: D | Q43: 1
A44: 2.94 | B44: 8 | C44: Mari | D44: Schutskoff | E44: 0.013576389 | F44: +03.39 | J44: Mari Schutskoff | K44: 0.0046178193 | L44: 1.1136364 | M44: 0.0041466133 | N44: Mari Schutskoff | O44: D | Q44: 1
A45: 3.538 | B45: 25 | C45: Vilma | D45: Pesu | E45: 0.020821759 | F45: +13.19 | J45: Vilma Pesu | K45: 0.0058851779 | L45: 1.4090909 | M45: 0.0041765778 | N45: Vilma Pesu | O45: D | Q45: 1
A46: 2.94 | B46: 19 | C46: Marika | D46: Aronen-Ketola | E46: 0.016469907 | F46: +07.49 | J46: Marika Aronen-Ketola | K46: 0.0056020093 | L46: 1.3181818 | M46: 0.0042498002 | N46: Marika Aronen-Ketola | O46: D | Q46: 1
... A67: 2.765 | B67: 27 | C67: Tuuli-Maija | D67: Stenman | E67: 0.024444444 | F67: +18.55 | J67: Tuuli-Maija Stenman | K67: 0.0088406671 | L67: 1.2727273 | M67: 0.0069462384 | N67: Tuuli-Maija Stenman | O67: D | Q67: 1
A68: 3.538 | C68: Aurora | D68: Tuominen | E68: Ei tulosta | J68: Aurora Tuominen | K68: #VALUE! | L68: 1.6590909 | M68: #VALUE! | N68: Aurora Tuominen | O68: D | Q68: 1
A69: 3.465 | C69: Ella | D69: Filppula | E69: Ei tulosta | J69: Ella Filppula | K69: #VALUE! | L69: 1.4090909 | M69: #VALUE! | N69: Ella Filppula | O69: D | Q69: 1
A70: 2.94 | C70: Katriina | D70: Nummela | E70: Ei tulosta | J70: Katriina Nummela | K70: #VALUE! | L70: 1.2272727 | M70: #VALUE! | N70: Katriina Nummela | O70: D | Q70: 1
A71: 3.465 | C71: Sara | D71: Kurth | E71: Ei tulosta | J71: Sara Kurth | K71: #VALUE! | L71: 1.3409091 | M71: #VALUE! | N71: Sara Kurth | O71: D | Q71: 1
A72: 3.538 | C72: Sirpa | D72: Papinsaari | E72: Ei tulosta | J72: Sirpa Papinsaari | K72: #VALUE! | L72: 1.4772727 | M72: #VALUE! | N72: Sirpa Papinsaari | O72: D | Q72: 1
A73: 2.94 | B73: 3 | C73: Mikko | D73: Sani | E73: 0.011655093 | F73: 53 | J73: Mikko Sani | K73: 0.0039643172 | L73: 1.4545455 | M73: 0.0027254681 | N73: Mikko Sani | O73: H | P73: 1 | Q73: 50
A74: 3.597 | B74: 1 | C74: Jarkko | D74: Huovila | E74: 0.010694444 | J74: Jarkko Huovila | K74: 0.0029731566 | L74: 1.0681818 | M74: 0.0027833807 | N74: Jarkko Huovila | O74: H | P74: 2 | Q74: 46
A75: 3.597 | B75: 4 | C75: Vili | D75: Mustonen | E75: 0.011041667 | F75: 30 | J75: Vili Mustonen | K75: 0.0030696877 | L75: 1.0909091 | M75: 0.0028138804 | N75: Vili Mustonen | O75: H | P75: 3 | Q75: 43
...

Sheet yhteenveto laskenta
A1: Osakilpailu | B1: 26.12.2014 | F1: TASOITUS | G1: 1 | H1: 2 | I1: 3 | J1: 4 | K1: Kisojen määrä | L1: pisteet | M1: pisteet, kun 4 kisaa
A2: Aapo | B2: Liponkoski | C2: H | D2: 10 | E2: =(A2&" "&B2) -> Aapo Liponkoski | F2: 1.4772727 | G2: =VLOOKUP($E2,'Kisa 1'!$C$5:$J$151,8,0) -> #N/A | H2: =VLOOKUP(E2,'Kisa 2'!$C$5:$J$183,8,0) -> 1 | I2: =VLOOKUP(E2,'Kisa 3'!$B$3:$I$176,8,0) -> #N/A | J2: =VLOOKUP(E2,'Kisa 4'!$J$2:$Q$195,8,0) -> 1 | K2: =COUNT(G2:J2) -> 2 | L2: =SUMIF(G2:J2,"<>#PUUTTUU!") -> 2
A3: Aapo | B3: Mustajoki | C3: H | D3: 10 | E3: =(A3&" "&B3) -> Aapo Mustajoki | F3: 1.4772727 | G3: =VLOOKUP($E3,'Kisa 1'!$C$5:$J$151,8,0) -> #N/A | H3: =VLOOKUP(E3,'Kisa 2'!$C$5:$J$183,8,0) -> #N/A | I3: =VLOOKUP(E3,'Kisa 3'!$B$3:$I$176,8,0) -> #N/A | J3: =VLOOKUP(E3,'Kisa 4'!$J$2:$Q$195,8,0) -> 1 | K3: =COUNT(G3:J3) -> 1 | L3: =SUMIF(G3:J3,"<>#PUUTTUU!") -> 1
A4: Aki | B4: Koiranen | C4: H | D4: 35 | E4: =(A4&" "&B4) -> Aki Koiranen | F4: 1.0681818 | G4: =VLOOKUP($E4,'Kisa 1'!$C$5:$J$151,8,0) -> #N/A | H4: =VLOOKUP(E4,'Kisa 2'!$C$5:$J$183,8,0) -> #N/A | I4: =VLOOKUP(E4,'Kisa 3'!$B$3:$I$176,8,0) -> 1 | J4: =VLOOKUP(E4,'Kisa 4'!$J$2:$Q$195,8,0) -> 15 | K4: =COUNT(G4:J4) -> 2 | L4: =SUMIF(G4:J4,"<>#PUUTTUU!") -> 16
A5: Akseli | B5: Konttila | C5: H | D5: 12 | E5: =(A5&" "&B5) -> Akseli Konttila | F5: 1.3181818 | G5: =VLOOKUP($E5,'Kisa 1'!$C$5:$J$151,8,0) -> 50 | H5: =VLOOKUP(E5,'Kisa 2'!$C$5:$J$183,8,0) -> 28 | I5: =VLOOKUP(E5,'Kisa 3'!$B$3:$I$176,8,0) -> 1 | J5: =VLOOKUP(E5,'Kisa 4'!$J$2:$Q$195,8,0) -> #N/A | K5: =COUNT(G5:J5) -> 3 | L5: =SUMIF(G5:J5,"<>#PUUTTUU!") -> 79
A6: Akseli | B6: Pesu | C6: H | D6: 10 | E6: =(A6&" "&B6) -> Akseli Pesu | F6: 1.4772727 | G6: =VLOOKUP($E6,'Kisa 1'!$C$5:$J$151,8,0) -> #N/A | H6: =VLOOKUP(E6,'Kisa 2'!$C$5:$J$183,8,0) -> 1 | I6: =VLOOKUP(E6,'Kisa 3'!$B$3:$I$176,8,0) -> #N/A | J6: =VLOOKUP(E6,'Kisa 4'!$J$2:$Q$195,8,0) -> 1 | K6: =COUNT(G6:J6) -> 2 | L6: =SUMIF(G6:J6,"<>#PUUTTUU!") -> 2
A7: Aleksi | B7: Hiidenhovi | C7: H | D7: 16 | E7: =(A7&" "&B7) -> Aleksi Hiidenhovi | F7: 1.1363636 | G7: =VLOOKUP($E7,'Kisa 1'!$C$5:$J$151,8,0) -> #N/A | H7: =VLOOKUP(E7,'Kisa 2'!$C$5:$J$183,8,0) -> 43 | I7: =VLOOKUP(E7,'Kisa 3'!$B$3:$I$176,8,0) -> 1 | J7: =VLOOKUP(E7,'Kisa 4'!$J$2:$Q$195,8,0) -> #N/A | K7: =COUNT(G7:J7) -> 2 | L7: =SUMIF(G7:J7,"<>#PUUTTUU!") -> 44
A8: Aleksi | B8: Tuovinen | C8: H | D8: 21 | E8: =(A8&" "&B8) -> Aleksi Tuovinen | F8: 1 | G8: =VLOOKUP($E8,'Kisa 1'!$C$5:$J$151,8,0) -> #N/A | H8: =VLOOKUP(E8,'Kisa 2'!$C$5:$J$183,8,0) -> 10 | I8: =VLOOKUP(E8,'Kisa 3'!$B$3:$I$176,8,0) -> 9 | J8: =VLOOKUP(E8,'Kisa 4'!$J$2:$Q$195,8,0) -> 6 | K8: =COUNT(G8:J8) -> 3 | L8: =SUMIF(G8:J8,"<>#PUUTTUU!") -> 25
A9: Alexander | B9: Lukichev | C9: H | D9: 21 | E9: =(A9&" "&B9) -> Alexander Lukichev | F9: 1 | G9: =VLOOKUP($E9,'Kisa 1'!$C$5:$J$151,8,0) -> #N/A | H9: =VLOOKUP(E9,'Kisa 2'!$C$5:$J$183,8,0) -> #N/A | I9: =VLOOKUP(E9,'Kisa 3'!$B$3:$I$176,8,0) -> #N/A | J9: =VLOOKUP(E9,'Kisa 4'!$J$2:$Q$195,8,0) -> 1 | K9: =COUNT(G9:J9) -> 1 | L9: =SUMIF(G9:J9,"<>#PUUTTUU!") -> 1
A10: Alma | B10: Toivonen | C10: D | D10: 20 | E10: =(A10&" "&B10) -> Alma Toivonen | F10: 1.2045455 | G10: =VLOOKUP($E10,'Kisa 1'!$C$5:$J$151,8,0) -> #N/A | H10: =VLOOKUP(E10,'Kisa 2'!$C$5:$J$183,8,0) -> 22 | I10: =VLOOKUP(E10,'Kisa 3'!$B$3:$I$176,8,0) -> #N/A | J10: =VLOOKUP(E10,'Kisa 4'!$J$2:$Q$195,8,0) -> #N/A | K10: =COUNT(G10:J10) -> 1 | L10: =SUMIF(G10:J10,"<>#PUUTTUU!") -> 22
A11: André | B11: Bruguière | C11: H | D11: 21 | E11: =(A11&" "&B11) -> André Bruguière | F11: 1 | G11: =VLOOKUP($E11,'Kisa 1'!$C$5:$J$151,8,0) -> 1 | H11: =VLOOKUP(E11,'Kisa 2'!$C$5:$J$183,8,0) -> 1 | I11: =VLOOKUP(E11,'Kisa 3'!$B$3:$I$176,8,0) -> #N/A | J11: =VLOOKUP(E11,'Kisa 4'!$J$2:$Q$195,8,0) -> 2 | K11: =COUNT(G11:J11) -> 3 | L11: =SUMIF(G11:J11,"<>#PUUTTUU!") -> 4
A12: Anja | B12: Mäkelä | C12: D | D12: 50 | E12: =(A12&" "&B12) -> Anja Mäkelä | F12: 1.3863636 | G12: =VLOOKUP($E12,'Kisa 1'!$C$5:$J$151,8,0) -> 1 | H12: =VLOOKUP(E12,'Kisa 2'!$C$5:$J$183,8,0) -> 1 | I12: =VLOOKUP(E12,'Kisa 3'!$B$3:$I$176,8,0) -> #N/A | J12: =VLOOKUP(E12,'Kisa 4'!$J$2:$Q$195,8,0) -> #N/A | K12: =COUNT(G12:J12) -> 2 | L12: =SUMIF(G12:J12,"<>#PUUTTUU!") -> 2
A13: Anna | B13: Jussila | C13: D | D13: 21 | E13: =(A13&" "&B13) -> Anna Jussila | F13: 1.1136364 | G13: =VLOOKUP($E13,'Kisa 1'!$C$5:$J$151,8,0) -> #N/A | H13: =VLOOKUP(E13,'Kisa 2'!$C$5:$J$183,8,0) -> #N/A | I13: =VLOOKUP(E13,'Kisa 3'!$B$3:$I$176,8,0) -> #N/A | J13: =VLOOKUP(E13,'Kisa 4'!$J$2:$Q$195,8,0) -> #N/A | K13: =COUNT(G13:J13) -> 0 | L13: =SUMIF(G13:J13,"<>#PUUTTUU!") -> 0
... A21: Anni | B21: Tanskanen | C21: D | D21: 15 | E21: =(A21&" "&B21) -> Anni Tanskanen | F21: 1.2727273 | G21: =VLOOKUP($E21,'Kisa 1'!$C$5:$J$151,8,0) -> #N/A | H21: =VLOOKUP(E21,'Kisa 2'!$C$5:$J$183,8,0) -> #N/A | I21: =VLOOKUP(E21,'Kisa 3'!$B$3:$I$176,8,0) -> #N/A | J21: =VLOOKUP(E21,'Kisa 4'!$J$2:$Q$195,8,0) -> 6 | K21: =COUNT(G21:J21) -> 1 | L21: =SUMIF(G21:J21,"<>#PUUTTUU!") -> 6
A22: Anton | B22: Kuukka | C22: H | D22: 18 | E22: =(A22&" "&B22) -> Anton Kuukka | F22: 1.0909091 | G22: =VLOOKUP($E22,'Kisa 1'!$C$5:$J$151,8,0) -> 32 | H22: =VLOOKUP(E22,'Kisa 2'!$C$5:$J$183,8,0) -> 50 | I22: =VLOOKUP(E22,'Kisa 3'!$B$3:$I$176,8,0) -> 1 | J22: =VLOOKUP(E22,'Kisa 4'!$J$2:$Q$195,8,0) -> 37 | K22: =COUNT(G22:J22) -> 4 | L22: =SUMIF(G22:J22,"<>#PUUTTUU!") -> 120 | M22: =SUBTOTAL(9,G22,H22,J22) -> 119
A23: Anton | B23: Vehkalahti | C23: H | D23: 12 | E23: =(A23&" "&B23) -> Anton Vehkalahti | F23: 1.3181818 | G23: =VLOOKUP($E23,'Kisa 1'!$C$5:$J$151,8,0) -> #N/A | H23: =VLOOKUP(E23,'Kisa 2'!$C$5:$J$183,8,0) -> #N/A | I23: =VLOOKUP(E23,'Kisa 3'!$B$3:$I$176,8,0) -> 1 | J23: =VLOOKUP(E23,'Kisa 4'!$J$2:$Q$195,8,0) -> #N/A | K23: =COUNT(G23:J23) -> 1 | L23: =SUMIF(G23:J23,"<>#PUUTTUU!") -> 1
A24: Antti | B24: Kivikko | C24: H | D24: 17 | E24: =(A24&" "&B24) -> Antti Kivikko | F24: 1.0909091 | G24: =VLOOKUP($E24,'Kisa 1'!$C$5:$J$151,8,0) -> #N/A | H24: =VLOOKUP(E24,'Kisa 2'!$C$5:$J$183,8,0) -> #N/A | I24: =VLOOKUP(E24,'Kisa 3'!$B$3:$I$176,8,0) -> #N/A | J24: =VLOOKUP(E24,'Kisa 4'!$J$2:$Q$195,8,0) -> 1 | K24: =COUNT(G24:J24) -> 1 | L24: =SUMIF(G24:J24,"<>#PUUTTUU!") -> 1
A25: Antti | B25: Lammi | C25: H | D25: 16 | E25: =(A25&" "&B25) -> Antti Lammi | F25: 1.1363636 | G25: =VLOOKUP($E25,'Kisa 1'!$C$5:$J$151,8,0) -> 6 | H25: =VLOOKUP(E25,'Kisa 2'!$C$5:$J$183,8,0) -> 1 | I25: =VLOOKUP(E25,'Kisa 3'!$B$3:$I$176,8,0) -> 1 | J25: =VLOOKUP(E25,'Kisa 4'!$J$2:$Q$195,8,0) -> 14 | K25: =COUNT(G25:J25) -> 4 | L25: =SUMIF(G25:J25,"<>#PUUTTUU!") -> 22 | M25: =SUBTOTAL(9,G25,I25,J25) -> 21
A26: Antti | B26: Lepola | C26: H | D26: 50 | E26: =(A26&" "&B26) -> Antti Lepola | F26: 1.25 | G26: =VLOOKUP($E26,'Kisa 1'!$C$5:$J$151,8,0) -> 1 | H26: =VLOOKUP(E26,'Kisa 2'!$C$5:$J$183,8,0) -> 1 | I26: =VLOOKUP(E26,'Kisa 3'!$B$3:$I$176,8,0) -> 1 | J26: =VLOOKUP(E26,'Kisa 4'!$J$2:$Q$195,8,0) -> #N/A | K26: =COUNT(G26:J26) -> 3 | L26: =SUMIF(G26:J26,"<>#PUUTTUU!") -> 3
A27: Antti | B27: Rissanen | C27: H | D27: 14 | E27: =(A27&" "&B27) -> Antti Rissanen | F27: 1.2272727 | G27: =VLOOKUP($E27,'Kisa 1'!$C$5:$J$151,8,0) -> 1 | H27: =VLOOKUP(E27,'Kisa 2'!$C$5:$J$183,8,0) -> #N/A | I27: =VLOOKUP(E27,'Kisa 3'!$B$3:$I$176,8,0) -> #N/A | J27: =VLOOKUP(E27,'Kisa 4'!$J$2:$Q$195,8,0) -> #N/A | K27: =COUNT(G27:J27) -> 1 | L27: =SUMIF(G27:J27,"<>#PUUTTUU!") -> 1
A28: Antti | B28: Vähätalo | C28: H | D28: 50 | E28: =(A28&" "&B28) -> Antti Vähätalo | F28: 1.25 | G28: =VLOOKUP($E28,'Kisa 1'!$C$5:$J$151,8,0) -> #N/A | H28: =VLOOKUP(E28,'Kisa 2'!$C$5:$J$183,8,0) -> #N/A | I28: =VLOOKUP(E28,'Kisa 3'!$B$3:$I$176,8,0) -> 13 | J28: =VLOOKUP(E28,'Kisa 4'!$J$2:$Q$195,8,0) -> 1 | K28: =COUNT(G28:J28) -> 2 | L28: =SUMIF(G28:J28,"<>#PUUTTUU!") -> 14
A29: Antti-Jussi | B29: Oksa | C29: H | D29: 14 | E29: =(A29&" "&B29) -> Antti-Jussi Oksa | F29: 1.2272727 | G29: =VLOOKUP($E29,'Kisa 1'!$C$5:$J$151,8,0) -> 1 | H29: =VLOOKUP(E29,'Kisa 2'!$C$5:$J$183,8,0) -> #N/A | I29: =VLOOKUP(E29,'Kisa 3'!$B$3:$I$176,8,0) -> #N/A | J29: =VLOOKUP(E29,'Kisa 4'!$J$2:$Q$195,8,0) -> #N/A | K29: =COUNT(G29:J29) -> 1 | L29: =SUMIF(G29:J29,"<>#PUUTTUU!") -> 1
A30: Ari | B30: Ovaska | C30: H | D30: 60 | E30: =(A30&" "&B30) -> Ari Ovaska | F30: 1.4545455 | G30: =VLOOKUP($E30,'Kisa 1'!$C$5:$J$151,8,0) -> #N/A | H30: =VLOOKUP(E30,'Kisa 2'!$C$5:$J$183,8,0) -> 6 | I30: =VLOOKUP(E30,'Kisa 3'!$B$3:$I$176,8,0) -> 1 | J30: =VLOOKUP(E30,'Kisa 4'!$J$2:$Q$195,8,0) -> 26 | K30: =COUNT(G30:J30) -> 3 | L30: =SUMIF(G30:J30,"<>#PUUTTUU!") -> 33
A31: Ari | B31: Tanskanen | C31: H | D31: 45 | E31: =(A31&" "&B31) -> Ari Tanskanen | F31: 1.1590909 | G31: =VLOOKUP($E31,'Kisa 1'!$C$5:$J$151,8,0) -> #N/A | H31: =VLOOKUP(E31,'Kisa 2'!$C$5:$J$183,8,0) -> #N/A | I31: =VLOOKUP(E31,'Kisa 3'!$B$3:$I$176,8,0) -> #N/A | J31: =VLOOKUP(E31,'Kisa 4'!$J$2:$Q$195,8,0) -> 1 | K31: =COUNT(G31:J31) -> 1 | L31: =SUMIF(G31:J31,"<>#PUUTTUU!") -> 1
A32: Arto | B32: Hokkanen | C32: H | D32: 45 | E32: =(A32&" "&B32) -> Arto Hokkanen | F32: 1.1590909 | G32: =VLOOKUP($E32,'Kisa 1'!$C$5:$J$151,8,0) -> #N/A | H32: =VLOOKUP(E32,'Kisa 2'!$C$5:$J$183,8,0) -> #N/A | I32: =VLOOKUP(E32,'Kisa 3'!$B$3:$I$176,8,0) -> 1 | J32: =VLOOKUP(E32,'Kisa 4'!$J$2:$Q$195,8,0) -> 1 | K32: =COUNT(G32:J32) -> 2 | L32: =SUMIF(G32:J32,"<>#PUUTTUU!") -> 2
A33: Arttu | B33: Pitkänen | C33: H | D33: 14 | E33: =(A33&" "&B33) -> Arttu Pitkänen | F33: 1.2272727 | G33: =VLOOKUP($E33,'Kisa 1'!$C$5:$J$151,8,0) -> #N/A | H33: =VLOOKUP(E33,'Kisa 2'!$C$5:$J$183,8,0) -> 1 | I33: =VLOOKUP(E33,'Kisa 3'!$B$3:$I$176,8,0) -> #N/A | J33: =VLOOKUP(E33,'Kisa 4'!$J$2:$Q$195,8,0) -> #N/A | K33: =COUNT(G33:J33) -> 1 | L33: =SUMIF(G33:J33,"<>#PUUTTUU!") -> 1
A34: Arttu | B34: Vesterinen | C34: H | D34: 16 | E34: =(A34&" "&B34) -> Arttu Vesterinen | F34: 1.1363636 | G34: =VLOOKUP($E34,'Kisa 1'!$C$5:$J$151,8,0) -> 40 | H34: =VLOOKUP(E34,'Kisa 2'!$C$5:$J$183,8,0) -> 30 | I34: =VLOOKUP(E34,'Kisa 3'!$B$3:$I$176,8,0) -> 1 | J34: =VLOOKUP(E34,'Kisa 4'!$J$2:$Q$195,8,0) -> 32 | K34: =COUNT(G34:J34) -> 4 | L34: =SUMIF(G34:J34,"<>#PUUTTUU!") -> 103 | M34: =SUBTOTAL(9,G34,H34,J34) -> 102
A35: Asko | B35: Hämäläinen | C35: H | D35: 21 | E35: =(A35&" "&B35) -> Asko Hämäläinen | F35: 1 | G35: =VLOOKUP($E35,'Kisa 1'!$C$5:$J$151,8,0) -> #N/A | H35: =VLOOKUP(E35,'Kisa 2'!$C$5:$J$183,8,0) -> #N/A | I35: =VLOOKUP(E35,'Kisa 3'!$B$3:$I$176,8,0) -> 1 | J35: =VLOOKUP(E35,'Kisa 4'!$J$2:$Q$195,8,0) -> 1 | K35: =COUNT(G35:J35) -> 2 | L35: =SUMIF(G35:J35,"<>#PUUTTUU!") -> 2
A36: Aurora | B36: Tuominen | C36: D | D36: 8 | E36: =(A36&" "&B36) -> Aurora Tuominen | F36: 1.6590909 | G36: =VLOOKUP($E36,'Kisa 1'!$C$5:$J$151,8,0) -> #N/A | H36: =VLOOKUP(E36,'Kisa 2'!$C$5:$J$183,8,0) -> #N/A | I36: =VLOOKUP(E36,'Kisa 3'!$B$3:$I$176,8,0) -> #N/A | J36: =VLOOKUP(E36,'Kisa 4'!$J$2:$Q$195,8,0) -> 1 | K36: =COUNT(G36:J36) -> 1 | L36: =SUMIF(G36:J36,"<>#PUUTTUU!") -> 1
A37: Eelis | B37: Paju | C37: H | D37: 6 | E37: =(A37&" "&B37) -> Eelis Paju | F37: 1.8409091 | G37: =VLOOKUP($E37,'Kisa 1'!$C$5:$J$151,8,0) -> #N/A | H37: =VLOOKUP(E37,'Kisa 2'!$C$5:$J$183,8,0) -> #N/A | I37: =VLOOKUP(E37,'Kisa 3'!$B$3:$I$176,8,0) -> #N/A | J37: =VLOOKUP(E37,'Kisa 4'!$J$2:$Q$195,8,0) -> 1 | K37: =COUNT(G37:J37) -> 1 | L37: =SUMIF(G37:J37,"<>#PUUTTUU!") -> 1
A38: Eemeli | B38: Laakso | C38: H | D38: 16 | E38: =(A38&" "&B38) -> Eemeli Laakso | F38: 1.1363636 | G38: =VLOOKUP($E38,'Kisa 1'!$C$5:$J$151,8,0) -> #N/A | H38: =VLOOKUP(E38,'Kisa 2'!$C$5:$J$183,8,0) -> 1 | I38: =VLOOKUP(E38,'Kisa 3'!$B$3:$I$176,8,0) -> #N/A | J38: =VLOOKUP(E38,'Kisa 4'!$J$2:$Q$195,8,0) -> #N/A | K38: =COUNT(G38:J38) -> 1 | L38: =SUMIF(G38:J38,"<>#PUUTTUU!") -> 1
A39: Eemil | B39: Koskinen | C39: H | D39: 12 | E39: =(A39&" "&B39) -> Eemil Koskinen | F39: 1.3181818 | G39: =VLOOKUP($E39,'Kisa 1'!$C$5:$J$151,8,0) -> 1 | H39: =VLOOKUP(E39,'Kisa 2'!$C$5:$J$183,8,0) -> 1 | I39: =VLOOKUP(E39,'Kisa 3'!$B$3:$I$176,8,0) -> 1 | J39: =VLOOKUP(E39,'Kisa 4'!$J$2:$Q$195,8,0) -> 1 | K39: =COUNT(G39:J39) -> 4 | L39: =SUMIF(G39:J39,"<>#PUUTTUU!") -> 4 | M39: =SUBTOTAL(9,G39:I39) -> 3
A40: Eetu | B40: Lehtovirta | C40: H | D40: 8 | E40: =(A40&" "&B40) -> Eetu Lehtovirta | F40: 1.6363636 | G40: =VLOOKUP($E40,'Kisa 1'!$C$5:$J$151,8,0) -> #N/A | H40: =VLOOKUP(E40,'Kisa 2'!$C$5:$J$183,8,0) -> #N/A | I40: =VLOOKUP(E40,'Kisa 3'!$B$3:$I$176,8,0) -> 1 | J40: =VLOOKUP(E40,'Kisa 4'!$J$2:$Q$195,8,0) -> 1 | K40: =COUNT(G40:J40) -> 2 | L40: =SUMIF(G40:J40,"<>#PUUTTUU!") -> 2
A41: Eeva-Liisa | B41: Salonen | C41: D | D41: 40 | E41: =(A41&" "&B41) -> Eeva-Liisa Salonen | F41: 1.2727273 | G41: =VLOOKUP($E41,'Kisa 1'!$C$5:$J$151,8,0) -> #N/A | H41: =VLOOKUP(E41,'Kisa 2'!$C$5:$J$183,8,0) -> 1 | I41: =VLOOKUP(E41,'Kisa 3'!$B$3:$I$176,8,0) -> #N/A | J41: =VLOOKUP(E41,'Kisa 4'!$J$2:$Q$195,8,0) -> 1 | K41: =COUNT(G41:J41) -> 2 | L41: =SUMIF(G41:J41,"<>#PUUTTUU!") -> 2
A42: Eino | B42: Lehtiniemi | C42: H | D42: 12 | E42: =(A42&" "&B42) -> Eino Lehtiniemi | F42: 1.3181818 | G42: =VLOOKUP($E42,'Kisa 1'!$C$5:$J$151,8,0) -> 1 | H42: =VLOOKUP(E42,'Kisa 2'!$C$5:$J$183,8,0) -> 1 | I42: =VLOOKUP(E42,'Kisa 3'!$B$3:$I$176,8,0) -> 1 | J42: =VLOOKUP(E42,'Kisa 4'!$J$2:$Q$195,8,0) -> 1 | K42: =COUNT(G42:J42) -> 4 | L42: =SUMIF(G42:J42,"<>#PUUTTUU!") -> 4 | M42: =SUBTOTAL(9,G42:I42) -> 3
A43: Elisa | B43: Tuomisto | C43: D | D43: 21 | E43: =(A43&" "&B43) -> Elisa Tuomisto | F43: 1.1136364 | G43: =VLOOKUP($E43,'Kisa 1'!$C$5:$J$151,8,0) -> #N/A | H43: =VLOOKUP(E43,'Kisa 2'!$C$5:$J$183,8,0) -> 1 | I43: =VLOOKUP(E43,'Kisa 3'!$B$3:$I$176,8,0) -> #N/A | J43: =VLOOKUP(E43,'Kisa 4'!$J$2:$Q$195,8,0) -> #N/A | K43: =COUNT(G43:J43) -> 1 | L43: =SUMIF(G43:J43,"<>#PUUTTUU!") -> 1
A44: Ella | B44: Filppula | C44: D | D44: 12 | E44: =(A44&" "&B44) -> Ella Filppula | F44: 1.4090909 | G44: =VLOOKUP($E44,'Kisa 1'!$C$5:$J$151,8,0) -> #N/A | H44: =VLOOKUP(E44,'Kisa 2'!$C$5:$J$183,8,0) -> #N/A | I44: =VLOOKUP(E44,'Kisa 3'!$B$3:$I$176,8,0) -> 1 | J44: =VLOOKUP(E44,'Kisa 4'!$J$2:$Q$195,8,0) -> 1 | K44: =COUNT(G44:J44) -> 2 | L44: =SUMIF(G44:J44,"<>#PUUTTUU!") -> 2
A45: Ella | B45: Skog | C45: D | D45: 16 | E45: =(A45&" "&B45) -> Ella Skog | F45: 1.2727273 | G45: =VLOOKUP($E45,'Kisa 1'!$C$5:$J$151,8,0) -> #N/A | H45: =VLOOKUP(E45,'Kisa 2'!$C$5:$J$183,8,0) -> 15 | I45: =VLOOKUP(E45,'Kisa 3'!$B$3:$I$176,8,0) -> 28 | J45: =VLOOKUP(E45,'Kisa 4'!$J$2:$Q$195,8,0) -> 22 | K45: =COUNT(G45:J45) -> 3 | L45: =SUMIF(G45:J45,"<>#PUUTTUU!") -> 65
A46: Elli-Noora | B46: Kamppuri | C46: D | D46: 18 | E46: =(A46&" "&B46) -> Elli-Noora Kamppuri | F46: 1.25 | G46: =VLOOKUP($E46,'Kisa 1'!$C$5:$J$151,8,0) -> 1 | H46: =VLOOKUP(E46,'Kisa 2'!$C$5:$J$183,8,0) -> 1 | I46: =VLOOKUP(E46,'Kisa 3'!$B$3:$I$176,8,0) -> #N/A | J46: =VLOOKUP(E46,'Kisa 4'!$J$2:$Q$195,8,0) -> #N/A | K46: =COUNT(G46:J46) -> 2 | L46: =SUMIF(G46:J46,"<>#PUUTTUU!") -> 2
A47: Elmiina | B47: Laakso | C47: D | D47: 10 | E47: =(A47&" "&B47) -> Elmiina Laakso | F47: 1.5 | G47: =VLOOKUP($E47,'Kisa 1'!$C$5:$J$151,8,0) -> #N/A | H47: =VLOOKUP(E47,'Kisa 2'!$C$5:$J$183,8,0) -> 1 | I47: =VLOOKUP(E47,'Kisa 3'!$B$3:$I$176,8,0) -> 1 | J47: =VLOOKUP(E47,'Kisa 4'!$J$2:$Q$195,8,0) -> #N/A | K47: =COUNT(G47:J47) -> 2 | L47: =SUMIF(G47:J47,"<>#PUUTTUU!") -> 2
...

Sheet TULOS
A1: Keski-Tampereen Sprinttiviikko 2014-2015 Pistetilanne
A2: Naiset | C2: Sarja | E2: TASOITUS | F2: Kisa1 | G2: Kisa2 | H2: Kisa3 | I2: Kisa4 | J2: Pisteet
A3: Sari | B3: Saarijärvi | C3: D | D3: 45 | E3: Sari Saarijärvi | F3: 1.3181818 | G3: 43 | H3: 50 | I3: 50 | J3: 46 | K3: 4 | L3: 146
A4: Lotta | B4: Eerola | C4: D | D4: 14 | E4: Lotta Eerola | F4: 1.3409091 | G4: 50 | H4: 43 | I4: 46 | J4: 50 | K4: 4 | L4: 146
A5: Jaana | B5: Pietilä | C5: D | D5: 45 | E5: Jaana Pietilä | F5: 1.3181818 | G5: 46 | H5: 40 | I5: #N/A | J5: 34 | K5: 3 | L5: 120
A6: Hilkka | B6: Lankia | C6: D | D6: 65 | E6: Hilkka Lankia | F6: 1.7272727 | G6: 43 | H6: 30 | I6: 16 | J6: 43 | K6: 4 | L6: 116
A7: Hanna-Maija | B7: Koski | C7: D | D7: 35 | E7: Hanna-Maija Koski | F7: 1.2272727 | G7: 34 | H7: 32 | I7: 28 | J7: 40 | K7: 4 | L7: 106
A8: Sanni | B8: Kymäläinen | C8: D | D8: 20 | E8: Sanni Kymäläinen | F8: 1.2045455 | G8: 26 | H8: 46 | I8: 32 | J8: 26 | K8: 4 | L8: 104
A9: Salla | B9: Pitkänen | C9: D | D9: 16 | E9: Salla Pitkänen | F9: 1.2727273 | G9: #N/A | H9: 26 | I9: 43 | J9: 20 | K9: 3 | L9: 89
A10: Saara | B10: Yli-Hietanen | C10: D | D10: 14 | E10: Saara Yli-Hietanen | F10: 1.3409091 | G10: 30 | H10: 18 | I10: 37 | J10: 15 | K10: 4 | L10: 85
A11: Anni | B11: Haanpää | C11: D | D11: 16 | E11: Anni Haanpää | F11: 1.2727273 | G11: 37 | H11: 1 | I11: #N/A | J11: 37 | K11: 3 | L11: 75
A12: Laura | B12: Palm | C12: D | D12: 21 | E12: Laura Palm | F12: 1.1136364 | G12: 32 | H12: 37 | I12: 1 | J12: #N/A | K12: 3 | L12: 70
A13: Kaisa | B13: Haanpää | C13: D | D13: 14 | E13: Kaisa Haanpää | F13: 1.3409091 | G13: #N/A | H13: #N/A | I13: 34 | J13: 32 | K13: 2 | L13: 66
A14: Ella | B14: Skog | C14: D | D14: 16 | E14: Ella Skog | F14: 1.2727273 | G14: #N/A | H14: 15 | I14: 28 | J14: 22 | K14: 3 | L14: 65
A15: Anna | B15: Kotkajuuri | C15: D | D15: 20 | E15: Anna Kotkajuuri | F15: 1.2045455 | G15: #N/A | H15: 34 | I15: 30 | J15: #N/A | K15: 2 | L15: 64
A16: Rosa | B16: Simola | C16: D | D16: 14 | E16: Rosa Simola | F16: 1.3409091 | G16: 20 | H16: 14 | I16: 22 | J16: 18 | K16: 4 | L16: 60
A17: Lotta | B17: Välkki | C17: D | D17: 14 | E17: Lotta Välkki | F17: 1.3409091 | G17: 12 | H17: 28 | I17: 3 | J17: 12 | K17: 4 | L17: 52
A18: Terttu | B18: Jalanto | C18: D | D18: 50 | E18: Terttu Jalanto | F18: 1.3863636 | G18: 18 | H18: #N/A | I18: 24 | J18: 7 | K18: 3 | L18: 49
A19: Reea | B19: Simola | C19: D | D19: 16 | E19: Reea Simola | F19: 1.2727273 | G19: 14 | H19: 5 | I19: 1 | J19: 26 | K19: 4 | L19: 45
A20: Silja | B20: Yli-Hietanen | C20: D | D20: 12 | E20: Silja Yli-Hietanen | F20: 1.4090909 | G20: 9 | H20: 20 | I20: 1 | J20: 12 | K20: 4 | L20: 41
A21: Terhi | B21: Rajamäki | C21: D | D21: 50 | E21: Terhi Rajamäki | F21: 1.3863636 | G21: 16 | H21: 1 | I21: 11 | J21: 14 | K21: 4 | L21: 41
A22: Sirkka-Liisa | B22: Lauronen | C22: D | D22: 35 | E22: Sirkka-Liisa Lauronen | F22: 1.2272727 | G22: #N/A | H22: #N/A | I22: 40 | J22: #N/A | K22: 1 | L22: 40
A23: Minna | B23: Konttila | C23: D | D23: 40 | E23: Minna Konttila | F23: 1.2727273 | G23: 9 | H23: 7 | I23: 18 | J23: 1 | K23: 4 | L23: 34
A24: Salla | B24: Saarijärvi | C24: D | D24: 18 | E24: Salla Saarijärvi | F24: 1.25 | G24: #N/A | H24: 16 | I24: 16 | J24: #N/A | K24: 2 | L24: 32
A25: Tuula | B25: Sani | C25: D | D25: 55 | E25: Tuula Sani | F25: 1.4772727 | G25: #N/A | H25: #N/A | I25: 1 | J25: 30 | K25: 2 | L25: 31
A26: Katri | B26: Niittymäki | C26: D | D26: 40 | E26: Katri Niittymäki | F26: 1.2727273 | G26: #N/A | H26: 11 | I26: 1 | J26: 18 | K26: 3 | L26: 30
A27: Sonja | B27: Kyrölä | C27: D | D27: 21 | E27: Sonja Kyrölä | F27: 1.1136364 | G27: 30 | H27: #N/A | I27: #N/A | J27: #N/A | K27: 1 | L27: 30
A28: Kati | B28: Haanpää | C28: D | D28: 40 | E28: Kati Haanpää | F28: 1.2727273 | G28: 3 | H28: 3 | I28: 16 | J28: 10 | K28: 4 | L28: 29
A29: Heli | B29: Ketola | C29: D | D29: 40 | E29: Heli Ketola | F29: 1.2727273 | G29: 15 | H29: #N/A | I29: #N/A | J29: 14 | K29: 2 | L29: 29
A30: Elo | B30: Saue | C30: D | D30: 40 | E30: Elo Saue | F30: 1.2727273 | G30: #N/A | H30: #N/A | I30: #N/A | J30: 28 | K30: 1 | L30: 28
A31: Riikka | B31: Eerola | C31: D | D31: 45 | E31: Riikka Eerola | F31: 1.3181818 | G31: 13 | H31: 6 | I31: 9 | J31: #N/A | K31: 3 | L31: 28
A32: Minna | B32: Saarinen | C32: D | D32: 21 | E32: Minna Saarinen | F32: 1.1136364 | G32: #N/A | H32: 13 | I32: 12 | J32: #N/A | K32: 2 | L32: 25
A33: Mervi | B33: Pesu | C33: D | D33: 40 | E33: Mervi Pesu | F33: 1.2727273 | G33: #N/A | H33: 24 | I33: #N/A | J33: #N/A | K33: 1 | L33: 24
A34: Vilma | B34: Annala | C34: D | D34: 16 | E34: Vilma Annala | F34: 1.2727273 | G34: 24 | H34: #N/A | I34: #N/A | J34: #N/A | K34: 1 | L34: 24
A35: Alma | B35: Toivonen | C35: D | D35: 20 | E35: Alma Toivonen | F35: 1.2045455 | G35: #N/A | H35: 22 | I35: #N/A | J35: #N/A | K35: 1 | L35: 22
A36: Miia | B36: Niittynen | C36: D | D36: 21 | E36: Miia Niittynen | F36: 1.1136364 | G36: 22 | H36: #N/A | I36: #N/A | J36: #N/A | K36: 1 | L36: 22
A37: Suvi | B37: Harju | C37: D | D37: 21 | E37: Suvi Harju | F37: 1.1136364 | G37: 1 | H37: 9 | I37: 10 | J37: 1 | K37: 4 | L37: 20
A38: Jutta | B38: Nurminen | C38: D | D38: 16 | E38: Jutta Nurminen | F38: 1.2727273 | G38: #N/A | H38: #N/A | I38: 20 | J38: #N/A | K38: 1 | L38: 20
A39: Kiia | B39: Isokallio | C39: D | D39: 16 | E39: Kiia Isokallio | F39: 1.2727273 | G39: #N/A | H39: #N/A | I39: 16 | J39: 2 | K39: 2 | L39: 18
A40: Idaliina | B40: Kuusisto | C40: D | D40: 14 | E40: Idaliina Kuusisto | F40: 1.3409091 | G40: 11 | H40: 1 | I40: #N/A | J40: 1 | K40: 3 | L40: 13
...

Sheet ..

Sheet ....
A1: Osakilpailu | B1: 26.12.2014 | F1: TASOITUS | G1: 1 | H1: 2 | I1: 3 | J1: 4 | K1: Kisojen määrä | L1: pisteet | M1: pisteet, kun 4 kisaa
A2: Lotta | B2: Eerola | C2: D | D2: 14 | E2: =(A2&" "&B2) -> Lotta Eerola | F2: 1.3409091 | G2: =VLOOKUP($E2,'Kisa 1'!$C$5:$J$151,8,0) -> 50 | H2: =VLOOKUP(E2,'Kisa 2'!$C$5:$J$183,8,0) -> 43 | I2: =VLOOKUP(E2,'Kisa 3'!$B$3:$I$176,8,0) -> 46 | J2: =VLOOKUP(E2,'Kisa 4'!$J$2:$Q$195,8,0) -> 50 | K2: =COUNT(G2:J2) -> 4 | L2: =SUMIF(G2:J2,"<>#PUUTTUU!") -> 189 | M2: =SUBTOTAL(9,G2,I2,J2) -> 146
A3: Sari | B3: Saarijärvi | C3: D | D3: 45 | E3: =(A3&" "&B3) -> Sari Saarijärvi | F3: 1.3181818 | G3: =VLOOKUP($E3,'Kisa 1'!$C$5:$J$151,8,0) -> 43 | H3: =VLOOKUP(E3,'Kisa 2'!$C$5:$J$183,8,0) -> 50 | I3: =VLOOKUP(E3,'Kisa 3'!$B$3:$I$176,8,0) -> 50 | J3: =VLOOKUP(E3,'Kisa 4'!$J$2:$Q$195,8,0) -> 46 | K3: =COUNT(G3:J3) -> 4 | L3: =SUMIF(G3:J3,"<>#PUUTTUU!") -> 189 | M3: =SUBTOTAL(9,H3:J3) -> 146
A4: Hanna-Maija | B4: Koski | C4: D | D4: 35 | E4: =(A4&" "&B4) -> Hanna-Maija Koski | F4: 1.2272727 | G4: =VLOOKUP($E4,'Kisa 1'!$C$5:$J$151,8,0) -> 34 | H4: =VLOOKUP(E4,'Kisa 2'!$C$5:$J$183,8,0) -> 32 | I4: =VLOOKUP(E4,'Kisa 3'!$B$3:$I$176,8,0) -> 28 | J4: =VLOOKUP(E4,'Kisa 4'!$J$2:$Q$195,8,0) -> 40 | K4: =COUNT(G4:J4) -> 4 | L4: =SUMIF(G4:J4,"<>#PUUTTUU!") -> 134 | M4: =SUBTOTAL(9,G4,H4,J4) -> 106
A5: Sanni | B5: Kymäläinen | C5: D | D5: 20 | E5: =(A5&" "&B5) -> Sanni Kymäläinen | F5: 1.2045455 | G5: =VLOOKUP($E5,'Kisa 1'!$C$5:$J$151,8,0) -> 26 | H5: =VLOOKUP(E5,'Kisa 2'!$C$5:$J$183,8,0) -> 46 | I5: =VLOOKUP(E5,'Kisa 3'!$B$3:$I$176,8,0) -> 32 | J5: =VLOOKUP(E5,'Kisa 4'!$J$2:$Q$195,8,0) -> 24 | K5: =COUNT(G5:J5) -> 4 | L5: =SUMIF(G5:J5,"<>#PUUTTUU!") -> 128 | M5: =SUBTOTAL(9,G5:I5) -> 104
A6: Hilkka | B6: Lankia | C6: D | D6: 65 | E6: =(A6&" "&B6) -> Hilkka Lankia | F6: 1.7272727 | G6: =VLOOKUP($E6,'Kisa 1'!$C$5:$J$151,8,0) -> 40 | H6: =VLOOKUP(E6,'Kisa 2'!$C$5:$J$183,8,0) -> 30 | I6: =VLOOKUP(E6,'Kisa 3'!$B$3:$I$176,8,0) -> 13 | J6: =VLOOKUP(E6,'Kisa 4'!$J$2:$Q$195,8,0) -> 43 | K6: =COUNT(G6:J6) -> 4 | L6: =SUMIF(G6:J6,"<>#PUUTTUU!") -> 126 | M6: =SUBTOTAL(9,G6,H6,J6) -> 113
A7: Jaana | B7: Pietilä | C7: D | D7: 45 | E7: =(A7&" "&B7) -> Jaana Pietilä | F7: 1.3181818 | G7: =VLOOKUP($E7,'Kisa 1'!$C$5:$J$151,8,0) -> 46 | H7: =VLOOKUP(E7,'Kisa 2'!$C$5:$J$183,8,0) -> 40 | I7: =VLOOKUP(E7,'Kisa 3'!$B$3:$I$176,8,0) -> #N/A | J7: =VLOOKUP(E7,'Kisa 4'!$J$2:$Q$195,8,0) -> 34 | K7: =COUNT(G7:J7) -> 3 | L7: =SUMIF(G7:J7,"<>#PUUTTUU!") -> 120 | M7: 120
A8: Saara | B8: Yli-Hietanen | C8: D | D8: 14 | E8: =(A8&" "&B8) -> Saara Yli-Hietanen | F8: 1.3409091 | G8: =VLOOKUP($E8,'Kisa 1'!$C$5:$J$151,8,0) -> 28 | H8: =VLOOKUP(E8,'Kisa 2'!$C$5:$J$183,8,0) -> 18 | I8: =VLOOKUP(E8,'Kisa 3'!$B$3:$I$176,8,0) -> 37 | J8: =VLOOKUP(E8,'Kisa 4'!$J$2:$Q$195,8,0) -> 15 | K8: =COUNT(G8:J8) -> 4 | L8: =SUMIF(G8:J8,"<>#PUUTTUU!") -> 98 | M8: =SUBTOTAL(9,G8:I8) -> 83
A9: Salla | B9: Pitkänen | C9: D | D9: 16 | E9: =(A9&" "&B9) -> Salla Pitkänen | F9: 1.2727273 | G9: =VLOOKUP($E9,'Kisa 1'!$C$5:$J$151,8,0) -> #N/A | H9: =VLOOKUP(E9,'Kisa 2'!$C$5:$J$183,8,0) -> 26 | I9: =VLOOKUP(E9,'Kisa 3'!$B$3:$I$176,8,0) -> 43 | J9: =VLOOKUP(E9,'Kisa 4'!$J$2:$Q$195,8,0) -> 20 | K9: =COUNT(G9:J9) -> 3 | L9: =SUMIF(G9:J9,"<>#PUUTTUU!") -> 89 | M9: =SUMIF(H9:K9,"<>#PUUTTUU!") -> 92
A10: Anni | B10: Haanpää | C10: D | D10: 16 | E10: =(A10&" "&B10) -> Anni Haanpää | F10: 1.2727273 | G10: =VLOOKUP($E10,'Kisa 1'!$C$5:$J$151,8,0) -> 37 | H10: =VLOOKUP(E10,'Kisa 2'!$C$5:$J$183,8,0) -> 1 | I10: =VLOOKUP(E10,'Kisa 3'!$B$3:$I$176,8,0) -> #N/A | J10: =VLOOKUP(E10,'Kisa 4'!$J$2:$Q$195,8,0) -> 37 | K10: =COUNT(G10:J10) -> 3 | L10: =SUMIF(G10:J10,"<>#PUUTTUU!") -> 75 | M10: 75
A11: Rosa | B11: Simola | C11: D | D11: 14 | E11: =(A11&" "&B11) -> Rosa Simola | F11: 1.3409091 | G11: =VLOOKUP($E11,'Kisa 1'!$C$5:$J$151,8,0) -> 20 | H11: =VLOOKUP(E11,'Kisa 2'!$C$5:$J$183,8,0) -> 14 | I11: =VLOOKUP(E11,'Kisa 3'!$B$3:$I$176,8,0) -> 22 | J11: =VLOOKUP(E11,'Kisa 4'!$J$2:$Q$195,8,0) -> 18 | K11: =COUNT(G11:J11) -> 4 | L11: =SUMIF(G11:J11,"<>#PUUTTUU!") -> 74 | M11: =SUBTOTAL(9,G11,I11,J11) -> 60
A12: Laura | B12: Palm | C12: D | D12: 21 | E12: =(A12&" "&B12) -> Laura Palm | F12: 1.1136364 | G12: =VLOOKUP($E12,'Kisa 1'!$C$5:$J$151,8,0) -> 32 | H12: =VLOOKUP(E12,'Kisa 2'!$C$5:$J$183,8,0) -> 37 | I12: =VLOOKUP(E12,'Kisa 3'!$B$3:$I$176,8,0) -> 1 | J12: =VLOOKUP(E12,'Kisa 4'!$J$2:$Q$195,8,0) -> #N/A | K12: =COUNT(G12:J12) -> 3 | L12: =SUMIF(G12:J12,"<>#PUUTTUU!") -> 70 | M12: =SUMIF(H12:K12,"<>#PUUTTUU!") -> 41
A13: Kaisa | B13: Haanpää | C13: D | D13: 14 | E13: =(A13&" "&B13) -> Kaisa Haanpää | F13: 1.3409091 | G13: =VLOOKUP($E13,'Kisa 1'!$C$5:$J$151,8,0) -> #N/A | H13: =VLOOKUP(E13,'Kisa 2'!$C$5:$J$183,8,0) -> #N/A | I13: =VLOOKUP(E13,'Kisa 3'!$B$3:$I$176,8,0) -> 34 | J13: =VLOOKUP(E13,'Kisa 4'!$J$2:$Q$195,8,0) -> 32 | K13: =COUNT(G13:J13) -> 2 | L13: =SUMIF(G13:J13,"<>#PUUTTUU!") -> 66 | M13: =SUMIF(H13:K13,"<>#PUUTTUU!") -> 68
A14: Ella | B14: Skog | C14: D | D14: 16 | E14: =(A14&" "&B14) -> Ella Skog | F14: 1.2727273 | G14: =VLOOKUP($E14,'Kisa 1'!$C$5:$J$151,8,0) -> #N/A | H14: =VLOOKUP(E14,'Kisa 2'!$C$5:$J$183,8,0) -> 15 | I14: =VLOOKUP(E14,'Kisa 3'!$B$3:$I$176,8,0) -> 28 | J14: =VLOOKUP(E14,'Kisa 4'!$J$2:$Q$195,8,0) -> 22 | K14: =COUNT(G14:J14) -> 3 | L14: =SUMIF(G14:J14,"<>#PUUTTUU!") -> 65 | M14: =SUMIF(H14:K14,"<>#PUUTTUU!") -> 68
A15: Anna | B15: Kotkajuuri | C15: D | D15: 20 | E15: =(A15&" "&B15) -> Anna Kotkajuuri | F15: 1.2045455 | G15: =VLOOKUP($E15,'Kisa 1'!$C$5:$J$151,8,0) -> #N/A | H15: =VLOOKUP(E15,'Kisa 2'!$C$5:$J$183,8,0) -> 34 | I15: =VLOOKUP(E15,'Kisa 3'!$B$3:$I$176,8,0) -> 30 | J15: =VLOOKUP(E15,'Kisa 4'!$J$2:$Q$195,8,0) -> #N/A | K15: =COUNT(G15:J15) -> 2 | L15: =SUMIF(G15:J15,"<>#PUUTTUU!") -> 64 | M15: =SUMIF(H15:K15,"<>#PUUTTUU!") -> 66
A16: Lotta | B16: Välkki | C16: D | D16: 14 | E16: =(A16&" "&B16) -> Lotta Välkki | F16: 1.3409091 | G16: =VLOOKUP($E16,'Kisa 1'!$C$5:$J$151,8,0) -> 12 | H16: =VLOOKUP(E16,'Kisa 2'!$C$5:$J$183,8,0) -> 28 | I16: =VLOOKUP(E16,'Kisa 3'!$B$3:$I$176,8,0) -> 3 | J16: =VLOOKUP(E16,'Kisa 4'!$J$2:$Q$195,8,0) -> 11 | K16: =COUNT(G16:J16) -> 4 | L16: =SUMIF(G16:J16,"<>#PUUTTUU!") -> 54 | M16: =SUBTOTAL(9,G16:H16,J16) -> 51
A17: Terttu | B17: Jalanto | C17: D | D17: 50 | E17: =(A17&" "&B17) -> Terttu Jalanto | F17: 1.3863636 | G17: =VLOOKUP($E17,'Kisa 1'!$C$5:$J$151,8,0) -> 18 | H17: =VLOOKUP(E17,'Kisa 2'!$C$5:$J$183,8,0) -> #N/A | I17: =VLOOKUP(E17,'Kisa 3'!$B$3:$I$176,8,0) -> 24 | J17: =VLOOKUP(E17,'Kisa 4'!$J$2:$Q$195,8,0) -> 7 | K17: =COUNT(G17:J17) -> 3 | L17: =SUMIF(G17:J17,"<>#PUUTTUU!") -> 49 | M17: =SUMIF(H17:K17,"<>#PUUTTUU!") -> 34
A18: Reea | B18: Simola | C18: D | D18: 16 | E18: =(A18&" "&B18) -> Reea Simola | F18: 1.2727273 | G18: =VLOOKUP($E18,'Kisa 1'!$C$5:$J$151,8,0) -> 14 | H18: =VLOOKUP(E18,'Kisa 2'!$C$5:$J$183,8,0) -> 5 | I18: =VLOOKUP(E18,'Kisa 3'!$B$3:$I$176,8,0) -> 1 | J18: =VLOOKUP(E18,'Kisa 4'!$J$2:$Q$195,8,0) -> 26 | K18: =COUNT(G18:J18) -> 4 | L18: =SUMIF(G18:J18,"<>#PUUTTUU!") -> 46 | M18: =SUBTOTAL(9,G18,H18,J18) -> 45
A19: Terhi | B19: Rajamäki | C19: D | D19: 50 | E19: =(A19&" "&B19) -> Terhi Rajamäki | F19: 1.3863636 | G19: =VLOOKUP($E19,'Kisa 1'!$C$5:$J$151,8,0) -> 16 | H19: =VLOOKUP(E19,'Kisa 2'!$C$5:$J$183,8,0) -> 1 | I19: =VLOOKUP(E19,'Kisa 3'!$B$3:$I$176,8,0) -> 11 | J19: =VLOOKUP(E19,'Kisa 4'!$J$2:$Q$195,8,0) -> 14 | K19: =COUNT(G19:J19) -> 4 | L19: =SUMIF(G19:J19,"<>#PUUTTUU!") -> 42 | M19: =SUBTOTAL(9,G19,I19:J19) -> 41
A20: Silja | B20: Yli-Hietanen | C20: D | D20: 12 | E20: =(A20&" "&B20) -> Silja Yli-Hietanen | F20: 1.4090909 | G20: =VLOOKUP($E20,'Kisa 1'!$C$5:$J$151,8,0) -> 8 | H20: =VLOOKUP(E20,'Kisa 2'!$C$5:$J$183,8,0) -> 20 | I20: =VLOOKUP(E20,'Kisa 3'!$B$3:$I$176,8,0) -> 1 | J20: =VLOOKUP(E20,'Kisa 4'!$J$2:$Q$195,8,0) -> 12 | K20: =COUNT(G20:J20) -> 4 | L20: =SUMIF(G20:J20,"<>#PUUTTUU!") -> 41 | M20: =SUBTOTAL(9,G20:H20,J20) -> 40
A21: Sirkka-Liisa | B21: Lauronen | C21: D | D21: 35 | E21: =(A21&" "&B21) -> Sirkka-Liisa Lauronen | F21: 1.2272727 | G21: =VLOOKUP($E21,'Kisa 1'!$C$5:$J$151,8,0) -> #N/A | H21: =VLOOKUP(E21,'Kisa 2'!$C$5:$J$183,8,0) -> #N/A | I21: =VLOOKUP(E21,'Kisa 3'!$B$3:$I$176,8,0) -> 40 | J21: =VLOOKUP(E21,'Kisa 4'!$J$2:$Q$195,8,0) -> #N/A | K21: =COUNT(G21:J21) -> 1 | L21: =SUMIF(G21:J21,"<>#PUUTTUU!") -> 40 | M21: 40
A22: Minna | B22: Konttila | C22: D | D22: 40 | E22: =(A22&" "&B22) -> Minna Konttila | F22: 1.2727273 | G22: =VLOOKUP($E22,'Kisa 1'!$C$5:$J$151,8,0) -> 9 | H22: =VLOOKUP(E22,'Kisa 2'!$C$5:$J$183,8,0) -> 7 | I22: =VLOOKUP(E22,'Kisa 3'!$B$3:$I$176,8,0) -> 18 | J22: =VLOOKUP(E22,'Kisa 4'!$J$2:$Q$195,8,0) -> 1 | K22: =COUNT(G22:J22) -> 4 | L22: =SUMIF(G22:J22,"<>#PUUTTUU!") -> 35 | M22: =SUBTOTAL(9,G22:I22) -> 34
A23: Salla | B23: Saarijärvi | C23: D | D23: 18 | E23: =(A23&" "&B23) -> Salla Saarijärvi | F23: 1.25 | G23: =VLOOKUP($E23,'Kisa 1'!$C$5:$J$151,8,0) -> #N/A | H23: =VLOOKUP(E23,'Kisa 2'!$C$5:$J$183,8,0) -> 16 | I23: =VLOOKUP(E23,'Kisa 3'!$B$3:$I$176,8,0) -> 16 | J23: =VLOOKUP(E23,'Kisa 4'!$J$2:$Q$195,8,0) -> #N/A | K23: =COUNT(G23:J23) -> 2 | L23: =SUMIF(G23:J23,"<>#PUUTTUU!") -> 32 | M23: 32
A24: Tuula | B24: Sani | C24: D | D24: 55 | E24: =(A24&" "&B24) -> Tuula Sani | F24: 1.4772727 | G24: =VLOOKUP($E24,'Kisa 1'!$C$5:$J$151,8,0) -> #N/A | H24: =VLOOKUP(E24,'Kisa 2'!$C$5:$J$183,8,0) -> #N/A | I24: =VLOOKUP(E24,'Kisa 3'!$B$3:$I$176,8,0) -> 1 | J24: =VLOOKUP(E24,'Kisa 4'!$J$2:$Q$195,8,0) -> 30 | K24: =COUNT(G24:J24) -> 2 | L24: =SUMIF(G24:J24,"<>#PUUTTUU!") -> 31 | M24: 31
A25: Sonja | B25: Kyrölä | C25: D | D25: 21 | E25: =(A25&" "&B25) -> Sonja Kyrölä | F25: 1.1136364 | G25: =VLOOKUP($E25,'Kisa 1'!$C$5:$J$151,8,0) -> 30 | H25: =VLOOKUP(E25,'Kisa 2'!$C$5:$J$183,8,0) -> #N/A | I25: =VLOOKUP(E25,'Kisa 3'!$B$3:$I$176,8,0) -> #N/A | J25: =VLOOKUP(E25,'Kisa 4'!$J$2:$Q$195,8,0) -> #N/A | K25: =COUNT(G25:J25) -> 1 | L25: =SUMIF(G25:J25,"<>#PUUTTUU!") -> 30 | M25: 30
A26: Kati | B26: Haanpää | C26: D | D26: 40 | E26: =(A26&" "&B26) -> Kati Haanpää | F26: 1.2727273 | G26: =VLOOKUP($E26,'Kisa 1'!$C$5:$J$151,8,0) -> 3 | H26: =VLOOKUP(E26,'Kisa 2'!$C$5:$J$183,8,0) -> 3 | I26: =VLOOKUP(E26,'Kisa 3'!$B$3:$I$176,8,0) -> 14 | J26: =VLOOKUP(E26,'Kisa 4'!$J$2:$Q$195,8,0) -> 9 | K26: =COUNT(G26:J26) -> 4 | L26: =SUMIF(G26:J26,"<>#PUUTTUU!") -> 29 | M26: =SUBTOTAL(9,H26:J26) -> 26
A27: Elo | B27: Saue | C27: D | D27: 40 | E27: =(A27&" "&B27) -> Elo Saue | F27: 1.2727273 | G27: =VLOOKUP($E27,'Kisa 1'!$C$5:$J$151,8,0) -> #N/A | H27: =VLOOKUP(E27,'Kisa 2'!$C$5:$J$183,8,0) -> #N/A | I27: =VLOOKUP(E27,'Kisa 3'!$B$3:$I$176,8,0) -> #N/A | J27: =VLOOKUP(E27,'Kisa 4'!$J$2:$Q$195,8,0) -> 28 | K27: =COUNT(G27:J27) -> 1 | L27: =SUMIF(G27:J27,"<>#PUUTTUU!") -> 28 | M27: 28
A28: Heli | B28: Ketola | C28: D | D28: 40 | E28: =(A28&" "&B28) -> Heli Ketola | F28: 1.2727273 | G28: =VLOOKUP($E28,'Kisa 1'!$C$5:$J$151,8,0) -> 15 | H28: =VLOOKUP(E28,'Kisa 2'!$C$5:$J$183,8,0) -> #N/A | I28: =VLOOKUP(E28,'Kisa 3'!$B$3:$I$176,8,0) -> #N/A | J28: =VLOOKUP(E28,'Kisa 4'!$J$2:$Q$195,8,0) -> 13 | K28: =COUNT(G28:J28) -> 2 | L28: =SUMIF(G28:J28,"<>#PUUTTUU!") -> 28 | M28: 28
A29: Katri | B29: Niittymäki | C29: D | D29: 40 | E29: =(A29&" "&B29) -> Katri Niittymäki | F29: 1.2727273 | G29: =VLOOKUP($E29,'Kisa 1'!$C$5:$J$151,8,0) -> #N/A | H29: =VLOOKUP(E29,'Kisa 2'!$C$5:$J$183,8,0) -> 11 | I29: =VLOOKUP(E29,'Kisa 3'!$B$3:$I$176,8,0) -> 1 | J29: =VLOOKUP(E29,'Kisa 4'!$J$2:$Q$195,8,0) -> 16 | K29: =COUNT(G29:J29) -> 3 | L29: =SUMIF(G29:J29,"<>#PUUTTUU!") -> 28 | M29: 28
A30: Riikka | B30: Eerola | C30: D | D30: 45 | E30: =(A30&" "&B30) -> Riikka Eerola | F30: 1.3181818 | G30: =VLOOKUP($E30,'Kisa 1'!$C$5:$J$151,8,0) -> 13 | H30: =VLOOKUP(E30,'Kisa 2'!$C$5:$J$183,8,0) -> 6 | I30: =VLOOKUP(E30,'Kisa 3'!$B$3:$I$176,8,0) -> 9 | J30: =VLOOKUP(E30,'Kisa 4'!$J$2:$Q$195,8,0) -> #N/A | K30: =COUNT(G30:J30) -> 3 | L30: =SUMIF(G30:J30,"<>#PUUTTUU!") -> 28 | M30: 28
A31: Minna | B31: Saarinen | C31: D | D31: 21 | E31: =(A31&" "&B31) -> Minna Saarinen | F31: 1.1136364 | G31: =VLOOKUP($E31,'Kisa 1'!$C$5:$J$151,8,0) -> #N/A | H31: =VLOOKUP(E31,'Kisa 2'!$C$5:$J$183,8,0) -> 13 | I31: =VLOOKUP(E31,'Kisa 3'!$B$3:$I$176,8,0) -> 12 | J31: =VLOOKUP(E31,'Kisa 4'!$J$2:$Q$195,8,0) -> #N/A | K31: =COUNT(G31:J31) -> 2 | L31: =SUMIF(G31:J31,"<>#PUUTTUU!") -> 25 | M31: 25
