Workbook

Sheet Start
F1: Tampereen Pyrintö
F2: HPK 2017/TP/ME
F3: Alkuper/Jouni Kinni
F4: Muokkaus Heikki V/2010
F5: ME 29.10.2016
A9: Moron!
A10: Tämä on Tampereen Pyrinnön suunnistusjaoston harjoituspäiväkirja vuodelle | H10: 2017
A12: Ohjeet:
A14: 1) Kirjoita nimesi laatikkoon:
B15: N.N.
A17: 2) Jos haluat, voit muuttaa harjoitustyyppien nimiä:
A18: -
A19: 1 | B19: Peruskestävyys
A20: 2 | B20: Vauhtikestävyys
A21: 3 | B21: Maksimikestävyys | D21: Koulumatka:
A22: 4 | B22: Lihaskunto/aerobiset voimaharjoitteet
A23: 5 | B23: maksimisyke- ja anaerobiset voimaharjoitteet
A24: 6 | B24: Liikkuvuus- ja koordinaatio
A25: 7 | B25: Pelit
A27: Samoin voit muuttaa km-sarakkeiden otsikoita: | D27: Ju | E27: Hi | F27: Su | G27: Py
A29: 3) Harjoitusaikojen täyttäminen:
A31: - Klikkaa alareunasta taulukko "Tiedot" näkyviin
A32: - Kirjoita kunkin harjoitustyypin kestoaika minuutteina keltaisiin laatikoihin.
A33: - Täytä lisäksi leposyke, keskisyke, harjoituskilometrit sekä kommentit harjoituksesta.
A35: Harjoitusajat ja -kilometrit lisätään automaattisesti vuoden yhteenvetoon.
A36: Harjoitusmäärät esitetään myös graafisesti viikoittain sekä vuosiyhteenvetona.
A38: 4) Kilpailupäiväkirjan täyttäminen
A39: - Täytä kilpailupäiväkirja esimerkkirivin mukaan (ensimmäinen oma kisasi esimerkin tilalle)
A40: - Ajat muodossa minuutit:sekunnit
A43: Kommentteja ja parannusehdotuksia voi lähettää sähköpostilla: mikkoeskola@kolumbus.fi
A45: Tuloksekasta suunnistusvuotta 2016!
A46: terv Lammikko (kiitos Kinnin Jounille alkuperäisestä hpk:sta)
... A97: Start ja yhteenvetosivut:

Sheet Tiedot
A1: HARJOITUSPÄIVÄKIRJA | G1: 2016 | Q1: =CONCATENATE(Start!A19,Start!B19,Start!A18,Start!A20,Start!B20) -> 1 Peruskestävyys - 2 Vauhtikestävyys | R1: =Start!F1 -> Tampereen Pyrintö
A2: =Start!B15 -> N.N. | Q2: =CONCATENATE(Start!A21,Start!B21,Start!A18,Start!A22,Start!B22) -> 3 Maksimikestävyys - 4 Lihaskunto/aerobiset voimaharjoitteet | R2: =Start!F2 -> HPK 2017/TP/ME
Q3: =CONCATENATE(Start!A23,Start!B23,Start!A18,Start!A24,Start!B24,Start!A18,Start!A25,Start!B25) -> 5 maksimisyke- ja anaerobiset voimaharjoitteet - 6 Liikkuvuus- ja koordinaatio - 7Pelit | R3: =Start!F3 -> Alkuper/Jouni Kinni
A5: Vko | C5: 42 | L5: =Start!$D$27 -> Ju | M5: =Start!$E$27 -> Hi | N5: =Start!$F$27 -> Su | O5: Py | P5: Su | Q5: HUOM.
B6: 1 | C6: 2 | D6: 3 | E6: 4 | F6: 5 | G6: 6 | H6: 7 | I6: yht. | J6: LS | K6: KS | L6: km | M6: km | N6: km | O6: km | P6: min
A7: ma | I7: =SUM(B7:H7) -> 0 | V7: =IF(SUM(L7:O7)>0, (SUM(B7:D7,G7,F7)/SUM(L7:O7)/1440), "")
A8: 42660 | I8: =SUM(B8:H8) -> 0 | V8: =IF(SUM(L8:O8)>0, (SUM(B8:D8,G8,F8)/SUM(L8:O8)/1440), "")
A9: ti | I9: =SUM(B9:H9) -> 0 | V9: =IF(SUM(L9:O9)>0, (SUM(B9:D9,G9,F9)/SUM(L9:O9)/1440), "")
A10: =A8+1 -> 42661 | I10: =SUM(B10:H10) -> 0 | V10: =IF(SUM(L10:O10)>0, (SUM(B10:D10,G10,F10)/SUM(L10:O10)/1440), "")
A11: ke | I11: =SUM(B11:H11) -> 0
A12: =A10+1 -> 42662 | I12: =SUM(B12:H12) -> 0 | V12: =IF(SUM(L12:O12)>0, (SUM(B12:D12,G12,F12)/SUM(L12:O12)/1440), "")
A13: to | I13: =SUM(B13:H13) -> 0 | V13: =IF(SUM(L13:O13)>0, (SUM(B13:D13,G13,F13)/SUM(L13:O13)/1440), "")
A14: =A12+1 -> 42663 | I14: =SUM(B14:H14) -> 0 | V14: =IF(SUM(L14:O14)>0, (SUM(B14:D14,G14,F14)/SUM(L14:O14)/1440), "")
A15: pe | I15: =SUM(B15:H15) -> 0 | V15: =IF(SUM(L15:O15)>0, (SUM(B15:D15,G15,F15)/SUM(L15:O15)/1440), "")
A16: =A14+1 -> 42664 | I16: =SUM(B16:H16) -> 0 | V16: =IF(SUM(L16:O16)>0, (SUM(B16:D16,G16,F16)/SUM(L16:O16)/1440), "")
A17: la | I17: =SUM(B17:H17) -> 0 | V17: =IF(SUM(L17:O17)>0, (SUM(B17:D17,G17,F17)/SUM(L17:O17)/1440), "")
A18: =A16+1 -> 42665 | I18: =SUM(B18:H18) -> 0 | V18: =IF(SUM(L18:O18)>0, (SUM(B18:D18,G18,F18)/SUM(L18:O18)/1440), "")
A19: su | I19: =SUM(B19:H19) -> 0 | V19: =IF(SUM(L19:O19)>0, (SUM(B19:D19,G19,F19)/SUM(L19:O19)/1440), "")
A20: =A18+1 -> 42666 | I20: =SUM(B20:H20) -> 0 | V20: =IF(SUM(L20:O20)>0, (SUM(B20:D20,G20,F20)/SUM(L20:O20)/1440), "")
A21: yht. | B21: =SUM(B7:B20) -> 0 | C21: =SUM(C7:C20) -> 0 | D21: =SUM(D7:D20) -> 0 | E21: =SUM(E7:E20) -> 0 | F21: =SUM(F7:F20) -> 0 | G21: =SUM(G7:G20) -> 0 | H21: =SUM(H7:H20) -> 0 | I21: =SUM(I7:I20) -> 0 | J21: =IF(SUM(J7:J20)>0, AVERAGE(J7:J20), "") | K21: =IF(SUM(K7:K20)>0, AVERAGE(K7:K20), "") | L21: =SUM(L7:L20) -> 0 | M21: =SUM(M7:M20) -> 0 | N21: =SUM(N7:N20) -> 0 | O21: =SUM(O7:O20) -> 0 | P21: =SUM(P7:P20) -> 0
A22: krt | B22: =COUNT(B7:B20) -> 0 | C22: =COUNT(C7:C20) -> 0 | D22: =COUNT(D7:D20) -> 0 | E22: =COUNT(E7:E20) -> 0 | F22: =COUNT(F7:F20) -> 0 | G22: =COUNT(G7:G20) -> 0 | H22: =COUNT(H7:H20) -> 0 | I22: =SUM(B22:H22) -> 0
V23: =IF(SUM(V7:V20)>0, (AVERAGE(V7:V20)), "")
A24: Vko | C24: =C5+1 -> 43 | L24: =Start!$D$27 -> Ju | M24: =Start!$E$27 -> Hi | N24: =Start!$F$27 -> Su | O24: =Start!$G$27 -> Py | P24: Su | Q24: HUOM.
B25: 1 | C25: 2 | D25: 3 | E25: 4 | F25: 5 | G25: 6 | H25: 7 | I25: yht. | J25: LS | K25: KS | L25: km | M25: km | N25: km | O25: km | P25: min
A26: ma | I26: =SUM(B26:H26) -> 0 | V26: =IF(SUM(L26:O26)>0, (SUM(B26:D26,G26,F26)/SUM(L26:O26)/1440), "")
A27: =A20+1 -> 42667 | I27: =SUM(B27:H27) -> 0 | V27: =IF(SUM(L27:O27)>0, (SUM(B27:D27,G27,F27)/SUM(L27:O27)/1440), "")
A28: ti | I28: =SUM(B28:H28) -> 0 | V28: =IF(SUM(L28:O28)>0, (SUM(B28:D28,G28,F28)/SUM(L28:O28)/1440), "")
A29: =A27+1 -> 42668 | I29: =SUM(B29:H29) -> 0 | V29: =IF(SUM(L29:O29)>0, (SUM(B29:D29,G29,F29)/SUM(L29:O29)/1440), "")
A30: ke | I30: =SUM(B30:H30) -> 0 | V30: =IF(SUM(L30:O30)>0, (SUM(B30:D30,G30,F30)/SUM(L30:O30)/1440), "")
A31: =A29+1 -> 42669 | I31: =SUM(B31:H31) -> 0 | V31: =IF(SUM(L31:O31)>0, (SUM(B31:D31,G31,F31)/SUM(L31:O31)/1440), "")
A32: to | I32: =SUM(B32:H32) -> 0 | V32: =IF(SUM(L32:O32)>0, (SUM(B32:D32,G32,F32)/SUM(L32:O32)/1440), "")
A33: =A31+1 -> 42670 | I33: =SUM(B33:H33) -> 0 | V33: =IF(SUM(L33:O33)>0, (SUM(B33:D33,G33,F33)/SUM(L33:O33)/1440), "")
A34: pe | I34: =SUM(B34:H34) -> 0 | V34: =IF(SUM(L34:O34)>0, (SUM(B34:D34,G34,F34)/SUM(L34:O34)/1440), "")
A35: =A33+1 -> 42671 | I35: =SUM(B35:H35) -> 0 | V35: =IF(SUM(L35:O35)>0, (SUM(B35:D35,G35,F35)/SUM(L35:O35)/1440), "")
A36: la | I36: =SUM(B36:H36) -> 0 | V36: =IF(SUM(L36:O36)>0, (SUM(B36:D36,G36,F36)/SUM(L36:O36)/1440), "")
A37: =A35+1 -> 42672 | I37: =SUM(B37:H37) -> 0 | V37: =IF(SUM(L37:O37)>0, (SUM(B37:D37,G37,F37)/SUM(L37:O37)/1440), "")
A38: su | I38: =SUM(B38:H38) -> 0 | V38: =IF(SUM(L38:O38)>0, (SUM(B38:D38,G38,F38)/SUM(L38:O38)/1440), "")
A39: =A37+1 -> 42673 | I39: =SUM(B39:H39) -> 0 | V39: =IF(SUM(L39:O39)>0, (SUM(B39:D39,G39,F39)/SUM(L39:O39)/1440), "")
A40: yht. | B40: =SUM(B26:B39) -> 0 | C40: =SUM(C26:C39) -> 0 | D40: =SUM(D26:D39) -> 0 | E40: =SUM(E26:E39) -> 0 | F40: =SUM(F26:F39) -> 0 | G40: =SUM(G26:G39) -> 0 | H40: =SUM(H26:H39) -> 0 | I40: =SUM(I26:I39) -> 0 | J40: =IF(SUM(J26:J39)>0, AVERAGE(J26:J39), "") | K40: =IF(SUM(K26:K39)>0, AVERAGE(K26:K39), "") | L40: =SUM(L26:L39) -> 0 | M40: =SUM(M26:M39) -> 0 | N40: =SUM(N26:N39) -> 0 | O40: =SUM(O26:O39) -> 0 | P40: =SUM(P26:P39) -> 0
A41: krt | B41: =COUNT(B26:B39) -> 0 | C41: =COUNT(C26:C39) -> 0 | D41: =COUNT(D26:D39) -> 0 | E41: =COUNT(E26:E39) -> 0 | F41: =COUNT(F26:F39) -> 0 | G41: =COUNT(G26:G39) -> 0 | H41: =COUNT(H26:H39) -> 0 | I41: =SUM(B41:H41) -> 0
...

Sheet Yhteenveto
A1: HARJOITUSPÄIVÄKIRJA | G1: =Tiedot!G1 -> 2016 | N1: =Start!F1 -> Tampereen Pyrintö
A2: =Start!B15 -> N.N. | N2: =Start!F2 -> HPK 2017/TP/ME | AC2: Viikko:
A3: Yhteenveto | N3: =Start!F3 -> Alkuper/Jouni Kinni | AD3: Laskenta:
AD4: Harjoitusajat | AW4: kerrat | DM4: Koulupyöräily | DV4: Askeleet
A5: vko | B5: h | C5: min | D5: =Start!D27 -> Ju | E5: =Start!E27 -> Hi | F5: =Start!F27 -> Su | G5: Krt | AD5: no | AE5: 1 | AF5: 2 | AG5: 3 | AH5: 4 | AI5: 5 | AJ5: 6 | AK5: 7 | AL5: yht | AM5: LS | AN5: KS | AO5: =Start!D27 -> Ju | AP5: =Start!E27 -> Hi | AQ5: =Start!F27 -> Su | AR5: Py | AS5: Yht, km | AT5: Km, kum. | AU5: h | AV5: min | AW5: 1 | AX5: 2 | AY5: 3 | AZ5: 4 | BA5: 5 | BB5: 6 | BC5: 7 | BD5: kerrat yht. | BF5: Suunnistus | BH5: Rasitus | BS5: Uni | DE5: Lämpötila | DG5: Lämpötilat | DM5: km | DN5: aika | DV5: yht | DW5: average | EG5: Kerrat | EH5: Painotettu rasitus | EL5: Kok. rasitus
A6: 43 | B6: =AU6 -> 0 | C6: =AV6 -> 0 | D6: =AO6 -> 0 | E6: =AP6 -> 0 | F6: =AQ6 -> 0 | G6: =EG6 | R6: =D6+E6+F6 -> 0 | AC6: =A6 -> 43 | AD6: 1 | AE6: =Tiedot!B21 -> 0 | AF6: =Tiedot!C21 -> 0 | AG6: =Tiedot!D21 -> 0 | AH6: =Tiedot!E21 -> 0 | AI6: =Tiedot!F21 -> 0 | AJ6: =Tiedot!G21 -> 0 | AK6: =Tiedot!H21 -> 0 | AL6: =Tiedot!I21 -> 0 | AM6: =IF(SUM(Tiedot!J7:J20)>0, Tiedot!J21, "") | AN6: =Tiedot!K21 | AO6: =Tiedot!L21 -> 0 | AP6: =Tiedot!M21 -> 0 | AQ6: =Tiedot!N21 -> 0 | AR6: =INDIRECT("Tiedot!N" & EN6)+INDIRECT("Tiedot!AU" & (EN6+2)) -> 0 | AS6: =SUM(AO6:AR6) -> 0 | AT6: =AS6 -> 0 | AU6: =INT(AL6/60) -> 0 | AV6: =AL6-AU6*60 -> 0 | AW6: =Tiedot!B22 -> 0 | AX6: =Tiedot!C22 -> 0 | AY6: =Tiedot!D22 -> 0 | AZ6: =Tiedot!E22 -> 0 | BA6: =Tiedot!F22 -> 0 | BB6: =Tiedot!G22 -> 0 | BC6: =Tiedot!H22 -> 0 | BD6: =Tiedot!I22 -> 0 | BF6: =Tiedot!P21 -> 0 | BH6: =IF(SUM(Tiedot!#REF!)>0, Tiedot!#REF!, "") -> #REF! | BJ6: =BP6-12 -> 7 | BK6: =BJ6+2 -> 9 | BL6: =BK6+2 -> 11 | BM6: =BL6+2 -> 13 | BN6: =BM6+2 -> 15 | BO6: =BN6+2 -> 17 | BP6: 19 | BQ6: 23 | BS6: =IF(SUM(CC6:CI6)>0,CJ6,"") | BT6: Tiedot!V | BU6: =$BT6&BJ6 -> Tiedot!V7 | BV6: =$BT6&BK6 -> Tiedot!V9 | BW6: =$BT6&BL6 -> Tiedot!V11 | BX6: =$BT6&BM6 -> Tiedot!V13 | BY6: =$BT6&BN6 -> Tiedot!V15 | BZ6: =$BT6&BO6 -> Tiedot!V17 | CA6: =$BT6&BP6 -> Tiedot!V19 | CB6: =$BT6&BQ6 -> Tiedot!V23 | CC6: =INDIRECT(BU6) | CD6: =INDIRECT(BV6) | CE6: =INDIRECT(BW6) -> 0 | CF6: =INDIRECT(BX6) | CG6: =INDIRECT(BY6) | CH6: =INDIRECT(BZ6) | CI6: =INDIRECT(CA6) | CJ6: =INDIRECT(CB6) | CK6: 6 | CL6: CA | CM6: =INDIRECT(CL6&CK6) -> Tiedot!V19 | CN6: Tiedot!AW | CO6: =$CN6&BJ6 -> Tiedot!AW7 | CP6: =$CN6&BK6 -> Tiedot!AW9 | CQ6: =$CN6&BL6 -> Tiedot!AW11 | CR6: =$CN6&BM6 -> Tiedot!AW13 | CS6: =$CN6&BN6 -> Tiedot!AW15 | CT6: =$CN6&BO6 -> Tiedot!AW17 | CU6: =$CN6&BP6 -> Tiedot!AW19 | CV6: =$CN6&BQ6 -> Tiedot!AW23 | CW6: =INDIRECT(CO6) -> 0 | CX6: =INDIRECT(CP6) -> 0 | CY6: =INDIRECT(CQ6) -> 0 | CZ6: =INDIRECT(CR6) -> 0 | DA6: =INDIRECT(CS6) -> 0 | DB6: =INDIRECT(CT6) -> 0 | DC6: =INDIRECT(CU6) -> 0 | DD6: =INDIRECT(CV6) -> 0 | DE6: =IF(SUM(CW6:DC6)<>0, DD6, "") | DF6: Loka | DG6: =INDIRECT(DK6) -> Tiedot!AW19 | DI6: CU | DJ6: 6 | DK6: =DI6&DJ6 -> CU6 | DM6: =IF(DT6<>0, DT6, "") | DN6: =IF(DS6<>0, DS6, "") | DP6: Tiedot!AU | DQ6: =DP6&BQ6 -> Tiedot!AU23 | DR6: =DP6&(BQ6-1) -> Tiedot!AU22 | DS6: =INDIRECT(DR6) -> 0 | DT6: =INDIRECT(DQ6) -> 0 | DV6: =IF(EA6<>0, EA6, "") | DW6: =IF(ISERROR(EC6),"",EC6) -> 0 | DX6: Tiedot!AO | DY6: Tiedot!AN | DZ6: =DY6&BQ6 -> Tiedot!AN23 | EA6: =INDIRECT(DZ6) -> 0 | EB6: =DX6&BQ6 -> Tiedot!AO23 | EC6: =INDIRECT(EB6) -> 0 | ED6: Tiedot!AH | EE6: =ED6&BQ6 -> Tiedot!AH23 | EF6: =INDIRECT(EE6) -> 0 | EG6: =IF(EF6>0, EF6, "") | EH6: =IF(BH6>0,IF(ISERROR(INDIRECT(EJ6)),"",INDIRECT(EJ6)),"") -> #REF! | EI6: Tiedot!AM | EJ6: =EI6&BQ6 -> Tiedot!AM23 | EL6: =IFERROR(EH6^1.4*AL6/100, "") | EN6: 21
A7: =A6+1 -> 44 | B7: =AU7 -> 0 | C7: =AV7 -> 0 | D7: =AO7 -> 0 | E7: =AP7 -> 0 | F7: =AQ7 -> 0 | G7: =EG7 | R7: =D7+E7+F7 -> 0 | AC7: =A7 -> 44 | AD7: 2 | AE7: =Tiedot!B40 -> 0 | AF7: =Tiedot!C40 -> 0 | AG7: =Tiedot!D40 -> 0 | AH7: =Tiedot!E40 -> 0 | AI7: =Tiedot!F40 -> 0 | AJ7: =Tiedot!G40 -> 0 | AK7: =Tiedot!H40 -> 0 | AL7: =Tiedot!I40 -> 0 | AM7: =IF(SUM(Tiedot!J26:J39)>0, Tiedot!J40, "") | AN7: =Tiedot!K40 | AO7: =Tiedot!L40 -> 0 | AP7: =Tiedot!M40 -> 0 | AQ7: =Tiedot!N40 -> 0 | AR7: =INDIRECT("Tiedot!N" & EN7)+INDIRECT("Tiedot!AU" & (EN7+2)) -> 0 | AS7: =SUM(AO7:AR7) -> 0 | AT7: =AT6+AS7 -> 0 | AU7: =INT(AL7/60) -> 0 | AV7: =AL7-AU7*60 -> 0 | AW7: =Tiedot!B41 -> 0 | AX7: =Tiedot!C41 -> 0 | AY7: =Tiedot!D41 -> 0 | AZ7: =Tiedot!E41 -> 0 | BA7: =Tiedot!F41 -> 0 | BB7: =Tiedot!G41 -> 0 | BC7: =Tiedot!H41 -> 0 | BD7: =Tiedot!I41 -> 0 | BF7: =Tiedot!P40 -> 0 | BH7: =IF(SUM(Tiedot!#REF!)>0, Tiedot!#REF!, "") -> #REF! | BJ7: =BP7-12 -> 26 | BK7: =BJ7+2 -> 28 | BL7: =BK7+2 -> 30 | BM7: =BL7+2 -> 32 | BN7: =BM7+2 -> 34 | BO7: =BN7+2 -> 36 | BP7: =BQ7-4 -> 38 | BQ7: =BQ6+19 -> 42 | BS7: =IF(SUM(CC7:CI7)>0,CJ7,"") | BT7: Tiedot!V | BU7: =$BT7&BJ7 -> Tiedot!V26 | BV7: =$BT7&BK7 -> Tiedot!V28 | BW7: =$BT7&BL7 -> Tiedot!V30 | BX7: =$BT7&BM7 -> Tiedot!V32 | BY7: =$BT7&BN7 -> Tiedot!V34 | BZ7: =$BT7&BO7 -> Tiedot!V36 | CA7: =$BT7&BP7 -> Tiedot!V38 | CB7: =$BT7&BQ7 -> Tiedot!V42 | CC7: =INDIRECT(BU7) | CD7: =INDIRECT(BV7) | CE7: =INDIRECT(BW7) | CF7: =INDIRECT(BX7) | CG7: =INDIRECT(BY7) | CH7: =INDIRECT(BZ7) | CI7: =INDIRECT(CA7) | CJ7: =INDIRECT(CB7) | CK7: =CK6 -> 6 | CL7: CB | CM7: =INDIRECT(CL7&CK7) -> Tiedot!V23 | CN7: Tiedot!AW | CO7: =$CN7&BJ7 -> Tiedot!AW26 | CP7: =$CN7&BK7 -> Tiedot!AW28 | CQ7: =$CN7&BL7 -> Tiedot!AW30 | CR7: =$CN7&BM7 -> Tiedot!AW32 | CS7: =$CN7&BN7 -> Tiedot!AW34 | CT7: =$CN7&BO7 -> Tiedot!AW36 | CU7: =$CN7&BP7 -> Tiedot!AW38 | CV7: =$CN7&BQ7 -> Tiedot!AW42 | CW7: =INDIRECT(CO7) -> 0 | CX7: =INDIRECT(CP7) -> 0 | CY7: =INDIRECT(CQ7) -> 0 | CZ7: =INDIRECT(CR7) -> 0 | DA7: =INDIRECT(CS7) -> 0 | DB7: =INDIRECT(CT7) -> 0 | DC7: =INDIRECT(CU7) -> 0 | DD7: =INDIRECT(CV7) -> 0 | DE7: =IF(SUM(CW7:DC7)<>0, DD7, "") | DG7: =INDIRECT(DK7) -> Tiedot!AW23 | DI7: CV | DJ7: =DJ6 -> 6 | DK7: =DI7&DJ7 -> CV6 | DM7: =IF(DT7<>0, DT7, "") | DN7: =IF(DS7<>0, DS7, "") | DP7: Tiedot!AU | DQ7: =DP7&BQ7 -> Tiedot!AU42 | DR7: =DP7&(BQ7-1) -> Tiedot!AU41 | DS7: =INDIRECT(DR7) -> 0 | DT7: =INDIRECT(DQ7) -> 0 | DV7: =IF(EA7<>0, EA7, "") | DW7: =IF(ISERROR(EC7),"",EC7) -> 0 | DX7: Tiedot!AO | DY7: Tiedot!AN | DZ7: =DY7&BQ7 -> Tiedot!AN42 | EA7: =INDIRECT(DZ7) -> 0 | EB7: =DX7&BQ7 -> Tiedot!AO42 | EC7: =INDIRECT(EB7) -> 0 | ED7: Tiedot!AH | EE7: =ED7&BQ7 -> Tiedot!AH42 | EF7: =INDIRECT(EE7) -> 0 | EG7: =IF(EF7>0, EF7, "") | EH7: =IF(BH7>0,IF(ISERROR(INDIRECT(EJ7)),"",INDIRECT(EJ7)),"") -> #REF! | EI7: Tiedot!AM | EJ7: =EI7&BQ7 -> Tiedot!AM42 | EL7: =IFERROR(EH7^1.4*AL7/100, "") | EN7: =EN6+19 -> 40
A8: =A7+1 -> 45 | B8: =AU8 -> 0 | C8: =AV8 -> 0 | D8: =AO8 -> 0 | E8: =AP8 -> 0 | F8: =AQ8 -> 0 | G8: =EG8 | R8: =D8+E8+F8 -> 0 | AC8: =A8 -> 45 | AD8: 3 | AE8: =Tiedot!B59 -> 0 | AF8: =Tiedot!C59 -> 0 | AG8: =Tiedot!D59 -> 0 | AH8: =Tiedot!E59 -> 0 | AI8: =Tiedot!F59 -> 0 | AJ8: =Tiedot!G59 -> 0 | AK8: =Tiedot!H59 -> 0 | AL8: =Tiedot!I59 -> 0 | ... AQ8: =Tiedot!N59 -> 0 | AR8: =INDIRECT("Tiedot!N" & EN8)+INDIRECT("Tiedot!AU" & (EN8+2)) -> 0 | AS8: =SUM(AO8:AR8) -> 0 | AT8: =AT7+AS8 -> 0 | AU8: =INT(AL8/60) -> 0 | AV8: =AL8-AU8*60 -> 0 | AW8: =Tiedot!B60 -> 0 | AX8: =Tiedot!C60 -> 0 | AY8: =Tiedot!D60 -> 0 | AZ8: =Tiedot!E60 -> 0 | BA8: =Tiedot!F60 -> 0 | BB8: =Tiedot!G60 -> 0 | BC8: =Tiedot!H60 -> 0 | BD8: =Tiedot!I60 -> 0 | BF8: =Tiedot!P59 -> 0 | BH8: =IF(SUM(Tiedot!#REF!)>0, Tiedot!#REF!, "") -> #REF! | BJ8: =BP8-12 -> 45 | BK8: =BJ8+2 -> 47 | BL8: =BK8+2 -> 49 | BM8: =BL8+2 -> 51 | BN8: =BM8+2 -> 53 | BO8: =BN8+2 -> 55 | BP8: =BQ8-4 -> 57 | BQ8: =BQ7+19 -> 61 | BS8: =IF(SUM(CC8:CI8)>0,CJ8,"") | BT8: Tiedot!V | BU8: =$BT8&BJ8 -> Tiedot!V45 | BV8: =$BT8&BK8 -> Tiedot!V47 | BW8: =$BT8&BL8 -> Tiedot!V49 | BX8: =$BT8&BM8 -> Tiedot!V51 | BY8: =$BT8&BN8 -> Tiedot!V53 | BZ8: =$BT8&BO8 -> Tiedot!V55 | CA8: =$BT8&BP8 -> Tiedot!V57 | CB8: =$BT8&BQ8 -> Tiedot!V61 | CC8: =INDIRECT(BU8) | CD8: =INDIRECT(BV8) | CE8: =INDIRECT(BW8) | CF8: =INDIRECT(BX8) | CG8: =INDIRECT(BY8) | CH8: =INDIRECT(BZ8) | CI8: =INDIRECT(CA8) | CJ8: =INDIRECT(CB8) | CK8: =CK6 -> 6 | CL8: CC | CM8: =INDIRECT(CL8&CK8) | CN8: Tiedot!AW | CO8: =$CN8&BJ8 -> Tiedot!AW45 | CP8: =$CN8&BK8 -> Tiedot!AW47 | CQ8: =$CN8&BL8 -> Tiedot!AW49 | CR8: =$CN8&BM8 -> Tiedot!AW51 | CS8: =$CN8&BN8 -> Tiedot!AW53 | CT8: =$CN8&BO8 -> Tiedot!AW55 | CU8: =$CN8&BP8 -> Tiedot!AW57 | CV8: =$CN8&BQ8 -> Tiedot!AW61 | CW8: =INDIRECT(CO8) -> 0 | CX8: =INDIRECT(CP8) -> 0 | CY8: =INDIRECT(CQ8) -> 0 | CZ8: =INDIRECT(CR8) -> 0 | DA8: =INDIRECT(CS8) -> 0 | DB8: =INDIRECT(CT8) -> 0 | DC8: =INDIRECT(CU8) -> 0 | DD8: =INDIRECT(CV8) -> 0 | DE8: =IF(SUM(CW8:DC8)<>0, DD8, "") | DG8: =INDIRECT(DK8) -> 0 | DI8: CW | DJ8: =DJ6 -> 6 | DK8: =DI8&DJ8 -> CW6 | DM8: =IF(DT8<>0, DT8, "") | DN8: =IF(DS8<>0, DS8, "") | DP8: Tiedot!AU | DQ8: =DP8&BQ8 -> Tiedot!AU61 | DR8: =DP8&(BQ8-1) -> Tiedot!AU60 | DS8: =INDIRECT(DR8) -> 0 | DT8: =INDIRECT(DQ8) -> 0 | DV8: =IF(EA8<>0, EA8, "") | DW8: =IF(ISERROR(EC8),"",EC8) -> 0 | DX8: Tiedot!AO | DY8: Tiedot!AN | DZ8: =DY8&BQ8 -> Tiedot!AN61 | EA8: =INDIRECT(DZ8) -> 0 | EB8: =DX8&BQ8 -> Tiedot!AO61 | EC8: =INDIRECT(EB8) -> 0 | ED8: Tiedot!AH | EE8: =ED8&BQ8 -> Tiedot!AH61 | EF8: =INDIRECT(EE8) -> 0 | EG8: =IF(EF8>0, EF8, "") | EH8: =IF(BH8>0,IF(ISERROR(INDIRECT(EJ8)),"",INDIRECT(EJ8)),"") -> #REF! | EI8: Tiedot!AM | EJ8: =EI8&BQ8 -> Tiedot!AM61 | EL8: =IFERROR(EH8^1.4*AL8/100, "") | EN8: =EN7+19 -> 59
A9: =A8+1 -> 46 | B9: =AU9 -> 0 | C9: =AV9 -> 0 | D9: =AO9 -> 0 | E9: =AP9 -> 0 | F9: =AQ9 -> 0 | G9: =EG9 | R9: =D9+E9+F9 -> 0 | AC9: =A9 -> 46 | AD9: 4 | AE9: =Tiedot!B78 -> 0 | AF9: =Tiedot!C78 -> 0 | AG9: =Tiedot!D78 -> 0 | AH9: =Tiedot!E78 -> 0 | AI9: =Tiedot!F78 -> 0 | AJ9: =Tiedot!G78 -> 0 | AK9: =Tiedot!H78 -> 0 | AL9: =Tiedot!I78 -> 0 | ... AQ9: =Tiedot!N78 -> 0 | AR9: =INDIRECT("Tiedot!N" & EN9)+INDIRECT("Tiedot!AU" & (EN9+2)) -> 0 | AS9: =SUM(AO9:AR9) -> 0 | AT9: =AT8+AS9 -> 0 | AU9: =INT(AL9/60) -> 0 | AV9: =AL9-AU9*60 -> 0 | AW9: =Tiedot!B79 -> 0 | AX9: =Tiedot!C79 -> 0 | AY9: =Tiedot!D79 -> 0 | AZ9: =Tiedot!E79 -> 0 | BA9: =Tiedot!F79 -> 0 | BB9: =Tiedot!G79 -> 0 | BC9: =Tiedot!H79 -> 0 | BD9: =Tiedot!I79 -> 0 | BF9: =Tiedot!P78 -> 0 | BH9: =IF(SUM(Tiedot!#REF!)>0, Tiedot!#REF!, "") -> #REF! | BJ9: =BP9-12 -> 64 | BK9: =BJ9+2 -> 66 | BL9: =BK9+2 -> 68 | BM9: =BL9+2 -> 70 | BN9: =BM9+2 -> 72 | BO9: =BN9+2 -> 74 | BP9: =BQ9-4 -> 76 | BQ9: =BQ8+19 -> 80 | BS9: =IF(SUM(CC9:CI9)>0,CJ9,"") | BT9: Tiedot!V | BU9: =$BT9&BJ9 -> Tiedot!V64 | BV9: =$BT9&BK9 -> Tiedot!V66 | BW9: =$BT9&BL9 -> Tiedot!V68 | BX9: =$BT9&BM9 -> Tiedot!V70 | BY9: =$BT9&BN9 -> Tiedot!V72 | BZ9: =$BT9&BO9 -> Tiedot!V74 | CA9: =$BT9&BP9 -> Tiedot!V76 | CB9: =$BT9&BQ9 -> Tiedot!V80 | CC9: =INDIRECT(BU9) | CD9: =INDIRECT(BV9) | CE9: =INDIRECT(BW9) | CF9: =INDIRECT(BX9) | CG9: =INDIRECT(BY9) | CH9: =INDIRECT(BZ9) | CI9: =INDIRECT(CA9) | CJ9: =INDIRECT(CB9) | CK9: =CK6 -> 6 | CL9: CD | CM9: =INDIRECT(CL9&CK9) | CN9: Tiedot!AW | CO9: =$CN9&BJ9 -> Tiedot!AW64 | CP9: =$CN9&BK9 -> Tiedot!AW66 | CQ9: =$CN9&BL9 -> Tiedot!AW68 | CR9: =$CN9&BM9 -> Tiedot!AW70 | CS9: =$CN9&BN9 -> Tiedot!AW72 | CT9: =$CN9&BO9 -> Tiedot!AW74 | CU9: =$CN9&BP9 -> Tiedot!AW76 | CV9: =$CN9&BQ9 -> Tiedot!AW80 | CW9: =INDIRECT(CO9) -> 0 | CX9: =INDIRECT(CP9) -> 0 | CY9: =INDIRECT(CQ9) -> 0 | CZ9: =INDIRECT(CR9) -> 0 | DA9: =INDIRECT(CS9) -> 0 | DB9: =INDIRECT(CT9) -> 0 | DC9: =INDIRECT(CU9) -> 0 | DD9: =INDIRECT(CV9) -> 0 | DE9: =IF(SUM(CW9:DC9)<>0, DD9, "") | DG9: =INDIRECT(DK9) -> 0 | DI9: CX | DJ9: =DJ6 -> 6 | DK9: =DI9&DJ9 -> CX6 | DM9: =IF(DT9<>0, DT9, "") | DN9: =IF(DS9<>0, DS9, "") | DP9: Tiedot!AU | DQ9: =DP9&BQ9 -> Tiedot!AU80 | DR9: =DP9&(BQ9-1) -> Tiedot!AU79 | DS9: =INDIRECT(DR9) -> 0 | DT9: =INDIRECT(DQ9) -> 0 | DV9: =IF(EA9<>0, EA9, "") | DW9: =IF(ISERROR(EC9),"",EC9) -> 0 | DX9: Tiedot!AO | DY9: Tiedot!AN | DZ9: =DY9&BQ9 -> Tiedot!AN80 | EA9: =INDIRECT(DZ9) -> 0 | EB9: =DX9&BQ9 -> Tiedot!AO80 | EC9: =INDIRECT(EB9) -> 0 | ED9: Tiedot!AH | EE9: =ED9&BQ9 -> Tiedot!AH80 | EF9: =INDIRECT(EE9) -> 0 | EG9: =IF(EF9>0, EF9, "") | EH9: =IF(BH9>0,IF(ISERROR(INDIRECT(EJ9)),"",INDIRECT(EJ9)),"") -> #REF! | EI9: Tiedot!AM | EJ9: =EI9&BQ9 -> Tiedot!AM80 | EL9: =IFERROR(EH9^1.4*AL9/100, "") | EN9: =EN8+19 -> 78
A10: =A9+1 -> 47 | B10: =AU10 -> 0 | C10: =AV10 -> 0 | D10: =AO10 -> 0 | E10: =AP10 -> 0 | F10: =AQ10 -> 0 | G10: =EG10 | R10: =D10+E10+F10 -> 0 | AC10: =A10 -> 47 | AD10: 5 | AE10: =Tiedot!B97 -> 0 | AF10: =Tiedot!C97 -> 0 | AG10: =Tiedot!D97 -> 0 | AH10: =Tiedot!E97 -> 0 | AI10: =Tiedot!F97 -> 0 | AJ10: =Tiedot!G97 -> 0 | AK10: =Tiedot!H97 -> 0 | AL10: =Tiedot!I97 -> 0 | ... AQ10: =Tiedot!N97 -> 0 | AR10: =INDIRECT("Tiedot!N" & EN10)+INDIRECT("Tiedot!AU" & (EN10+2)) -> 0 | AS10: =SUM(AO10:AR10) -> 0 | AT10: =AT9+AS10 -> 0 | AU10: =INT(AL10/60) -> 0 | AV10: =AL10-AU10*60 -> 0 | AW10: =Tiedot!B98 -> 0 | AX10: =Tiedot!C98 -> 0 | AY10: =Tiedot!D98 -> 0 | AZ10: =Tiedot!E98 -> 0 | BA10: =Tiedot!F98 -> 0 | BB10: =Tiedot!G98 -> 0 | BC10: =Tiedot!H98 -> 0 | BD10: =Tiedot!I98 -> 0 | BF10: =Tiedot!P97 -> 0 | BH10: =IF(SUM(Tiedot!#REF!)>0, Tiedot!#REF!, "") -> #REF! | BJ10: =BP10-12 -> 83 | BK10: =BJ10+2 -> 85 | BL10: =BK10+2 -> 87 | BM10: =BL10+2 -> 89 | BN10: =BM10+2 -> 91 | BO10: =BN10+2 -> 93 | BP10: =BQ10-4 -> 95 | BQ10: =BQ9+19 -> 99 | BS10: =IF(SUM(CC10:CI10)>0,CJ10,"") | BT10: Tiedot!V | BU10: =$BT10&BJ10 -> Tiedot!V83 | BV10: =$BT10&BK10 -> Tiedot!V85 | BW10: =$BT10&BL10 -> Tiedot!V87 | BX10: =$BT10&BM10 -> Tiedot!V89 | BY10: =$BT10&BN10 -> Tiedot!V91 | BZ10: =$BT10&BO10 -> Tiedot!V93 | CA10: =$BT10&BP10 -> Tiedot!V95 | CB10: =$BT10&BQ10 -> Tiedot!V99 | CC10: =INDIRECT(BU10) | CD10: =INDIRECT(BV10) | CE10: =INDIRECT(BW10) | CF10: =INDIRECT(BX10) | CG10: =INDIRECT(BY10) | CH10: =INDIRECT(BZ10) | CI10: =INDIRECT(CA10) | CJ10: =INDIRECT(CB10) | CK10: =CK6 -> 6 | CL10: CE | CM10: =INDIRECT(CL10&CK10) -> 0 | CN10: Tiedot!AW | CO10: =$CN10&BJ10 -> Tiedot!AW83 | CP10: =$CN10&BK10 -> Tiedot!AW85 | CQ10: =$CN10&BL10 -> Tiedot!AW87 | CR10: =$CN10&BM10 -> Tiedot!AW89 | CS10: =$CN10&BN10 -> Tiedot!AW91 | CT10: =$CN10&BO10 -> Tiedot!AW93 | CU10: =$CN10&BP10 -> Tiedot!AW95 | CV10: =$CN10&BQ10 -> Tiedot!AW99 | CW10: =INDIRECT(CO10) -> 0 | CX10: =INDIRECT(CP10) -> 0 | CY10: =INDIRECT(CQ10) -> 0 | CZ10: =INDIRECT(CR10) -> 0 | DA10: =INDIRECT(CS10) -> 0 | DB10: =INDIRECT(CT10) -> 0 | DC10: =INDIRECT(CU10) -> 0 | DD10: =INDIRECT(CV10) -> 0 | DE10: =IF(SUM(CW10:DC10)<>0, DD10, "") | DG10: =INDIRECT(DK10) -> 0 | DI10: CY | DJ10: =DJ6 -> 6 | DK10: =DI10&DJ10 -> CY6 | DM10: =IF(DT10<>0, DT10, "") | DN10: =IF(DS10<>0, DS10, "") | DP10: Tiedot!AU | DQ10: =DP10&BQ10 -> Tiedot!AU99 | DR10: =DP10&(BQ10-1) -> Tiedot!AU98 | DS10: =INDIRECT(DR10) -> 0 | DT10: =INDIRECT(DQ10) -> 0 | DV10: =IF(EA10<>0, EA10, "") | DW10: =IF(ISERROR(EC10),"",EC10) -> 0 | DX10: Tiedot!AO | DY10: Tiedot!AN | DZ10: =DY10&BQ10 -> Tiedot!AN99 | EA10: =INDIRECT(DZ10) -> 0 | EB10: =DX10&BQ10 -> Tiedot!AO99 | EC10: =INDIRECT(EB10) -> 0 | ED10: Tiedot!AH | EE10: =ED10&BQ10 -> Tiedot!AH99 | EF10: =INDIRECT(EE10) -> 0 | EG10: =IF(EF10>0, EF10, "") | EH10: =IF(BH10>0,IF(ISERROR(INDIRECT(EJ10)),"",INDIRECT(EJ10)),"") -> #REF! | EI10: Tiedot!AM | EJ10: =EI10&BQ10 -> Tiedot!AM99 | EL10: =IFERROR(EH10^1.4*AL10/100, "") | EN10: =EN9+19 -> 97
A11: =A10+1 -> 48 | B11: =AU11 -> 0 | C11: =AV11 -> 0 | D11: =AO11 -> 0 | E11: =AP11 -> 0 | F11: =AQ11 -> 0 | G11: =EG11 | R11: =D11+E11+F11 -> 0 | AC11: =A11 -> 48 | AD11: 6 | AE11: =Tiedot!B116 -> 0 | AF11: =Tiedot!C116 -> 0 | AG11: =Tiedot!D116 -> 0 | AH11: =Tiedot!E116 -> 0 | AI11: =Tiedot!F116 -> 0 | AJ11: =Tiedot!G116 -> 0 | AK11: =Tiedot!H116 -> 0 | AL11: =Tiedot!I116 -> 0 | ... AQ11: =Tiedot!N116 -> 0 | AR11: =INDIRECT("Tiedot!N" & EN11)+INDIRECT("Tiedot!AU" & (EN11+2)) -> 0 | AS11: =SUM(AO11:AR11) -> 0 | AT11: =AT10+AS11 -> 0 | AU11: =INT(AL11/60) -> 0 | AV11: =AL11-AU11*60 -> 0 | AW11: =Tiedot!B117 -> 0 | AX11: =Tiedot!C117 -> 0 | AY11: =Tiedot!D117 -> 0 | AZ11: =Tiedot!E117 -> 0 | BA11: =Tiedot!F117 -> 0 | BB11: =Tiedot!G117 -> 0 | BC11: =Tiedot!H117 -> 0 | BD11: =Tiedot!I117 -> 0 | BF11: =Tiedot!P116 -> 0 | BH11: =IF(SUM(Tiedot!#REF!)>0, Tiedot!#REF!, "") -> #REF! | BJ11: =BP11-12 -> 102 | BK11: =BJ11+2 -> 104 | BL11: =BK11+2 -> 106 | BM11: =BL11+2 -> 108 | BN11: =BM11+2 -> 110 | BO11: =BN11+2 -> 112 | BP11: =BQ11-4 -> 114 | BQ11: =BQ10+19 -> 118 | BS11: =IF(SUM(CC11:CI11)>0,CJ11,"") | BT11: Tiedot!V | BU11: =$BT11&BJ11 -> Tiedot!V102 | BV11: =$BT11&BK11 -> Tiedot!V104 | BW11: =$BT11&BL11 -> Tiedot!V106 | BX11: =$BT11&BM11 -> Tiedot!V108 | BY11: =$BT11&BN11 -> Tiedot!V110 | BZ11: =$BT11&BO11 -> Tiedot!V112 | CA11: =$BT11&BP11 -> Tiedot!V114 | CB11: =$BT11&BQ11 -> Tiedot!V118 | CC11: =INDIRECT(BU11) | CD11: =INDIRECT(BV11) | CE11: =INDIRECT(BW11) | CF11: =INDIRECT(BX11) | CG11: =INDIRECT(BY11) | CH11: =INDIRECT(BZ11) | CI11: =INDIRECT(CA11) | CJ11: =INDIRECT(CB11) | CK11: =CK6 -> 6 | CL11: CF | CM11: =INDIRECT(CL11&CK11) | CN11: Tiedot!AW | CO11: =$CN11&BJ11 -> Tiedot!AW102 | CP11: =$CN11&BK11 -> Tiedot!AW104 | CQ11: =$CN11&BL11 -> Tiedot!AW106 | CR11: =$CN11&BM11 -> Tiedot!AW108 | CS11: =$CN11&BN11 -> Tiedot!AW110 | CT11: =$CN11&BO11 -> Tiedot!AW112 | CU11: =$CN11&BP11 -> Tiedot!AW114 | CV11: =$CN11&BQ11 -> Tiedot!AW118 | CW11: =INDIRECT(CO11) -> 0 | CX11: =INDIRECT(CP11) -> 0 | CY11: =INDIRECT(CQ11) -> 0 | CZ11: =INDIRECT(CR11) -> 0 | DA11: =INDIRECT(CS11) -> 0 | DB11: =INDIRECT(CT11) -> 0 | DC11: =INDIRECT(CU11) -> 0 | DD11: =INDIRECT(CV11) -> 0 | DE11: =IF(SUM(CW11:DC11)<>0, DD11, "") | DG11: =INDIRECT(DK11) -> 0 | DI11: CZ | DJ11: =DJ6 -> 6 | DK11: =DI11&DJ11 -> CZ6 | DM11: =IF(DT11<>0, DT11, "") | DN11: =IF(DS11<>0, DS11, "") | DP11: Tiedot!AU | DQ11: =DP11&BQ11 -> Tiedot!AU118 | DR11: =DP11&(BQ11-1) -> Tiedot!AU117 | DS11: =INDIRECT(DR11) -> 0 | DT11: =INDIRECT(DQ11) -> 0 | DV11: =IF(EA11<>0, EA11, "") | DW11: =IF(ISERROR(EC11),"",EC11) -> 0 | DX11: Tiedot!AO | DY11: Tiedot!AN | DZ11: =DY11&BQ11 -> Tiedot!AN118 | EA11: =INDIRECT(DZ11) -> 0 | EB11: =DX11&BQ11 -> Tiedot!AO118 | EC11: =INDIRECT(EB11) -> 0 | ED11: Tiedot!AH | EE11: =ED11&BQ11 -> Tiedot!AH118 | EF11: =INDIRECT(EE11) -> 0 | EG11: =IF(EF11>0, EF11, "") | EH11: =IF(BH11>0,IF(ISERROR(INDIRECT(EJ11)),"",INDIRECT(EJ11)),"") -> #REF! | EI11: Tiedot!AM | EJ11: =EI11&BQ11 -> Tiedot!AM118 | EL11: =IFERROR(EH11^1.4*AL11/100, "") | EN11: =EN10+19 -> 116
A12: =A11+1 -> 49 | B12: =AU12 -> 0 | C12: =AV12 -> 0 | D12: =AO12 -> 0 | E12: =AP12 -> 0 | F12: =AQ12 -> 0 | G12: =EG12 | R12: =D12+E12+F12 -> 0 | AC12: =A12 -> 49 | AD12: 7 | AE12: =Tiedot!B135 -> 0 | AF12: =Tiedot!C135 -> 0 | AG12: =Tiedot!D135 -> 0 | AH12: =Tiedot!E135 -> 0 | AI12: =Tiedot!F135 -> 0 | AJ12: =Tiedot!G135 -> 0 | AK12: =Tiedot!H135 -> 0 | AL12: =Tiedot!I135 -> 0 | ... AQ12: =Tiedot!N135 -> 0 | AR12: =INDIRECT("Tiedot!N" & EN12)+INDIRECT("Tiedot!AU" & (EN12+2)) -> 0 | AS12: =SUM(AO12:AR12) -> 0 | AT12: =AT11+AS12 -> 0 | AU12: =INT(AL12/60) -> 0 | AV12: =AL12-AU12*60 -> 0 | AW12: =Tiedot!B136 -> 0 | AX12: =Tiedot!C136 -> 0 | AY12: =Tiedot!D136 -> 0 | AZ12: =Tiedot!E136 -> 0 | BA12: =Tiedot!F136 -> 0 | BB12: =Tiedot!G136 -> 0 | BC12: =Tiedot!H136 -> 0 | BD12: =Tiedot!I136 -> 0 | BF12: =Tiedot!P135 -> 0 | BH12: =IF(SUM(Tiedot!#REF!)>0, Tiedot!#REF!, "") -> #REF! | BJ12: =BP12-12 -> 121 | BK12: =BJ12+2 -> 123 | BL12: =BK12+2 -> 125 | BM12: =BL12+2 -> 127 | BN12: =BM12+2 -> 129 | BO12: =BN12+2 -> 131 | BP12: =BQ12-4 -> 133 | BQ12: =BQ11+19 -> 137 | BS12: =IF(SUM(CC12:CI12)>0,CJ12,"") | BT12: Tiedot!V | BU12: =$BT12&BJ12 -> Tiedot!V121 | BV12: =$BT12&BK12 -> Tiedot!V123 | BW12: =$BT12&BL12 -> Tiedot!V125 | BX12: =$BT12&BM12 -> Tiedot!V127 | BY12: =$BT12&BN12 -> Tiedot!V129 | BZ12: =$BT12&BO12 -> Tiedot!V131 | CA12: =$BT12&BP12 -> Tiedot!V133 | CB12: =$BT12&BQ12 -> Tiedot!V137 | CC12: =INDIRECT(BU12) | CD12: =INDIRECT(BV12) | CE12: =INDIRECT(BW12) | CF12: =INDIRECT(BX12) | CG12: =INDIRECT(BY12) | CH12: =INDIRECT(BZ12) | CI12: =INDIRECT(CA12) | CJ12: =INDIRECT(CB12) | CK12: =CK6 -> 6 | CL12: CG | CM12: =INDIRECT(CL12&CK12) | CN12: Tiedot!AW | CO12: =$CN12&BJ12 -> Tiedot!AW121 | CP12: =$CN12&BK12 -> Tiedot!AW123 | CQ12: =$CN12&BL12 -> Tiedot!AW125 | CR12: =$CN12&BM12 -> Tiedot!AW127 | CS12: =$CN12&BN12 -> Tiedot!AW129 | CT12: =$CN12&BO12 -> Tiedot!AW131 | CU12: =$CN12&BP12 -> Tiedot!AW133 | CV12: =$CN12&BQ12 -> Tiedot!AW137 | CW12: =INDIRECT(CO12) -> 0 | CX12: =INDIRECT(CP12) -> 0 | CY12: =INDIRECT(CQ12) -> 0 | CZ12: =INDIRECT(CR12) -> 0 | DA12: =INDIRECT(CS12) -> 0 | DB12: =INDIRECT(CT12) -> 0 | DC12: =INDIRECT(CU12) -> 0 | DD12: =INDIRECT(CV12) -> 0 | DE12: =IF(SUM(CW12:DC12)<>0, DD12, "") | DF12: Marras | DG12: =INDIRECT(DK12) -> 0 | DI12: DA | DJ12: =DJ6 -> 6 | DK12: =DI12&DJ12 -> DA6 | DM12: =IF(DT12<>0, DT12, "") | DN12: =IF(DS12<>0, DS12, "") | DP12: Tiedot!AU | DQ12: =DP12&BQ12 -> Tiedot!AU137 | DR12: =DP12&(BQ12-1) -> Tiedot!AU136 | DS12: =INDIRECT(DR12) -> 0 | DT12: =INDIRECT(DQ12) -> 0 | DV12: =IF(EA12<>0, EA12, "") | DW12: =IF(ISERROR(EC12),"",EC12) -> 0 | DX12: Tiedot!AO | DY12: Tiedot!AN | DZ12: =DY12&BQ12 -> Tiedot!AN137 | EA12: =INDIRECT(DZ12) -> 0 | EB12: =DX12&BQ12 -> Tiedot!AO137 | EC12: =INDIRECT(EB12) -> 0 | ED12: Tiedot!AH | EE12: =ED12&BQ12 -> Tiedot!AH137 | EF12: =INDIRECT(EE12) -> 0 | EG12: =IF(EF12>0, EF12, "") | EH12: =IF(BH12>0,IF(ISERROR(INDIRECT(EJ12)),"",INDIRECT(EJ12)),"") -> #REF! | EI12: Tiedot!AM | EJ12: =EI12&BQ12 -> Tiedot!AM137 | EL12: =IFERROR(EH12^1.4*AL12/100, "") | EN12: =EN11+19 -> 135
A13: =A12+1 -> 50 | B13: =AU13 -> 0 | C13: =AV13 -> 0 | D13: =AO13 -> 0 | E13: =AP13 -> 0 | F13: =AQ13 -> 0 | G13: =EG13 | R13: =D13+E13+F13 -> 0 | AC13: =A13 -> 50 | AD13: 8 | AE13: =Tiedot!B154 -> 0 | AF13: =Tiedot!C154 -> 0 | AG13: =Tiedot!D154 -> 0 | AH13: =Tiedot!E154 -> 0 | AI13: =Tiedot!F154 -> 0 | AJ13: =Tiedot!G154 -> 0 | AK13: =Tiedot!H154 -> 0 | AL13: =Tiedot!I154 -> 0 | ... AQ13: =Tiedot!N154 -> 0 | AR13: =INDIRECT("Tiedot!N" & EN13)+INDIRECT("Tiedot!AU" & (EN13+2)) -> 0 | AS13: =SUM(AO13:AR13) -> 0 | AT13: =AT12+AS13 -> 0 | AU13: =INT(AL13/60) -> 0 | AV13: =AL13-AU13*60 -> 0 | AW13: =Tiedot!B155 -> 0 | AX13: =Tiedot!C155 -> 0 | AY13: =Tiedot!D155 -> 0 | AZ13: =Tiedot!E155 -> 0 | BA13: =Tiedot!F155 -> 0 | BB13: =Tiedot!G155 -> 0 | BC13: =Tiedot!H155 -> 0 | BD13: =Tiedot!I155 -> 0 | BF13: =Tiedot!P154 -> 0 | BH13: =IF(SUM(Tiedot!#REF!)>0, Tiedot!#REF!, "") -> #REF! | BJ13: =BP13-12 -> 140 | BK13: =BJ13+2 -> 142 | BL13: =BK13+2 -> 144 | BM13: =BL13+2 -> 146 | BN13: =BM13+2 -> 148 | BO13: =BN13+2 -> 150 | BP13: =BQ13-4 -> 152 | BQ13: =BQ12+19 -> 156 | BS13: =IF(SUM(CC13:CI13)>0,CJ13,"") | BT13: Tiedot!V | BU13: =$BT13&BJ13 -> Tiedot!V140 | BV13: =$BT13&BK13 -> Tiedot!V142 | BW13: =$BT13&BL13 -> Tiedot!V144 | BX13: =$BT13&BM13 -> Tiedot!V146 | BY13: =$BT13&BN13 -> Tiedot!V148 | BZ13: =$BT13&BO13 -> Tiedot!V150 | CA13: =$BT13&BP13 -> Tiedot!V152 | CB13: =$BT13&BQ13 -> Tiedot!V156 | CC13: =INDIRECT(BU13) | CD13: =INDIRECT(BV13) | CE13: =INDIRECT(BW13) | CF13: =INDIRECT(BX13) | CG13: =INDIRECT(BY13) | CH13: =INDIRECT(BZ13) | CI13: =INDIRECT(CA13) | CJ13: =INDIRECT(CB13) | CK13: =CK6+1 -> 7 | CL13: CA | CM13: =INDIRECT(CL13&CK13) -> Tiedot!V38 | CN13: Tiedot!AW | CO13: =$CN13&BJ13 -> Tiedot!AW140 | CP13: =$CN13&BK13 -> Tiedot!AW142 | CQ13: =$CN13&BL13 -> Tiedot!AW144 | CR13: =$CN13&BM13 -> Tiedot!AW146 | CS13: =$CN13&BN13 -> Tiedot!AW148 | CT13: =$CN13&BO13 -> Tiedot!AW150 | CU13: =$CN13&BP13 -> Tiedot!AW152 | CV13: =$CN13&BQ13 -> Tiedot!AW156 | CW13: =INDIRECT(CO13) -> 0 | CX13: =INDIRECT(CP13) -> 0 | CY13: =INDIRECT(CQ13) -> 0 | CZ13: =INDIRECT(CR13) -> 0 | DA13: =INDIRECT(CS13) -> 0 | DB13: =INDIRECT(CT13) -> 0 | DC13: =INDIRECT(CU13) -> 0 | DD13: =INDIRECT(CV13) -> 0 | DE13: =IF(SUM(CW13:DC13)<>0, DD13, "") | DG13: =INDIRECT(DK13) -> Tiedot!AW38 | DI13: CU | DJ13: =DJ6+1 -> 7 | DK13: =DI13&DJ13 -> CU7 | DM13: =IF(DT13<>0, DT13, "") | DN13: =IF(DS13<>0, DS13, "") | DP13: Tiedot!AU | DQ13: =DP13&BQ13 -> Tiedot!AU156 | DR13: =DP13&(BQ13-1) -> Tiedot!AU155 | DS13: =INDIRECT(DR13) -> 0 | DT13: =INDIRECT(DQ13) -> 0 | DV13: =IF(EA13<>0, EA13, "") | DW13: =IF(ISERROR(EC13),"",EC13) -> 0 | DX13: Tiedot!AO | DY13: Tiedot!AN | DZ13: =DY13&BQ13 -> Tiedot!AN156 | EA13: =INDIRECT(DZ13) -> 0 | EB13: =DX13&BQ13 -> Tiedot!AO156 | EC13: =INDIRECT(EB13) -> 0 | ED13: Tiedot!AH | EE13: =ED13&BQ13 -> Tiedot!AH156 | EF13: =INDIRECT(EE13) -> 0 | EG13: =IF(EF13>0, EF13, "") | EH13: =IF(BH13>0,IF(ISERROR(INDIRECT(EJ13)),"",INDIRECT(EJ13)),"") -> #REF! | EI13: Tiedot!AM | EJ13: =EI13&BQ13 -> Tiedot!AM156 | EL13: =IFERROR(EH13^1.4*AL13/100, "") | EN13: =EN12+19 -> 154
A14: =A13+1 -> 51 | B14: =AU14 -> 0 | C14: =AV14 -> 0 | D14: =AO14 -> 0 | E14: =AP14 -> 0 | F14: =AQ14 -> 0 | G14: =EG14 | R14: =D14+E14+F14 -> 0 | AC14: =A14 -> 51 | AD14: 9 | AE14: =Tiedot!B173 -> 0 | AF14: =Tiedot!C173 -> 0 | AG14: =Tiedot!D173 -> 0 | AH14: =Tiedot!E173 -> 0 | AI14: =Tiedot!F173 -> 0 | AJ14: =Tiedot!G173 -> 0 | AK14: =Tiedot!H173 -> 0 | AL14: =Tiedot!I173 -> 0 | ... AQ14: =Tiedot!N173 -> 0 | AR14: =INDIRECT("Tiedot!N" & EN14)+INDIRECT("Tiedot!AU" & (EN14+2)) -> 0 | AS14: =SUM(AO14:AR14) -> 0 | AT14: =AT13+AS14 -> 0 | AU14: =INT(AL14/60) -> 0 | AV14: =AL14-AU14*60 -> 0 | AW14: =Tiedot!B174 -> 0 | AX14: =Tiedot!C174 -> 0 | AY14: =Tiedot!D174 -> 0 | AZ14: =Tiedot!E174 -> 0 | BA14: =Tiedot!F174 -> 0 | BB14: =Tiedot!G174 -> 0 | BC14: =Tiedot!H174 -> 0 | BD14: =Tiedot!I174 -> 0 | BF14: =Tiedot!P173 -> 0 | BH14: =IF(SUM(Tiedot!#REF!)>0, Tiedot!#REF!, "") -> #REF! | BJ14: =BP14-12 -> 159 | BK14: =BJ14+2 -> 161 | BL14: =BK14+2 -> 163 | BM14: =BL14+2 -> 165 | BN14: =BM14+2 -> 167 | BO14: =BN14+2 -> 169 | BP14: =BQ14-4 -> 171 | BQ14: =BQ13+19 -> 175 | BS14: =IF(SUM(CC14:CI14)>0,CJ14,"") | BT14: Tiedot!V | BU14: =$BT14&BJ14 -> Tiedot!V159 | BV14: =$BT14&BK14 -> Tiedot!V161 | BW14: =$BT14&BL14 -> Tiedot!V163 | BX14: =$BT14&BM14 -> Tiedot!V165 | BY14: =$BT14&BN14 -> Tiedot!V167 | BZ14: =$BT14&BO14 -> Tiedot!V169 | CA14: =$BT14&BP14 -> Tiedot!V171 | CB14: =$BT14&BQ14 -> Tiedot!V175 | CC14: =INDIRECT(BU14) | CD14: =INDIRECT(BV14) | CE14: =INDIRECT(BW14) | CF14: =INDIRECT(BX14) | CG14: =INDIRECT(BY14) | CH14: =INDIRECT(BZ14) | CI14: =INDIRECT(CA14) | CJ14: =INDIRECT(CB14) | CK14: =CK13 -> 7 | CL14: CB | CM14: =INDIRECT(CL14&CK14) -> Tiedot!V42 | CN14: Tiedot!AW | CO14: =$CN14&BJ14 -> Tiedot!AW159 | CP14: =$CN14&BK14 -> Tiedot!AW161 | CQ14: =$CN14&BL14 -> Tiedot!AW163 | CR14: =$CN14&BM14 -> Tiedot!AW165 | CS14: =$CN14&BN14 -> Tiedot!AW167 | CT14: =$CN14&BO14 -> Tiedot!AW169 | CU14: =$CN14&BP14 -> Tiedot!AW171 | CV14: =$CN14&BQ14 -> Tiedot!AW175 | CW14: =INDIRECT(CO14) -> 0 | CX14: =INDIRECT(CP14) -> 0 | CY14: =INDIRECT(CQ14) -> 0 | CZ14: =INDIRECT(CR14) -> 0 | DA14: =INDIRECT(CS14) -> 0 | DB14: =INDIRECT(CT14) -> 0 | DC14: =INDIRECT(CU14) -> 0 | DD14: =INDIRECT(CV14) -> 0 | DE14: =IF(SUM(CW14:DC14)<>0, DD14, "") | DG14: =INDIRECT(DK14) -> Tiedot!AW42 | DI14: CV | DJ14: =DJ13 -> 7 | DK14: =DI14&DJ14 -> CV7 | DM14: =IF(DT14<>0, DT14, "") | DN14: =IF(DS14<>0, DS14, "") | DP14: Tiedot!AU | DQ14: =DP14&BQ14 -> Tiedot!AU175 | DR14: =DP14&(BQ14-1) -> Tiedot!AU174 | DS14: =INDIRECT(DR14) -> 0 | DT14: =INDIRECT(DQ14) -> 0 | DV14: =IF(EA14<>0, EA14, "") | DW14: =IF(ISERROR(EC14),"",EC14) -> 0 | DX14: Tiedot!AO | DY14: Tiedot!AN | DZ14: =DY14&BQ14 -> Tiedot!AN175 | EA14: =INDIRECT(DZ14) -> 0 | EB14: =DX14&BQ14 -> Tiedot!AO175 | EC14: =INDIRECT(EB14) -> 0 | ED14: Tiedot!AH | EE14: =ED14&BQ14 -> Tiedot!AH175 | EF14: =INDIRECT(EE14) -> 0 | EG14: =IF(EF14>0, EF14, "") | EH14: =IF(BH14>0,IF(ISERROR(INDIRECT(EJ14)),"",INDIRECT(EJ14)),"") -> #REF! | EI14: Tiedot!AM | EJ14: =EI14&BQ14 -> Tiedot!AM175 | EL14: =IFERROR(EH14^1.4*AL14/100, "") | EN14: =EN13+19 -> 173
A15: =A14+1 -> 52 | B15: =AU15 -> 0 | C15: =AV15 -> 0 | D15: =AO15 -> 0 | E15: =AP15 -> 0 | F15: =AQ15 -> 0 | G15: =EG15 | R15: =D15+E15+F15 -> 0 | AC15: =A15 -> 52 | AD15: 10 | AE15: =Tiedot!B192 -> 0 | AF15: =Tiedot!C192 -> 0 | AG15: =Tiedot!D192 -> 0 | AH15: =Tiedot!E192 -> 0 | AI15: =Tiedot!F192 -> 0 | AJ15: =Tiedot!G192 -> 0 | AK15: =Tiedot!H192 -> 0 | AL15: =Tiedot!I192 -> 0 | ... AQ15: =Tiedot!N192 -> 0 | AR15: =INDIRECT("Tiedot!N" & EN15)+INDIRECT("Tiedot!AU" & (EN15+2)) -> 0 | AS15: =SUM(AO15:AR15) -> 0 | AT15: =AT14+AS15 -> 0 | AU15: =INT(AL15/60) -> 0 | AV15: =AL15-AU15*60 -> 0 | AW15: =Tiedot!B193 -> 0 | AX15: =Tiedot!C193 -> 0 | AY15: =Tiedot!D193 -> 0 | AZ15: =Tiedot!E193 -> 0 | BA15: =Tiedot!F193 -> 0 | BB15: =Tiedot!G193 -> 0 | BC15: =Tiedot!H193 -> 0 | BD15: =Tiedot!I193 -> 0 | BF15: =Tiedot!P192 -> 0 | BH15: =IF(SUM(Tiedot!#REF!)>0, Tiedot!#REF!, "") -> #REF! | BJ15: =BP15-12 -> 178 | BK15: =BJ15+2 -> 180 | BL15: =BK15+2 -> 182 | BM15: =BL15+2 -> 184 | BN15: =BM15+2 -> 186 | BO15: =BN15+2 -> 188 | BP15: =BQ15-4 -> 190 | BQ15: =BQ14+19 -> 194 | BS15: =IF(SUM(CC15:CI15)>0,CJ15,"") | BT15: Tiedot!V | BU15: =$BT15&BJ15 -> Tiedot!V178 | BV15: =$BT15&BK15 -> Tiedot!V180 | BW15: =$BT15&BL15 -> Tiedot!V182 | BX15: =$BT15&BM15 -> Tiedot!V184 | BY15: =$BT15&BN15 -> Tiedot!V186 | BZ15: =$BT15&BO15 -> Tiedot!V188 | CA15: =$BT15&BP15 -> Tiedot!V190 | CB15: =$BT15&BQ15 -> Tiedot!V194 | CC15: =INDIRECT(BU15) | CD15: =INDIRECT(BV15) | CE15: =INDIRECT(BW15) | CF15: =INDIRECT(BX15) | CG15: =INDIRECT(BY15) | CH15: =INDIRECT(BZ15) | CI15: =INDIRECT(CA15) | CJ15: =INDIRECT(CB15) | CK15: =CK13 -> 7 | CL15: CC | CM15: =INDIRECT(CL15&CK15) | CN15: Tiedot!AW | CO15: =$CN15&BJ15 -> Tiedot!AW178 | CP15: =$CN15&BK15 -> Tiedot!AW180 | CQ15: =$CN15&BL15 -> Tiedot!AW182 | CR15: =$CN15&BM15 -> Tiedot!AW184 | CS15: =$CN15&BN15 -> Tiedot!AW186 | CT15: =$CN15&BO15 -> Tiedot!AW188 | CU15: =$CN15&BP15 -> Tiedot!AW190 | CV15: =$CN15&BQ15 -> Tiedot!AW194 | CW15: =INDIRECT(CO15) -> 0 | CX15: =INDIRECT(CP15) -> 0 | CY15: =INDIRECT(CQ15) -> 0 | CZ15: =INDIRECT(CR15) -> 0 | DA15: =INDIRECT(CS15) -> 0 | DB15: =INDIRECT(CT15) -> 0 | DC15: =INDIRECT(CU15) -> 0 | DD15: =INDIRECT(CV15) -> 0 | DE15: =IF(SUM(CW15:DC15)<>0, DD15, "") | DG15: =INDIRECT(DK15) -> 0 | DI15: CW | DJ15: =DJ13 -> 7 | DK15: =DI15&DJ15 -> CW7 | DM15: =IF(DT15<>0, DT15, "") | DN15: =IF(DS15<>0, DS15, "") | DP15: Tiedot!AU | DQ15: =DP15&BQ15 -> Tiedot!AU194 | DR15: =DP15&(BQ15-1) -> Tiedot!AU193 | DS15: =INDIRECT(DR15) -> 0 | DT15: =INDIRECT(DQ15) -> 0 | DV15: =IF(EA15<>0, EA15, "") | DW15: =IF(ISERROR(EC15),"",EC15) -> 0 | DX15: Tiedot!AO | DY15: Tiedot!AN | DZ15: =DY15&BQ15 -> Tiedot!AN194 | EA15: =INDIRECT(DZ15) -> 0 | EB15: =DX15&BQ15 -> Tiedot!AO194 | EC15: =INDIRECT(EB15) -> 0 | ED15: Tiedot!AH | EE15: =ED15&BQ15 -> Tiedot!AH194 | EF15: =INDIRECT(EE15) -> 0 | EG15: =IF(EF15>0, EF15, "") | EH15: =IF(BH15>0,IF(ISERROR(INDIRECT(EJ15)),"",INDIRECT(EJ15)),"") -> #REF! | EI15: Tiedot!AM | EJ15: =EI15&BQ15 -> Tiedot!AM194 | EL15: =IFERROR(EH15^1.4*AL15/100, "") | EN15: =EN14+19 -> 192
A16: 1 | B16: =AU16 -> 0 | C16: =AV16 -> 0 | D16: =AO16 -> 0 | E16: =AP16 -> 0 | F16: =AQ16 -> 0 | G16: =EG16 | R16: =D16+E16+F16 -> 0 | AC16: =A16 -> 1 | AD16: 11 | AE16: =Tiedot!B211 -> 0 | AF16: =Tiedot!C211 -> 0 | AG16: =Tiedot!D211 -> 0 | AH16: =Tiedot!E211 -> 0 | AI16: =Tiedot!F211 -> 0 | AJ16: =Tiedot!G211 -> 0 | AK16: =Tiedot!H211 -> 0 | AL16: =Tiedot!I211 -> 0 | ... AQ16: =Tiedot!N211 -> 0 | AR16: =INDIRECT("Tiedot!N" & EN16)+INDIRECT("Tiedot!AU" & (EN16+2)) -> 0 | AS16: =SUM(AO16:AR16) -> 0 | AT16: =AT15+AS16 -> 0 | AU16: =INT(AL16/60) -> 0 | AV16: =AL16-AU16*60 -> 0 | AW16: =Tiedot!B212 -> 0 | AX16: =Tiedot!C212 -> 0 | AY16: =Tiedot!D212 -> 0 | AZ16: =Tiedot!E212 -> 0 | BA16: =Tiedot!F212 -> 0 | BB16: =Tiedot!G212 -> 0 | BC16: =Tiedot!H212 -> 0 | BD16: =Tiedot!I212 -> 0 | BF16: =Tiedot!P211 -> 0 | BH16: =IF(SUM(Tiedot!#REF!)>0, Tiedot!#REF!, "") -> #REF! | BJ16: =BP16-12 -> 197 | BK16: =BJ16+2 -> 199 | BL16: =BK16+2 -> 201 | BM16: =BL16+2 -> 203 | BN16: =BM16+2 -> 205 | BO16: =BN16+2 -> 207 | BP16: =BQ16-4 -> 209 | BQ16: =BQ15+19 -> 213 | BS16: =IF(SUM(CC16:CI16)>0,CJ16,"") | BT16: Tiedot!V | BU16: =$BT16&BJ16 -> Tiedot!V197 | BV16: =$BT16&BK16 -> Tiedot!V199 | BW16: =$BT16&BL16 -> Tiedot!V201 | BX16: =$BT16&BM16 -> Tiedot!V203 | BY16: =$BT16&BN16 -> Tiedot!V205 | BZ16: =$BT16&BO16 -> Tiedot!V207 | CA16: =$BT16&BP16 -> Tiedot!V209 | CB16: =$BT16&BQ16 -> Tiedot!V213 | CC16: =INDIRECT(BU16) | CD16: =INDIRECT(BV16) | CE16: =INDIRECT(BW16) | CF16: =INDIRECT(BX16) | CG16: =INDIRECT(BY16) | CH16: =INDIRECT(BZ16) | CI16: =INDIRECT(CA16) | CJ16: =INDIRECT(CB16) | CK16: =CK13 -> 7 | CL16: CD | CM16: =INDIRECT(CL16&CK16) | CN16: Tiedot!AW | CO16: =$CN16&BJ16 -> Tiedot!AW197 | CP16: =$CN16&BK16 -> Tiedot!AW199 | CQ16: =$CN16&BL16 -> Tiedot!AW201 | CR16: =$CN16&BM16 -> Tiedot!AW203 | CS16: =$CN16&BN16 -> Tiedot!AW205 | CT16: =$CN16&BO16 -> Tiedot!AW207 | CU16: =$CN16&BP16 -> Tiedot!AW209 | CV16: =$CN16&BQ16 -> Tiedot!AW213 | CW16: =INDIRECT(CO16) -> 0 | CX16: =INDIRECT(CP16) -> 0 | CY16: =INDIRECT(CQ16) -> 0 | CZ16: =INDIRECT(CR16) -> 0 | DA16: =INDIRECT(CS16) -> 0 | DB16: =INDIRECT(CT16) -> 0 | DC16: =INDIRECT(CU16) -> 0 | DD16: =INDIRECT(CV16) -> 0 | DE16: =IF(SUM(CW16:DC16)<>0, DD16, "") | DG16: =INDIRECT(DK16) -> 0 | DI16: CX | DJ16: =DJ13 -> 7 | DK16: =DI16&DJ16 -> CX7 | DM16: =IF(DT16<>0, DT16, "") | DN16: =IF(DS16<>0, DS16, "") | DP16: Tiedot!AU | DQ16: =DP16&BQ16 -> Tiedot!AU213 | DR16: =DP16&(BQ16-1) -> Tiedot!AU212 | DS16: =INDIRECT(DR16) -> 0 | DT16: =INDIRECT(DQ16) -> 0 | DV16: =IF(EA16<>0, EA16, "") | DW16: =IF(ISERROR(EC16),"",EC16) -> 0 | DX16: Tiedot!AO | DY16: Tiedot!AN | DZ16: =DY16&BQ16 -> Tiedot!AN213 | EA16: =INDIRECT(DZ16) -> 0 | EB16: =DX16&BQ16 -> Tiedot!AO213 | EC16: =INDIRECT(EB16) -> 0 | ED16: Tiedot!AH | EE16: =ED16&BQ16 -> Tiedot!AH213 | EF16: =INDIRECT(EE16) -> 0 | EG16: =IF(EF16>0, EF16, "") | EH16: =IF(BH16>0,IF(ISERROR(INDIRECT(EJ16)),"",INDIRECT(EJ16)),"") -> #REF! | EI16: Tiedot!AM | EJ16: =EI16&BQ16 -> Tiedot!AM213 | EL16: =IFERROR(EH16^1.4*AL16/100, "") | EN16: =EN15+19 -> 211
A17: =A16+1 -> 2 | B17: =AU17 -> 0 | C17: =AV17 -> 0 | D17: =AO17 -> 0 | E17: =AP17 -> 0 | F17: =AQ17 -> 0 | G17: =EG17 | R17: =D17+E17+F17 -> 0 | AC17: =A17 -> 2 | AD17: 12 | AE17: =Tiedot!B230 -> 0 | AF17: =Tiedot!C230 -> 0 | AG17: =Tiedot!D230 -> 0 | AH17: =Tiedot!E230 -> 0 | AI17: =Tiedot!F230 -> 0 | AJ17: =Tiedot!G230 -> 0 | AK17: =Tiedot!H230 -> 0 | AL17: =Tiedot!I230 -> 0 | ... AQ17: =Tiedot!N230 -> 0 | AR17: =INDIRECT("Tiedot!N" & EN17)+INDIRECT("Tiedot!AU" & (EN17+2)) -> 0 | AS17: =SUM(AO17:AR17) -> 0 | AT17: =AT16+AS17 -> 0 | AU17: =INT(AL17/60) -> 0 | AV17: =AL17-AU17*60 -> 0 | AW17: =Tiedot!B231 -> 0 | AX17: =Tiedot!C231 -> 0 | AY17: =Tiedot!D231 -> 0 | AZ17: =Tiedot!E231 -> 0 | BA17: =Tiedot!F231 -> 0 | BB17: =Tiedot!G231 -> 0 | BC17: =Tiedot!H231 -> 0 | BD17: =Tiedot!I231 -> 0 | BF17: =Tiedot!P230 -> 0 | BH17: =IF(SUM(Tiedot!#REF!)>0, Tiedot!#REF!, "") -> #REF! | BJ17: =BP17-12 -> 216 | BK17: =BJ17+2 -> 218 | BL17: =BK17+2 -> 220 | BM17: =BL17+2 -> 222 | BN17: =BM17+2 -> 224 | BO17: =BN17+2 -> 226 | BP17: =BQ17-4 -> 228 | BQ17: =BQ16+19 -> 232 | BS17: =IF(SUM(CC17:CI17)>0,CJ17,"") | BT17: Tiedot!V | BU17: =$BT17&BJ17 -> Tiedot!V216 | BV17: =$BT17&BK17 -> Tiedot!V218 | BW17: =$BT17&BL17 -> Tiedot!V220 | BX17: =$BT17&BM17 -> Tiedot!V222 | BY17: =$BT17&BN17 -> Tiedot!V224 | BZ17: =$BT17&BO17 -> Tiedot!V226 | CA17: =$BT17&BP17 -> Tiedot!V228 | CB17: =$BT17&BQ17 -> Tiedot!V232 | CC17: =INDIRECT(BU17) | CD17: =INDIRECT(BV17) | CE17: =INDIRECT(BW17) | CF17: =INDIRECT(BX17) | CG17: =INDIRECT(BY17) | CH17: =INDIRECT(BZ17) | CI17: =INDIRECT(CA17) | CJ17: =INDIRECT(CB17) | CK17: =CK13 -> 7 | CL17: CE | CM17: =INDIRECT(CL17&CK17) | CN17: Tiedot!AW | CO17: =$CN17&BJ17 -> Tiedot!AW216 | CP17: =$CN17&BK17 -> Tiedot!AW218 | CQ17: =$CN17&BL17 -> Tiedot!AW220 | CR17: =$CN17&BM17 -> Tiedot!AW222 | CS17: =$CN17&BN17 -> Tiedot!AW224 | CT17: =$CN17&BO17 -> Tiedot!AW226 | CU17: =$CN17&BP17 -> Tiedot!AW228 | CV17: =$CN17&BQ17 -> Tiedot!AW232 | CW17: =INDIRECT(CO17) -> 0 | CX17: =INDIRECT(CP17) -> 0 | CY17: =INDIRECT(CQ17) -> 0 | CZ17: =INDIRECT(CR17) -> 0 | DA17: =INDIRECT(CS17) -> 0 | DB17: =INDIRECT(CT17) -> 0 | DC17: =INDIRECT(CU17) -> 0 | DD17: =INDIRECT(CV17) -> 0 | DE17: =IF(SUM(CW17:DC17)<>0, DD17, "") | DG17: =INDIRECT(DK17) -> 0 | DI17: CY | DJ17: =DJ13 -> 7 | DK17: =DI17&DJ17 -> CY7 | DM17: =IF(DT17<>0, DT17, "") | DN17: =IF(DS17<>0, DS17, "") | DP17: Tiedot!AU | DQ17: =DP17&BQ17 -> Tiedot!AU232 | DR17: =DP17&(BQ17-1) -> Tiedot!AU231 | DS17: =INDIRECT(DR17) -> 0 | DT17: =INDIRECT(DQ17) -> 0 | DV17: =IF(EA17<>0, EA17, "") | DW17: =IF(ISERROR(EC17),"",EC17) -> 0 | DX17: Tiedot!AO | DY17: Tiedot!AN | DZ17: =DY17&BQ17 -> Tiedot!AN232 | EA17: =INDIRECT(DZ17) -> 0 | EB17: =DX17&BQ17 -> Tiedot!AO232 | EC17: =INDIRECT(EB17) -> 0 | ED17: Tiedot!AH | EE17: =ED17&BQ17 -> Tiedot!AH232 | EF17: =INDIRECT(EE17) -> 0 | EG17: =IF(EF17>0, EF17, "") | EH17: =IF(BH17>0,IF(ISERROR(INDIRECT(EJ17)),"",INDIRECT(EJ17)),"") -> #REF! | EI17: Tiedot!AM | EJ17: =EI17&BQ17 -> Tiedot!AM232 | EL17: =IFERROR(EH17^1.4*AL17/100, "") | EN17: =EN16+19 -> 230
A18: =A17+1 -> 3 | B18: =AU18 -> 0 | C18: =AV18 -> 0 | D18: =AO18 -> 0 | E18: =AP18 -> 0 | F18: =AQ18 -> 0 | G18: =EG18 | R18: =D18+E18+F18 -> 0 | AC18: =A18 -> 3 | AD18: 13 | AE18: =Tiedot!B249 -> 0 | AF18: =Tiedot!C249 -> 0 | AG18: =Tiedot!D249 -> 0 | AH18: =Tiedot!E249 -> 0 | AI18: =Tiedot!F249 -> 0 | AJ18: =Tiedot!G249 -> 0 | AK18: =Tiedot!H249 -> 0 | AL18: =Tiedot!I249 -> 0 | ... AQ18: =Tiedot!N249 -> 0 | AR18: =INDIRECT("Tiedot!N" & EN18)+INDIRECT("Tiedot!AU" & (EN18+2)) -> 0 | AS18: =SUM(AO18:AR18) -> 0 | AT18: =AT17+AS18 -> 0 | AU18: =INT(AL18/60) -> 0 | AV18: =AL18-AU18*60 -> 0 | AW18: =Tiedot!B250 -> 0 | AX18: =Tiedot!C250 -> 0 | AY18: =Tiedot!D250 -> 0 | AZ18: =Tiedot!E250 -> 0 | BA18: =Tiedot!F250 -> 0 | BB18: =Tiedot!G250 -> 0 | BC18: =Tiedot!H250 -> 0 | BD18: =Tiedot!I250 -> 0 | BF18: =Tiedot!P249 -> 0 | BH18: =IF(SUM(Tiedot!#REF!)>0, Tiedot!#REF!, "") -> #REF! | BJ18: =BP18-12 -> 235 | BK18: =BJ18+2 -> 237 | BL18: =BK18+2 -> 239 | BM18: =BL18+2 -> 241 | BN18: =BM18+2 -> 243 | BO18: =BN18+2 -> 245 | BP18: =BQ18-4 -> 247 | BQ18: =BQ17+19 -> 251 | BS18: =IF(SUM(CC18:CI18)>0,CJ18,"") | BT18: Tiedot!V | BU18: =$BT18&BJ18 -> Tiedot!V235 | BV18: =$BT18&BK18 -> Tiedot!V237 | BW18: =$BT18&BL18 -> Tiedot!V239 | BX18: =$BT18&BM18 -> Tiedot!V241 | BY18: =$BT18&BN18 -> Tiedot!V243 | BZ18: =$BT18&BO18 -> Tiedot!V245 | CA18: =$BT18&BP18 -> Tiedot!V247 | CB18: =$BT18&BQ18 -> Tiedot!V251 | CC18: =INDIRECT(BU18) | CD18: =INDIRECT(BV18) | CE18: =INDIRECT(BW18) | CF18: =INDIRECT(BX18) | CG18: =INDIRECT(BY18) | CH18: =INDIRECT(BZ18) | CI18: =INDIRECT(CA18) | CJ18: =INDIRECT(CB18) | CK18: =CK13 -> 7 | CL18: CF | CM18: =INDIRECT(CL18&CK18) | CN18: Tiedot!AW | CO18: =$CN18&BJ18 -> Tiedot!AW235 | CP18: =$CN18&BK18 -> Tiedot!AW237 | CQ18: =$CN18&BL18 -> Tiedot!AW239 | CR18: =$CN18&BM18 -> Tiedot!AW241 | CS18: =$CN18&BN18 -> Tiedot!AW243 | CT18: =$CN18&BO18 -> Tiedot!AW245 | CU18: =$CN18&BP18 -> Tiedot!AW247 | CV18: =$CN18&BQ18 -> Tiedot!AW251 | CW18: =INDIRECT(CO18) -> 0 | CX18: =INDIRECT(CP18) -> 0 | CY18: =INDIRECT(CQ18) -> 0 | CZ18: =INDIRECT(CR18) -> 0 | DA18: =INDIRECT(CS18) -> 0 | DB18: =INDIRECT(CT18) -> 0 | DC18: =INDIRECT(CU18) -> 0 | DD18: =INDIRECT(CV18) -> 0 | DE18: =IF(SUM(CW18:DC18)<>0, DD18, "") | DG18: =INDIRECT(DK18) -> 0 | DI18: CZ | DJ18: =DJ13 -> 7 | DK18: =DI18&DJ18 -> CZ7 | DM18: =IF(DT18<>0, DT18, "") | DN18: =IF(DS18<>0, DS18, "") | DP18: Tiedot!AU | DQ18: =DP18&BQ18 -> Tiedot!AU251 | DR18: =DP18&(BQ18-1) -> Tiedot!AU250 | DS18: =INDIRECT(DR18) -> 0 | DT18: =INDIRECT(DQ18) -> 0 | DV18: =IF(EA18<>0, EA18, "") | DW18: =IF(ISERROR(EC18),"",EC18) -> 0 | DX18: Tiedot!AO | DY18: Tiedot!AN | DZ18: =DY18&BQ18 -> Tiedot!AN251 | EA18: =INDIRECT(DZ18) -> 0 | EB18: =DX18&BQ18 -> Tiedot!AO251 | EC18: =INDIRECT(EB18) -> 0 | ED18: Tiedot!AH | EE18: =ED18&BQ18 -> Tiedot!AH251 | EF18: =INDIRECT(EE18) -> 0 | EG18: =IF(EF18>0, EF18, "") | EH18: =IF(BH18>0,IF(ISERROR(INDIRECT(EJ18)),"",INDIRECT(EJ18)),"") -> #REF! | EI18: Tiedot!AM | EJ18: =EI18&BQ18 -> Tiedot!AM251 | EL18: =IFERROR(EH18^1.4*AL18/100, "") | EN18: =EN17+19 -> 249
A19: =A18+1 -> 4 | B19: =AU19 -> 0 | C19: =AV19 -> 0 | D19: =AO19 -> 0 | E19: =AP19 -> 0 | F19: =AQ19 -> 0 | G19: =EG19 | R19: =D19+E19+F19 -> 0 | AC19: =A19 -> 4 | AD19: 14 | AE19: =Tiedot!B268 -> 0 | AF19: =Tiedot!C268 -> 0 | AG19: =Tiedot!D268 -> 0 | AH19: =Tiedot!E268 -> 0 | AI19: =Tiedot!F268 -> 0 | AJ19: =Tiedot!G268 -> 0 | AK19: =Tiedot!H268 -> 0 | AL19: =Tiedot!I268 -> 0 | ... AQ19: =Tiedot!N268 -> 0 | AR19: =INDIRECT("Tiedot!N" & EN19)+INDIRECT("Tiedot!AU" & (EN19+2)) -> 0 | AS19: =SUM(AO19:AR19) -> 0 | AT19: =AT18+AS19 -> 0 | AU19: =INT(AL19/60) -> 0 | AV19: =AL19-AU19*60 -> 0 | AW19: =Tiedot!B269 -> 0 | AX19: =Tiedot!C269 -> 0 | AY19: =Tiedot!D269 -> 0 | AZ19: =Tiedot!E269 -> 0 | BA19: =Tiedot!F269 -> 0 | BB19: =Tiedot!G269 -> 0 | BC19: =Tiedot!H269 -> 0 | BD19: =Tiedot!I269 -> 0 | BF19: =Tiedot!P268 -> 0 | BH19: =IF(SUM(Tiedot!#REF!)>0, Tiedot!#REF!, "") -> #REF! | BJ19: =BP19-12 -> 254 | BK19: =BJ19+2 -> 256 | BL19: =BK19+2 -> 258 | BM19: =BL19+2 -> 260 | BN19: =BM19+2 -> 262 | BO19: =BN19+2 -> 264 | BP19: =BQ19-4 -> 266 | BQ19: =BQ18+19 -> 270 | BS19: =IF(SUM(CC19:CI19)>0,CJ19,"") | BT19: Tiedot!V | BU19: =$BT19&BJ19 -> Tiedot!V254 | BV19: =$BT19&BK19 -> Tiedot!V256 | BW19: =$BT19&BL19 -> Tiedot!V258 | BX19: =$BT19&BM19 -> Tiedot!V260 | BY19: =$BT19&BN19 -> Tiedot!V262 | BZ19: =$BT19&BO19 -> Tiedot!V264 | CA19: =$BT19&BP19 -> Tiedot!V266 | CB19: =$BT19&BQ19 -> Tiedot!V270 | CC19: =INDIRECT(BU19) | CD19: =INDIRECT(BV19) | CE19: =INDIRECT(BW19) | CF19: =INDIRECT(BX19) | CG19: =INDIRECT(BY19) | CH19: =INDIRECT(BZ19) | CI19: =INDIRECT(CA19) | CJ19: =INDIRECT(CB19) | CK19: =CK13 -> 7 | CL19: CG | CM19: =INDIRECT(CL19&CK19) | CN19: Tiedot!AW | CO19: =$CN19&BJ19 -> Tiedot!AW254 | CP19: =$CN19&BK19 -> Tiedot!AW256 | CQ19: =$CN19&BL19 -> Tiedot!AW258 | CR19: =$CN19&BM19 -> Tiedot!AW260 | CS19: =$CN19&BN19 -> Tiedot!AW262 | CT19: =$CN19&BO19 -> Tiedot!AW264 | CU19: =$CN19&BP19 -> Tiedot!AW266 | CV19: =$CN19&BQ19 -> Tiedot!AW270 | CW19: =INDIRECT(CO19) -> 0 | CX19: =INDIRECT(CP19) -> 0 | CY19: =INDIRECT(CQ19) -> 0 | CZ19: =INDIRECT(CR19) -> 0 | DA19: =INDIRECT(CS19) -> 0 | DB19: =INDIRECT(CT19) -> 0 | DC19: =INDIRECT(CU19) -> 0 | DD19: =INDIRECT(CV19) -> 0 | DE19: =IF(SUM(CW19:DC19)<>0, DD19, "") | DG19: =INDIRECT(DK19) -> 0 | DI19: DA | DJ19: =DJ13 -> 7 | DK19: =DI19&DJ19 -> DA7 | DM19: =IF(DT19<>0, DT19, "") | DN19: =IF(DS19<>0, DS19, "") | DP19: Tiedot!AU | DQ19: =DP19&BQ19 -> Tiedot!AU270 | DR19: =DP19&(BQ19-1) -> Tiedot!AU269 | DS19: =INDIRECT(DR19) -> 0 | DT19: =INDIRECT(DQ19) -> 0 | DV19: =IF(EA19<>0, EA19, "") | DW19: =IF(ISERROR(EC19),"",EC19) -> 0 | DX19: Tiedot!AO | DY19: Tiedot!AN | DZ19: =DY19&BQ19 -> Tiedot!AN270 | EA19: =INDIRECT(DZ19) -> 0 | EB19: =DX19&BQ19 -> Tiedot!AO270 | EC19: =INDIRECT(EB19) -> 0 | ED19: Tiedot!AH | EE19: =ED19&BQ19 -> Tiedot!AH270 | EF19: =INDIRECT(EE19) -> 0 | EG19: =IF(EF19>0, EF19, "") | EH19: =IF(BH19>0,IF(ISERROR(INDIRECT(EJ19)),"",INDIRECT(EJ19)),"") -> #REF! | EI19: Tiedot!AM | EJ19: =EI19&BQ19 -> Tiedot!AM270 | EL19: =IFERROR(EH19^1.4*AL19/100, "") | EN19: =EN18+19 -> 268
A20: =A19+1 -> 5 | B20: =AU20 -> 0 | C20: =AV20 -> 0 | D20: =AO20 -> 0 | E20: =AP20 -> 0 | F20: =AQ20 -> 0 | G20: =EG20 | R20: =D20+E20+F20 -> 0 | AC20: =A20 -> 5 | AD20: 15 | AE20: =Tiedot!B287 -> 0 | AF20: =Tiedot!C287 -> 0 | AG20: =Tiedot!D287 -> 0 | AH20: =Tiedot!E287 -> 0 | AI20: =Tiedot!F287 -> 0 | AJ20: =Tiedot!G287 -> 0 | AK20: =Tiedot!H287 -> 0 | AL20: =Tiedot!I287 -> 0 | ... AQ20: =Tiedot!N287 -> 0 | AR20: =INDIRECT("Tiedot!N" & EN20)+INDIRECT("Tiedot!AU" & (EN20+2)) -> 0 | AS20: =SUM(AO20:AR20) -> 0 | AT20: =AT19+AS20 -> 0 | AU20: =INT(AL20/60) -> 0 | AV20: =AL20-AU20*60 -> 0 | AW20: =Tiedot!B288 -> 0 | AX20: =Tiedot!C288 -> 0 | AY20: =Tiedot!D288 -> 0 | AZ20: =Tiedot!E288 -> 0 | BA20: =Tiedot!F288 -> 0 | BB20: =Tiedot!G288 -> 0 | BC20: =Tiedot!H288 -> 0 | BD20: =Tiedot!I288 -> 0 | BF20: =Tiedot!P287 -> 0 | BH20: =IF(SUM(Tiedot!#REF!)>0, Tiedot!#REF!, "") -> #REF! | BJ20: =BP20-12 -> 273 | BK20: =BJ20+2 -> 275 | BL20: =BK20+2 -> 277 | BM20: =BL20+2 -> 279 | BN20: =BM20+2 -> 281 | BO20: =BN20+2 -> 283 | BP20: =BQ20-4 -> 285 | BQ20: =BQ19+19 -> 289 | BS20: =IF(SUM(CC20:CI20)>0,CJ20,"") | BT20: Tiedot!V | BU20: =$BT20&BJ20 -> Tiedot!V273 | BV20: =$BT20&BK20 -> Tiedot!V275 | BW20: =$BT20&BL20 -> Tiedot!V277 | BX20: =$BT20&BM20 -> Tiedot!V279 | BY20: =$BT20&BN20 -> Tiedot!V281 | BZ20: =$BT20&BO20 -> Tiedot!V283 | CA20: =$BT20&BP20 -> Tiedot!V285 | CB20: =$BT20&BQ20 -> Tiedot!V289 | CC20: =INDIRECT(BU20) | CD20: =INDIRECT(BV20) | CE20: =INDIRECT(BW20) | CF20: =INDIRECT(BX20) | CG20: =INDIRECT(BY20) | CH20: =INDIRECT(BZ20) | CI20: =INDIRECT(CA20) | CJ20: =INDIRECT(CB20) | CK20: =CK13+1 -> 8 | CL20: CA | CM20: =INDIRECT(CL20&CK20) -> Tiedot!V57 | CN20: Tiedot!AW | CO20: =$CN20&BJ20 -> Tiedot!AW273 | CP20: =$CN20&BK20 -> Tiedot!AW275 | CQ20: =$CN20&BL20 -> Tiedot!AW277 | CR20: =$CN20&BM20 -> Tiedot!AW279 | CS20: =$CN20&BN20 -> Tiedot!AW281 | CT20: =$CN20&BO20 -> Tiedot!AW283 | CU20: =$CN20&BP20 -> Tiedot!AW285 | CV20: =$CN20&BQ20 -> Tiedot!AW289 | CW20: =INDIRECT(CO20) -> 0 | CX20: =INDIRECT(CP20) -> 0 | CY20: =INDIRECT(CQ20) -> 0 | CZ20: =INDIRECT(CR20) -> 0 | DA20: =INDIRECT(CS20) -> 0 | DB20: =INDIRECT(CT20) -> 0 | DC20: =INDIRECT(CU20) -> 0 | DD20: =INDIRECT(CV20) -> 0 | DE20: =IF(SUM(CW20:DC20)<>0, DD20, "") | DG20: =INDIRECT(DK20) -> Tiedot!AW57 | DI20: CU | DJ20: =DJ13+1 -> 8 | DK20: =DI20&DJ20 -> CU8 | DM20: =IF(DT20<>0, DT20, "") | DN20: =IF(DS20<>0, DS20, "") | DP20: Tiedot!AU | DQ20: =DP20&BQ20 -> Tiedot!AU289 | DR20: =DP20&(BQ20-1) -> Tiedot!AU288 | DS20: =INDIRECT(DR20) -> 0 | DT20: =INDIRECT(DQ20) -> 0 | DV20: =IF(EA20<>0, EA20, "") | DW20: =IF(ISERROR(EC20),"",EC20) -> 0 | DX20: Tiedot!AO | DY20: Tiedot!AN | DZ20: =DY20&BQ20 -> Tiedot!AN289 | EA20: =INDIRECT(DZ20) -> 0 | EB20: =DX20&BQ20 -> Tiedot!AO289 | EC20: =INDIRECT(EB20) -> 0 | ED20: Tiedot!AH | EE20: =ED20&BQ20 -> Tiedot!AH289 | EF20: =INDIRECT(EE20) -> 0 | EG20: =IF(EF20>0, EF20, "") | EH20: =IF(BH20>0,IF(ISERROR(INDIRECT(EJ20)),"",INDIRECT(EJ20)),"") -> #REF! | EI20: Tiedot!AM | EJ20: =EI20&BQ20 -> Tiedot!AM289 | EL20: =IFERROR(EH20^1.4*AL20/100, "") | EN20: =EN19+19 -> 287
A21: =A20+1 -> 6 | B21: =AU21 -> 0 | C21: =AV21 -> 0 | D21: =AO21 -> 0 | E21: =AP21 -> 0 | F21: =AQ21 -> 0 | G21: =EG21 | R21: =D21+E21+F21 -> 0 | AC21: =A21 -> 6 | AD21: 16 | AE21: =Tiedot!B306 -> 0 | AF21: =Tiedot!C306 -> 0 | AG21: =Tiedot!D306 -> 0 | AH21: =Tiedot!E306 -> 0 | AI21: =Tiedot!F306 -> 0 | AJ21: =Tiedot!G306 -> 0 | AK21: =Tiedot!H306 -> 0 | AL21: =Tiedot!I306 -> 0 | ... AQ21: =Tiedot!N306 -> 0 | AR21: =INDIRECT("Tiedot!N" & EN21)+INDIRECT("Tiedot!AU" & (EN21+2)) -> 0 | AS21: =SUM(AO21:AR21) -> 0 | AT21: =AT20+AS21 -> 0 | AU21: =INT(AL21/60) -> 0 | AV21: =AL21-AU21*60 -> 0 | AW21: =Tiedot!B307 -> 0 | AX21: =Tiedot!C307 -> 0 | AY21: =Tiedot!D307 -> 0 | AZ21: =Tiedot!E307 -> 0 | BA21: =Tiedot!F307 -> 0 | BB21: =Tiedot!G307 -> 0 | BC21: =Tiedot!H307 -> 0 | BD21: =Tiedot!I307 -> 0 | BF21: =Tiedot!P306 -> 0 | BH21: =IF(SUM(Tiedot!#REF!)>0, Tiedot!#REF!, "") -> #REF! | BJ21: =BP21-12 -> 292 | BK21: =BJ21+2 -> 294 | BL21: =BK21+2 -> 296 | BM21: =BL21+2 -> 298 | BN21: =BM21+2 -> 300 | BO21: =BN21+2 -> 302 | BP21: =BQ21-4 -> 304 | BQ21: =BQ20+19 -> 308 | BS21: =IF(SUM(CC21:CI21)>0,CJ21,"") | BT21: Tiedot!V | BU21: =$BT21&BJ21 -> Tiedot!V292 | BV21: =$BT21&BK21 -> Tiedot!V294 | BW21: =$BT21&BL21 -> Tiedot!V296 | BX21: =$BT21&BM21 -> Tiedot!V298 | BY21: =$BT21&BN21 -> Tiedot!V300 | BZ21: =$BT21&BO21 -> Tiedot!V302 | CA21: =$BT21&BP21 -> Tiedot!V304 | CB21: =$BT21&BQ21 -> Tiedot!V308 | CC21: =INDIRECT(BU21) | CD21: =INDIRECT(BV21) | CE21: =INDIRECT(BW21) | CF21: =INDIRECT(BX21) | CG21: =INDIRECT(BY21) | CH21: =INDIRECT(BZ21) | CI21: =INDIRECT(CA21) | CJ21: =INDIRECT(CB21) | CK21: =CK20 -> 8 | CL21: CB | CM21: =INDIRECT(CL21&CK21) -> Tiedot!V61 | CN21: Tiedot!AW | CO21: =$CN21&BJ21 -> Tiedot!AW292 | CP21: =$CN21&BK21 -> Tiedot!AW294 | CQ21: =$CN21&BL21 -> Tiedot!AW296 | CR21: =$CN21&BM21 -> Tiedot!AW298 | CS21: =$CN21&BN21 -> Tiedot!AW300 | CT21: =$CN21&BO21 -> Tiedot!AW302 | CU21: =$CN21&BP21 -> Tiedot!AW304 | CV21: =$CN21&BQ21 -> Tiedot!AW308 | CW21: =INDIRECT(CO21) -> 0 | CX21: =INDIRECT(CP21) -> 0 | CY21: =INDIRECT(CQ21) -> 0 | CZ21: =INDIRECT(CR21) -> 0 | DA21: =INDIRECT(CS21) -> 0 | DB21: =INDIRECT(CT21) -> 0 | DC21: =INDIRECT(CU21) -> 0 | DD21: =INDIRECT(CV21) -> 0 | DE21: =IF(SUM(CW21:DC21)<>0, DD21, "") | DG21: =INDIRECT(DK21) -> Tiedot!AW61 | DI21: CV | DJ21: =DJ20 -> 8 | DK21: =DI21&DJ21 -> CV8 | DM21: =IF(DT21<>0, DT21, "") | DN21: =IF(DS21<>0, DS21, "") | DP21: Tiedot!AU | DQ21: =DP21&BQ21 -> Tiedot!AU308 | DR21: =DP21&(BQ21-1) -> Tiedot!AU307 | DS21: =INDIRECT(DR21) -> 0 | DT21: =INDIRECT(DQ21) -> 0 | DV21: =IF(EA21<>0, EA21, "") | DW21: =IF(ISERROR(EC21),"",EC21) -> 0 | DX21: Tiedot!AO | DY21: Tiedot!AN | DZ21: =DY21&BQ21 -> Tiedot!AN308 | EA21: =INDIRECT(DZ21) -> 0 | EB21: =DX21&BQ21 -> Tiedot!AO308 | EC21: =INDIRECT(EB21) -> 0 | ED21: Tiedot!AH | EE21: =ED21&BQ21 -> Tiedot!AH308 | EF21: =INDIRECT(EE21) -> 0 | EG21: =IF(EF21>0, EF21, "") | EH21: =IF(BH21>0,IF(ISERROR(INDIRECT(EJ21)),"",INDIRECT(EJ21)),"") -> #REF! | EI21: Tiedot!AM | EJ21: =EI21&BQ21 -> Tiedot!AM308 | EL21: =IFERROR(EH21^1.4*AL21/100, "") | EN21: =EN20+19 -> 306
A22: =A21+1 -> 7 | B22: =AU22 -> 0 | C22: =AV22 -> 0 | D22: =AO22 -> 0 | E22: =AP22 -> 0 | F22: =AQ22 -> 0 | G22: =EG22 | R22: =D22+E22+F22 -> 0 | AC22: =A22 -> 7 | AD22: 17 | AE22: =Tiedot!B325 -> 0 | AF22: =Tiedot!C325 -> 0 | AG22: =Tiedot!D325 -> 0 | AH22: =Tiedot!E325 -> 0 | AI22: =Tiedot!F325 -> 0 | AJ22: =Tiedot!G325 -> 0 | AK22: =Tiedot!H325 -> 0 | AL22: =Tiedot!I325 -> 0 | ... AQ22: =Tiedot!N325 -> 0 | AR22: =INDIRECT("Tiedot!N" & EN22)+INDIRECT("Tiedot!AU" & (EN22+2)) -> 0 | AS22: =SUM(AO22:AR22) -> 0 | AT22: =AT21+AS22 -> 0 | AU22: =INT(AL22/60) -> 0 | AV22: =AL22-AU22*60 -> 0 | AW22: =Tiedot!B326 -> 0 | AX22: =Tiedot!C326 -> 0 | AY22: =Tiedot!D326 -> 0 | AZ22: =Tiedot!E326 -> 0 | BA22: =Tiedot!F326 -> 0 | BB22: =Tiedot!G326 -> 0 | BC22: =Tiedot!H326 -> 0 | BD22: =Tiedot!I326 -> 0 | BF22: =Tiedot!P325 -> 0 | BH22: =IF(SUM(Tiedot!#REF!)>0, Tiedot!#REF!, "") -> #REF! | BJ22: =BP22-12 -> 311 | BK22: =BJ22+2 -> 313 | BL22: =BK22+2 -> 315 | BM22: =BL22+2 -> 317 | BN22: =BM22+2 -> 319 | BO22: =BN22+2 -> 321 | BP22: =BQ22-4 -> 323 | BQ22: =BQ21+19 -> 327 | BS22: =IF(SUM(CC22:CI22)>0,CJ22,"") | BT22: Tiedot!V | BU22: =$BT22&BJ22 -> Tiedot!V311 | BV22: =$BT22&BK22 -> Tiedot!V313 | BW22: =$BT22&BL22 -> Tiedot!V315 | BX22: =$BT22&BM22 -> Tiedot!V317 | BY22: =$BT22&BN22 -> Tiedot!V319 | BZ22: =$BT22&BO22 -> Tiedot!V321 | CA22: =$BT22&BP22 -> Tiedot!V323 | CB22: =$BT22&BQ22 -> Tiedot!V327 | CC22: =INDIRECT(BU22) | CD22: =INDIRECT(BV22) | CE22: =INDIRECT(BW22) | CF22: =INDIRECT(BX22) | CG22: =INDIRECT(BY22) | CH22: =INDIRECT(BZ22) | CI22: =INDIRECT(CA22) | CJ22: =INDIRECT(CB22) | CK22: =CK20 -> 8 | CL22: CC | CM22: =INDIRECT(CL22&CK22) | CN22: Tiedot!AW | CO22: =$CN22&BJ22 -> Tiedot!AW311 | CP22: =$CN22&BK22 -> Tiedot!AW313 | CQ22: =$CN22&BL22 -> Tiedot!AW315 | CR22: =$CN22&BM22 -> Tiedot!AW317 | CS22: =$CN22&BN22 -> Tiedot!AW319 | CT22: =$CN22&BO22 -> Tiedot!AW321 | CU22: =$CN22&BP22 -> Tiedot!AW323 | CV22: =$CN22&BQ22 -> Tiedot!AW327 | CW22: =INDIRECT(CO22) -> 0 | CX22: =INDIRECT(CP22) -> 0 | CY22: =INDIRECT(CQ22) -> 0 | CZ22: =INDIRECT(CR22) -> 0 | DA22: =INDIRECT(CS22) -> 0 | DB22: =INDIRECT(CT22) -> 0 | DC22: =INDIRECT(CU22) -> 0 | DD22: =INDIRECT(CV22) -> 0 | DE22: =IF(SUM(CW22:DC22)<>0, DD22, "") | DG22: =INDIRECT(DK22) -> 0 | DI22: CW | DJ22: =DJ20 -> 8 | DK22: =DI22&DJ22 -> CW8 | DM22: =IF(DT22<>0, DT22, "") | DN22: =IF(DS22<>0, DS22, "") | DP22: Tiedot!AU | DQ22: =DP22&BQ22 -> Tiedot!AU327 | DR22: =DP22&(BQ22-1) -> Tiedot!AU326 | DS22: =INDIRECT(DR22) -> 0 | DT22: =INDIRECT(DQ22) -> 0 | DV22: =IF(EA22<>0, EA22, "") | DW22: =IF(ISERROR(EC22),"",EC22) -> 0 | DX22: Tiedot!AO | DY22: Tiedot!AN | DZ22: =DY22&BQ22 -> Tiedot!AN327 | EA22: =INDIRECT(DZ22) -> 0 | EB22: =DX22&BQ22 -> Tiedot!AO327 | EC22: =INDIRECT(EB22) -> 0 | ED22: Tiedot!AH | EE22: =ED22&BQ22 -> Tiedot!AH327 | EF22: =INDIRECT(EE22) -> 0 | EG22: =IF(EF22>0, EF22, "") | EH22: =IF(BH22>0,IF(ISERROR(INDIRECT(EJ22)),"",INDIRECT(EJ22)),"") -> #REF! | EI22: Tiedot!AM | EJ22: =EI22&BQ22 -> Tiedot!AM327 | EL22: =IFERROR(EH22^1.4*AL22/100, "") | EN22: =EN21+19 -> 325
