Workbook

Sheet Start
F1: Tampereen Pyrintö
F2: HPK 2017/TP/ME
F3: Alkuper/Jouni Kinni
F4: Muokkaus Heikki V/2010
F5: ME 29.10.2016
A9: Moron!
A10: Tämä on Tampereen Pyrinnön suunnistusjaoston harjoituspäiväkirja vuodelle | H10: 2017
A12: Ohjeet:
A14: 1) Kirjoita nimesi laatikkoon:
B15: N.N.
A17: 2) Jos haluat, voit muuttaa harjoitustyyppien nimiä:
A18: -
A19: 1 | B19: Peruskestävyys
A20: 2 | B20: Vauhtikestävyys
A21: 3 | B21: Maksimikestävyys | D21: Koulumatka:
A22: 4 | B22: Lihaskunto/aerobiset voimaharjoitteet
A23: 5 | B23: maksimisyke- ja anaerobiset voimaharjoitteet
A24: 6 | B24: Liikkuvuus- ja koordinaatio
A25: 7 | B25: Pelit
A27: Samoin voit muuttaa km-sarakkeiden otsikoita: | D27: Ju | E27: Hi | F27: Su | G27: Py
A29: 3) Harjoitusaikojen täyttäminen:
A31: - Klikkaa alareunasta taulukko "Tiedot" näkyviin
A32: - Kirjoita kunkin harjoitustyypin kestoaika minuutteina keltaisiin laatikoihin.
A33: - Täytä lisäksi leposyke, keskisyke, harjoituskilometrit sekä kommentit harjoituksesta.
A35: Harjoitusajat ja -kilometrit lisätään automaattisesti vuoden yhteenvetoon.
A36: Harjoitusmäärät esitetään myös graafisesti viikoittain sekä vuosiyhteenvetona.
A38: 4) Kilpailupäiväkirjan täyttäminen
A39: - Täytä kilpailupäiväkirja esimerkkirivin mukaan (ensimmäinen oma kisasi esimerkin tilalle)
A40: - Ajat muodossa minuutit:sekunnit
A43: Kommentteja ja parannusehdotuksia voi lähettää sähköpostilla: mikkoeskola@kolumbus.fi
A45: Tuloksekasta suunnistusvuotta 2016!
A46: terv Lammikko (kiitos Kinnin Jounille alkuperäisestä hpk:sta)
... A97: Start ja yhteenvetosivut:

Sheet Tiedot
A1: HARJOITUSPÄIVÄKIRJA | G1: 2016 | Q1: =CONCATENATE(Start!A19,Start!B19,Start!A18,Start!A20,Start!B20) -> 1 Peruskestävyys - 2 Vauhtikestävyys | R1: =Start!F1 -> Tampereen Pyrintö
A2: =Start!B15 -> N.N. | Q2: =CONCATENATE(Start!A21,Start!B21,Start!A18,Start!A22,Start!B22) -> 3 Maksimikestävyys - 4 Lihaskunto/aerobiset voimaharjoitteet | R2: =Start!F2 -> HPK 2017/TP/ME
Q3: =CONCATENATE(Start!A23,Start!B23,Start!A18,Start!A24,Start!B24,Start!A18,Start!A25,Start!B25) -> 5 maksimisyke- ja anaerobiset voimaharjoitteet - 6 Liikkuvuus- ja koordinaatio - 7Pelit | R3: =Start!F3 -> Alkuper/Jouni Kinni
A5: Vko | C5: 42 | L5: =Start!$D$27 -> Ju | M5: =Start!$E$27 -> Hi | N5: =Start!$F$27 -> Su | O5: Py | P5: Su | Q5: HUOM.
B6: 1 | C6: 2 | D6: 3 | E6: 4 | F6: 5 | G6: 6 | H6: 7 | I6: yht. | J6: LS | K6: KS | L6: km | M6: km | N6: km | O6: km | P6: min
A7: ma | I7: =SUM(B7:H7) -> 0 | V7: =IF(SUM(L7:O7)>0, (SUM(B7:D7,G7,F7)/SUM(L7:O7)/1440), "")
A8: 42660 | I8: =SUM(B8:H8) -> 0 | V8: =IF(SUM(L8:O8)>0, (SUM(B8:D8,G8,F8)/SUM(L8:O8)/1440), "")
A9: ti | I9: =SUM(B9:H9) -> 0 | V9: =IF(SUM(L9:O9)>0, (SUM(B9:D9,G9,F9)/SUM(L9:O9)/1440), "")
A10: =A8+1 -> 42661 | I10: =SUM(B10:H10) -> 0 | V10: =IF(SUM(L10:O10)>0, (SUM(B10:D10,G10,F10)/SUM(L10:O10)/1440), "")
A11: ke | I11: =SUM(B11:H11) -> 0
A12: =A10+1 -> 42662 | I12: =SUM(B12:H12) -> 0 | V12: =IF(SUM(L12:O12)>0, (SUM(B12:D12,G12,F12)/SUM(L12:O12)/1440), "")
A13: to | I13: =SUM(B13:H13) -> 0 | V13: =IF(SUM(L13:O13)>0, (SUM(B13:D13,G13,F13)/SUM(L13:O13)/1440), "")
A14: =A12+1 -> 42663 | I14: =SUM(B14:H14) -> 0 | V14: =IF(SUM(L14:O14)>0, (SUM(B14:D14,G14,F14)/SUM(L14:O14)/1440), "")
A15: pe | I15: =SUM(B15:H15) -> 0 | V15: =IF(SUM(L15:O15)>0, (SUM(B15:D15,G15,F15)/SUM(L15:O15)/1440), "")
A16: =A14+1 -> 42664 | I16: =SUM(B16:H16) -> 0 | V16: =IF(SUM(L16:O16)>0, (SUM(B16:D16,G16,F16)/SUM(L16:O16)/1440), "")
A17: la | I17: =SUM(B17:H17) -> 0 | V17: =IF(SUM(L17:O17)>0, (SUM(B17:D17,G17,F17)/SUM(L17:O17)/1440), "")
A18: =A16+1 -> 42665 | I18: =SUM(B18:H18) -> 0 | V18: =IF(SUM(L18:O18)>0, (SUM(B18:D18,G18,F18)/SUM(L18:O18)/1440), "")
A19: su | I19: =SUM(B19:H19) -> 0 | V19: =IF(SUM(L19:O19)>0, (SUM(B19:D19,G19,F19)/SUM(L19:O19)/1440), "")
A20: =A18+1 -> 42666 | I20: =SUM(B20:H20) -> 0 | V20: =IF(SUM(L20:O20)>0, (SUM(B20:D20,G20,F20)/SUM(L20:O20)/1440), "")
A21: yht. | B21: =SUM(B7:B20) -> 0 | C21: =SUM(C7:C20) -> 0 | D21: =SUM(D7:D20) -> 0 | E21: =SUM(E7:E20) -> 0 | F21: =SUM(F7:F20) -> 0 | G21: =SUM(G7:G20) -> 0 | H21: =SUM(H7:H20) -> 0 | I21: =SUM(I7:I20) -> 0 | J21: =IF(SUM(J7:J20)>0, AVERAGE(J7:J20), "") | K21: =IF(SUM(K7:K20)>0, AVERAGE(K7:K20), "") | L21: =SUM(L7:L20) -> 0 | M21: =SUM(M7:M20) -> 0 | N21: =SUM(N7:N20) -> 0 | O21: =SUM(O7:O20) -> 0 | P21: =SUM(P7:P20) -> 0
A22: krt | B22: =COUNT(B7:B20) -> 0 | C22: =COUNT(C7:C20) -> 0 | D22: =COUNT(D7:D20) -> 0 | E22: =COUNT(E7:E20) -> 0 | F22: =COUNT(F7:F20) -> 0 | G22: =COUNT(G7:G20) -> 0 | H22: =COUNT(H7:H20) -> 0 | I22: =SUM(B22:H22) -> 0
V23: =IF(SUM(V7:V20)>0, (AVERAGE(V7:V20)), "")
A24: Vko | C24: =C5+1 -> 43 | L24: =Start!$D$27 -> Ju | M24: =Start!$E$27 -> Hi | N24: =Start!$F$27 -> Su | O24: =Start!$G$27 -> Py | P24: Su | Q24: HUOM.
B25: 1 | C25: 2 | D25: 3 | E25: 4 | F25: 5 | G25: 6 | H25: 7 | I25: yht. | J25: LS | K25: KS | L25: km | M25: km | N25: km | O25: km | P25: min
A26: ma | I26: =SUM(B26:H26) -> 0 | V26: =IF(SUM(L26:O26)>0, (SUM(B26:D26,G26,F26)/SUM(L26:O26)/1440), "")
A27: =A20+1 -> 42667 | I27: =SUM(B27:H27) -> 0 | V27: =IF(SUM(L27:O27)>0, (SUM(B27:D27,G27,F27)/SUM(L27:O27)/1440), "")
A28: ti | I28: =SUM(B28:H28) -> 0 | V28: =IF(SUM(L28:O28)>0, (SUM(B28:D28,G28,F28)/SUM(L28:O28)/1440), "")
A29: =A27+1 -> 42668 | I29: =SUM(B29:H29) -> 0 | V29: =IF(SUM(L29:O29)>0, (SUM(B29:D29,G29,F29)/SUM(L29:O29)/1440), "")
A30: ke | I30: =SUM(B30:H30) -> 0 | V30: =IF(SUM(L30:O30)>0, (SUM(B30:D30,G30,F30)/SUM(L30:O30)/1440), "")
A31: =A29+1 -> 42669 | I31: =SUM(B31:H31) -> 0 | V31: =IF(SUM(L31:O31)>0, (SUM(B31:D31,G31,F31)/SUM(L31:O31)/1440), "")
A32: to | I32: =SUM(B32:H32) -> 0 | V32: =IF(SUM(L32:O32)>0, (SUM(B32:D32,G32,F32)/SUM(L32:O32)/1440), "")
A33: =A31+1 -> 42670 | I33: =SUM(B33:H33) -> 0 | V33: =IF(SUM(L33:O33)>0, (SUM(B33:D33,G33,F33)/SUM(L33:O33)/1440), "")
A34: pe | I34: =SUM(B34:H34) -> 0 | V34: =IF(SUM(L34:O34)>0, (SUM(B34:D34,G34,F34)/SUM(L34:O34)/1440), "")
A35: =A33+1 -> 42671 | I35: =SUM(B35:H35) -> 0 | V35: =IF(SUM(L35:O35)>0, (SUM(B35:D35,G35,F35)/SUM(L35:O35)/1440), "")
A36: la | I36: =SUM(B36:H36) -> 0 | V36: =IF(SUM(L36:O36)>0, (SUM(B36:D36,G36,F36)/SUM(L36:O36)/1440), "")
A37: =A35+1 -> 42672 | I37: =SUM(B37:H37) -> 0 | V37: =IF(SUM(L37:O37)>0, (SUM(B37:D37,G37,F37)/SUM(L37:O37)/1440), "")
A38: su | I38: =SUM(B38:H38) -> 0 | V38: =IF(SUM(L38:O38)>0, (SUM(B38:D38,G38,F38)/SUM(L38:O38)/1440), "")
A39: =A37+1 -> 42673 | I39: =SUM(B39:H39) -> 0 | V39: =IF(SUM(L39:O39)>0, (SUM(B39:D39,G39,F39)/SUM(L39:O39)/1440), "")
A40: yht. | B40: =SUM(B26:B39) -> 0 | C40: =SUM(C26:C39) -> 0 | D40: =SUM(D26:D39) -> 0 | E40: =SUM(E26:E39) -> 0 | F40: =SUM(F26:F39) -> 0 | G40: =SUM(G26:G39) -> 0 | H40: =SUM(H26:H39) -> 0 | I40: =SUM(I26:I39) -> 0 | J40: =IF(SUM(J26:J39)>0, AVERAGE(J26:J39), "") | K40: =IF(SUM(K26:K39)>0, AVERAGE(K26:K39), "") | L40: =SUM(L26:L39) -> 0 | M40: =SUM(M26:M39) -> 0 | N40: =SUM(N26:N39) -> 0 | O40: =SUM(O26:O39) -> 0 | P40: =SUM(P26:P39) -> 0
A41: krt | B41: =COUNT(B26:B39) -> 0 | C41: =COUNT(C26:C39) -> 0 | D41: =COUNT(D26:D39) -> 0 | E41: =COUNT(E26:E39) -> 0 | F41: =COUNT(F26:F39) -> 0 | G41: =COUNT(G26:G39) -> 0 | H41: =COUNT(H26:H39) -> 0 | I41: =SUM(B41:H41) -> 0
V42: =IF(SUM(V26:V39)>0, (AVERAGE(V26:V39)), "")
A43: Vko | C43: =C24+1 -> 44 | L43: =Start!$D$27 -> Ju | M43: =Start!$E$27 -> Hi | N43: =Start!$F$27 -> Su | O43: =Start!$G$27 -> Py | P43: Su | Q43: HUOM.
B44: 1 | C44: 2 | D44: 3 | E44: 4 | F44: 5 | G44: 6 | H44: 7 | I44: yht. | J44: LS | K44: KS | L44: km | M44: km | N44: km | O44: km | P44: min
A45: ma | I45: =SUM(B45:H45) -> 0 | V45: =IF(SUM(L45:O45)>0, (SUM(B45:D45,G45,F45)/SUM(L45:O45)/1440), "")
A46: =A39+1 -> 42674 | I46: =SUM(B46:H46) -> 0 | V46: =IF(SUM(L46:O46)>0, (SUM(B46:D46,G46,F46)/SUM(L46:O46)/1440), "")
A47: ti | I47: =SUM(B47:H47) -> 0 | V47: =IF(SUM(L47:O47)>0, (SUM(B47:D47,G47,F47)/SUM(L47:O47)/1440), "")
A48: =A46+1 -> 42675 | I48: =SUM(B48:H48) -> 0 | V48: =IF(SUM(L48:O48)>0, (SUM(B48:D48,G48,F48)/SUM(L48:O48)/1440), "")
A49: ke | I49: =SUM(B49:H49) -> 0 | V49: =IF(SUM(L49:O49)>0, (SUM(B49:D49,G49,F49)/SUM(L49:O49)/1440), "")
A50: =A48+1 -> 42676 | I50: =SUM(B50:H50) -> 0 | V50: =IF(SUM(L50:O50)>0, (SUM(B50:D50,G50,F50)/SUM(L50:O50)/1440), "")
A51: to | I51: =SUM(B51:H51) -> 0 | V51: =IF(SUM(L51:O51)>0, (SUM(B51:D51,G51,F51)/SUM(L51:O51)/1440), "")
A52: =A50+1 -> 42677 | I52: =SUM(B52:H52) -> 0 | V52: =IF(SUM(L52:O52)>0, (SUM(B52:D52,G52,F52)/SUM(L52:O52)/1440), "")
A53: pe | I53: =SUM(B53:H53) -> 0 | V53: =IF(SUM(L53:O53)>0, (SUM(B53:D53,G53,F53)/SUM(L53:O53)/1440), "")
A54: =A52+1 -> 42678 | I54: =SUM(B54:H54) -> 0 | V54: =IF(SUM(L54:O54)>0, (SUM(B54:D54,G54,F54)/SUM(L54:O54)/1440), "")
A55: la | I55: =SUM(B55:H55) -> 0 | V55: =IF(SUM(L55:O55)>0, (SUM(B55:D55,G55,F55)/SUM(L55:O55)/1440), "")
A56: =A54+1 -> 42679 | I56: =SUM(B56:H56) -> 0 | V56: =IF(SUM(L56:O56)>0, (SUM(B56:D56,G56,F56)/SUM(L56:O56)/1440), "")
A57: su | I57: =SUM(B57:H57) -> 0 | V57: =IF(SUM(L57:O57)>0, (SUM(B57:D57,G57,F57)/SUM(L57:O57)/1440), "")
A58: =A56+1 -> 42680 | I58: =SUM(B58:H58) -> 0 | V58: =IF(SUM(L58:O58)>0, (SUM(B58:D58,G58,F58)/SUM(L58:O58)/1440), "")
A59: yht. | B59: =SUM(B45:B58) -> 0 | C59: =SUM(C45:C58) -> 0 | D59: =SUM(D45:D58) -> 0 | E59: =SUM(E45:E58) -> 0 | F59: =SUM(F45:F58) -> 0 | G59: =SUM(G45:G58) -> 0 | H59: =SUM(H45:H58) -> 0 | I59: =SUM(I45:I58) -> 0 | J59: =IF(SUM(J45:J58)>0, AVERAGE(J45:J58), "") | K59: =IF(SUM(K45:K58)>0, AVERAGE(K45:K58), "") | L59: =SUM(L45:L58) -> 0 | M59: =SUM(M45:M58) -> 0 | N59: =SUM(N45:N58) -> 0 | O59: =SUM(O45:O58) -> 0 | P59: =SUM(P45:P58) -> 0
A60: krt | B60: =COUNT(B45:B58) -> 0 | C60: =COUNT(C45:C58) -> 0 | D60: =COUNT(D45:D58) -> 0 | E60: =COUNT(E45:E58) -> 0 | F60: =COUNT(F45:F58) -> 0 | G60: =COUNT(G45:G58) -> 0 | H60: =COUNT(H45:H58) -> 0 | I60: =SUM(B60:H60) -> 0
V61: =IF(SUM(V45:V58)>0, (AVERAGE(V45:V58)), "")
A62: Vko | C62: =C43+1 -> 45 | L62: =Start!$D$27 -> Ju | M62: =Start!$E$27 -> Hi | N62: =Start!$F$27 -> Su | O62: =Start!$G$27 -> Py | P62: Su | Q62: HUOM.
B63: 1 | C63: 2 | D63: 3 | E63: 4 | F63: 5 | G63: 6 | H63: 7 | I63: yht. | J63: LS | K63: KS | L63: km | M63: km | N63: km | O63: km | P63: min
A64: ma | I64: =SUM(B64:H64) -> 0 | V64: =IF(SUM(L64:O64)>0, (SUM(B64:D64,G64,F64)/SUM(L64:O64)/1440), "")
A65: =A58+1 -> 42681 | I65: =SUM(B65:H65) -> 0 | V65: =IF(SUM(L65:O65)>0, (SUM(B65:D65,G65,F65)/SUM(L65:O65)/1440), "")
A66: ti | I66: =SUM(B66:H66) -> 0 | V66: =IF(SUM(L66:O66)>0, (SUM(B66:D66,G66,F66)/SUM(L66:O66)/1440), "")
A67: =A65+1 -> 42682 | I67: =SUM(B67:H67) -> 0 | V67: =IF(SUM(L67:O67)>0, (SUM(B67:D67,G67,F67)/SUM(L67:O67)/1440), "")
A68: ke | I68: =SUM(B68:H68) -> 0 | V68: =IF(SUM(L68:O68)>0, (SUM(B68:D68,G68,F68)/SUM(L68:O68)/1440), "")
A69: =A67+1 -> 42683 | I69: =SUM(B69:H69) -> 0 | V69: =IF(SUM(L69:O69)>0, (SUM(B69:D69,G69,F69)/SUM(L69:O69)/1440), "")
A70: to | I70: =SUM(B70:H70) -> 0 | V70: =IF(SUM(L70:O70)>0, (SUM(B70:D70,G70,F70)/SUM(L70:O70)/1440), "")
A71: =A69+1 -> 42684 | I71: =SUM(B71:H71) -> 0 | V71: =IF(SUM(L71:O71)>0, (SUM(B71:D71,G71,F71)/SUM(L71:O71)/1440), "")
A72: pe | I72: =SUM(B72:H72) -> 0 | V72: =IF(SUM(L72:O72)>0, (SUM(B72:D72,G72,F72)/SUM(L72:O72)/1440), "")
A73: =A71+1 -> 42685 | I73: =SUM(B73:H73) -> 0 | V73: =IF(SUM(L73:O73)>0, (SUM(B73:D73,G73,F73)/SUM(L73:O73)/1440), "")
A74: la | I74: =SUM(B74:H74) -> 0 | V74: =IF(SUM(L74:O74)>0, (SUM(B74:D74,G74,F74)/SUM(L74:O74)/1440), "")
A75: =A73+1 -> 42686 | I75: =SUM(B75:H75) -> 0 | V75: =IF(SUM(L75:O75)>0, (SUM(B75:D75,G75,F75)/SUM(L75:O75)/1440), "")
A76: su | I76: =SUM(B76:H76) -> 0 | V76: =IF(SUM(L76:O76)>0, (SUM(B76:D76,G76,F76)/SUM(L76:O76)/1440), "")
A77: =A75+1 -> 42687 | I77: =SUM(B77:H77) -> 0 | V77: =IF(SUM(L77:O77)>0, (SUM(B77:D77,G77,F77)/SUM(L77:O77)/1440), "")
A78: yht. | B78: =SUM(B64:B77) -> 0 | C78: =SUM(C64:C77) -> 0 | D78: =SUM(D64:D77) -> 0 | E78: =SUM(E64:E77) -> 0 | F78: =SUM(F64:F77) -> 0 | G78: =SUM(G64:G77) -> 0 | H78: =SUM(H64:H77) -> 0 | I78: =SUM(I64:I77) -> 0 | J78: =IF(SUM(J64:J77)>0, AVERAGE(J64:J77), "") | K78: =IF(SUM(K64:K77)>0, AVERAGE(K64:K77), "") | L78: =SUM(L64:L77) -> 0 | M78: =SUM(M64:M77) -> 0 | N78: =SUM(N64:N77) -> 0 | O78: =SUM(O64:O77) -> 0 | P78: =SUM(P64:P77) -> 0
A79: krt | B79: =COUNT(B64:B77) -> 0 | C79: =COUNT(C64:C77) -> 0 | D79: =COUNT(D64:D77) -> 0 | E79: =COUNT(E64:E77) -> 0 | F79: =COUNT(F64:F77) -> 0 | G79: =COUNT(G64:G77) -> 0 | H79: =COUNT(H64:H77) -> 0 | I79: =SUM(B79:H79) -> 0
V80: =IF(SUM(V64:V77)>0, (AVERAGE(V64:V77)), "")
A81: Vko | C81: =C62+1 -> 46 | L81: =Start!$D$27 -> Ju | M81: =Start!$E$27 -> Hi | N81: =Start!$F$27 -> Su | O81: =Start!$G$27 -> Py | P81: Su | Q81: HUOM.
B82: 1 | C82: 2 | D82: 3 | E82: 4 | F82: 5 | G82: 6 | H82: 7 | I82: yht. | J82: LS | K82: KS | L82: km | M82: km | N82: km | O82: km | P82: min
A83: ma | I83: =SUM(B83:H83) -> 0 | V83: =IF(SUM(L83:O83)>0, (SUM(B83:D83,G83,F83)/SUM(L83:O83)/1440), "")
A84: =A77+1 -> 42688 | I84: =SUM(B84:H84) -> 0 | V84: =IF(SUM(L84:O84)>0, (SUM(B84:D84,G84,F84)/SUM(L84:O84)/1440), "")
A85: ti | I85: =SUM(B85:H85) -> 0 | V85: =IF(SUM(L85:O85)>0, (SUM(B85:D85,G85,F85)/SUM(L85:O85)/1440), "")
A86: =A84+1 -> 42689 | I86: =SUM(B86:H86) -> 0 | V86: =IF(SUM(L86:O86)>0, (SUM(B86:D86,G86,F86)/SUM(L86:O86)/1440), "")
A87: ke | I87: =SUM(B87:H87) -> 0 | V87: =IF(SUM(L87:O87)>0, (SUM(B87:D87,G87,F87)/SUM(L87:O87)/1440), "")
A88: =A86+1 -> 42690 | I88: =SUM(B88:H88) -> 0 | V88: =IF(SUM(L88:O88)>0, (SUM(B88:D88,G88,F88)/SUM(L88:O88)/1440), "")
A89: to | I89: =SUM(B89:H89) -> 0 | V89: =IF(SUM(L89:O89)>0, (SUM(B89:D89,G89,F89)/SUM(L89:O89)/1440), "")
A90: =A88+1 -> 42691 | I90: =SUM(B90:H90) -> 0 | V90: =IF(SUM(L90:O90)>0, (SUM(B90:D90,G90,F90)/SUM(L90:O90)/1440), "")
A91: pe | I91: =SUM(B91:H91) -> 0 | V91: =IF(SUM(L91:O91)>0, (SUM(B91:D91,G91,F91)/SUM(L91:O91)/1440), "")
A92: =A90+1 -> 42692 | I92: =SUM(B92:H92) -> 0 | V92: =IF(SUM(L92:O92)>0, (SUM(B92:D92,G92,F92)/SUM(L92:O92)/1440), "")
A93: la | I93: =SUM(B93:H93) -> 0 | V93: =IF(SUM(L93:O93)>0, (SUM(B93:D93,G93,F93)/SUM(L93:O93)/1440), "")
A94: =A92+1 -> 42693 | I94: =SUM(B94:H94) -> 0 | V94: =IF(SUM(L94:O94)>0, (SUM(B94:D94,G94,F94)/SUM(L94:O94)/1440), "")
A95: su | I95: =SUM(B95:H95) -> 0 | V95: =IF(SUM(L95:O95)>0, (SUM(B95:D95,G95,F95)/SUM(L95:O95)/1440), "")
A96: =A94+1 -> 42694 | I96: =SUM(B96:H96) -> 0 | V96: =IF(SUM(L96:O96)>0, (SUM(B96:D96,G96,F96)/SUM(L96:O96)/1440), "")
A97: yht. | B97: =SUM(B83:B96) -> 0 | C97: =SUM(C83:C96) -> 0 | D97: =SUM(D83:D96) -> 0 | E97: =SUM(E83:E96) -> 0 | F97: =SUM(F83:F96) -> 0 | G97: =SUM(G83:G96) -> 0 | H97: =SUM(H83:H96) -> 0 | I97: =SUM(I83:I96) -> 0 | J97: =IF(SUM(J83:J96)>0, AVERAGE(J83:J96), "") | K97: =IF(SUM(K83:K96)>0, AVERAGE(K83:K96), "") | L97: =SUM(L83:L96) -> 0 | M97: =SUM(M83:M96) -> 0 | N97: =SUM(N83:N96) -> 0 | O97: =SUM(O83:O96) -> 0 | P97: =SUM(P83:P96) -> 0
A98: krt | B98: =COUNT(B83:B96) -> 0 | C98: =COUNT(C83:C96) -> 0 | D98: =COUNT(D83:D96) -> 0 | E98: =COUNT(E83:E96) -> 0 | F98: =COUNT(F83:F96) -> 0 | G98: =COUNT(G83:G96) -> 0 | H98: =COUNT(H83:H96) -> 0 | I98: =SUM(B98:H98) -> 0
V99: =IF(SUM(V83:V96)>0, (AVERAGE(V83:V96)), "")
A100: Vko | C100: =C81+1 -> 47 | L100: =Start!$D$27 -> Ju | M100: =Start!$E$27 -> Hi | N100: =Start!$F$27 -> Su | O100: =Start!$G$27 -> Py | P100: Su | Q100: HUOM.
B101: 1 | C101: 2 | D101: 3 | E101: 4 | F101: 5 | G101: 6 | H101: 7 | I101: yht. | J101: LS | K101: KS | L101: km | M101: km | N101: km | O101: km | P101: min
...

Sheet Yhteenveto
A1: HARJOITUSPÄIVÄKIRJA | G1: =Tiedot!G1 -> 2016 | N1: =Start!F1 -> Tampereen Pyrintö
A2: =Start!B15 -> N.N. | N2: =Start!F2 -> HPK 2017/TP/ME | AC2: Viikko:
A3: Yhteenveto | N3: =Start!F3 -> Alkuper/Jouni Kinni | AD3: Laskenta:
AD4: Harjoitusajat | AW4: kerrat | DM4: Koulupyöräily | DV4: Askeleet
A5: vko | B5: h | C5: min | D5: =Start!D27 -> Ju | E5: =Start!E27 -> Hi | F5: =Start!F27 -> Su | G5: Krt | AD5: no | AE5: 1 | AF5: 2 | AG5: 3 | AH5: 4 | AI5: 5 | AJ5: 6 | AK5: 7 | AL5: yht | AM5: LS | AN5: KS | AO5: =Start!D27 -> Ju | AP5: =Start!E27 -> Hi | AQ5: =Start!F27 -> Su | AR5: Py | AS5: Yht, km | AT5: Km, kum. | AU5: h | AV5: min | AW5: 1 | AX5: 2 | AY5: 3 | AZ5: 4 | BA5: 5 | BB5: 6 | BC5: 7 | BD5: kerrat yht. | BF5: Suunnistus | BH5: Rasitus | BS5: Uni | DE5: Lämpötila | DG5: Lämpötilat | DM5: km | DN5: aika | DV5: yht | DW5: average | EG5: Kerrat | EH5: Painotettu rasitus | EL5: Kok. rasitus
A6: 43 | B6: =AU6 -> 0 | C6: =AV6 -> 0 | D6: =AO6 -> 0 | E6: =AP6 -> 0 | F6: =AQ6 -> 0 | G6: =EG6 | R6: =D6+E6+F6 -> 0 | AC6: =A6 -> 43 | AD6: 1 | AE6: =Tiedot!B21 -> 0 | AF6: =Tiedot!C21 -> 0 | AG6: =Tiedot!D21 -> 0 | AH6: =Tiedot!E21 -> 0 | AI6: =Tiedot!F21 -> 0 | AJ6: =Tiedot!G21 -> 0 | AK6: =Tiedot!H21 -> 0 | AL6: =Tiedot!I21 -> 0 | AM6: =IF(SUM(Tiedot!J7:J20)>0, Tiedot!J21, "") | AN6: =Tiedot!K21 | AO6: =Tiedot!L21 -> 0 | AP6: =Tiedot!M21 -> 0 | AQ6: =Tiedot!N21 -> 0 | AR6: =INDIRECT("Tiedot!N" & EN6)+INDIRECT("Tiedot!AU" & (EN6+2)) -> 0 | AS6: =SUM(AO6:AR6) -> 0 | AT6: =AS6 -> 0 | AU6: =INT(AL6/60) -> 0 | AV6: =AL6-AU6*60 -> 0 | AW6: =Tiedot!B22 -> 0 | AX6: =Tiedot!C22 -> 0 | AY6: =Tiedot!D22 -> 0 | AZ6: =Tiedot!E22 -> 0 | BA6: =Tiedot!F22 -> 0 | BB6: =Tiedot!G22 -> 0 | BC6: =Tiedot!H22 -> 0 | BD6: =Tiedot!I22 -> 0 | BF6: =Tiedot!P21 -> 0 | BH6: =IF(SUM(Tiedot!#REF!)>0, Tiedot!#REF!, "") -> #REF! | BJ6: =BP6-12 -> 7 | BK6: =BJ6+2 -> 9 | BL6: =BK6+2 -> 11 | BM6: =BL6+2 -> 13 | BN6: =BM6+2 -> 15 | BO6: =BN6+2 -> 17 | BP6: 19 | BQ6: 23 | BS6: =IF(SUM(CC6:CI6)>0,CJ6,"") | BT6: Tiedot!V | BU6: =$BT6&BJ6 -> Tiedot!V7 | BV6: =$BT6&BK6 -> Tiedot!V9 | BW6: =$BT6&BL6 -> Tiedot!V11 | BX6: =$BT6&BM6 -> Tiedot!V13 | BY6: =$BT6&BN6 -> Tiedot!V15 | BZ6: =$BT6&BO6 -> Tiedot!V17 | CA6: =$BT6&BP6 -> Tiedot!V19 | CB6: =$BT6&BQ6 -> Tiedot!V23 | CC6: =INDIRECT(BU6) | CD6: =INDIRECT(BV6) | CE6: =INDIRECT(BW6) -> 0 | CF6: =INDIRECT(BX6) | CG6: =INDIRECT(BY6) | CH6: =INDIRECT(BZ6) | CI6: =INDIRECT(CA6) | CJ6: =INDIRECT(CB6) | CK6: 6 | CL6: CA | CM6: =INDIRECT(CL6&CK6) -> Tiedot!V19 | CN6: Tiedot!AW | CO6: =$CN6&BJ6 -> Tiedot!AW7 | CP6: =$CN6&BK6 -> Tiedot!AW9 | CQ6: =$CN6&BL6 -> Tiedot!AW11 | CR6: =$CN6&BM6 -> Tiedot!AW13 | CS6: =$CN6&BN6 -> Tiedot!AW15 | CT6: =$CN6&BO6 -> Tiedot!AW17 | CU6: =$CN6&BP6 -> Tiedot!AW19 | CV6: =$CN6&BQ6 -> Tiedot!AW23 | CW6: =INDIRECT(CO6) -> 0 | CX6: =INDIRECT(CP6) -> 0 | CY6: =INDIRECT(CQ6) -> 0 | CZ6: =INDIRECT(CR6) -> 0 | DA6: =INDIRECT(CS6) -> 0 | DB6: =INDIRECT(CT6) -> 0 | DC6: =INDIRECT(CU6) -> 0 | DD6: =INDIRECT(CV6) -> 0 | DE6: =IF(SUM(CW6:DC6)<>0, DD6, "") | DF6: Loka | DG6: =INDIRECT(DK6) -> Tiedot!AW19 | DI6: CU | DJ6: 6 | DK6: =DI6&DJ6 -> CU6 | DM6: =IF(DT6<>0, DT6, "") | DN6: =IF(DS6<>0, DS6, "") | DP6: Tiedot!AU | DQ6: =DP6&BQ6 -> Tiedot!AU23 | DR6: =DP6&(BQ6-1) -> Tiedot!AU22 | DS6: =INDIRECT(DR6) -> 0 | DT6: =INDIRECT(DQ6) -> 0 | DV6: =IF(EA6<>0, EA6, "") | DW6: =IF(ISERROR(EC6),"",EC6) -> 0 | DX6: Tiedot!AO | DY6: Tiedot!AN | DZ6: =DY6&BQ6 -> Tiedot!AN23 | EA6: =INDIRECT(DZ6) -> 0 | EB6: =DX6&BQ6 -> Tiedot!AO23 | EC6: =INDIRECT(EB6) -> 0 | ED6: Tiedot!AH | EE6: =ED6&BQ6 -> Tiedot!AH23 | EF6: =INDIRECT(EE6) -> 0 | EG6: =IF(EF6>0, EF6, "") | EH6: =IF(BH6>0,IF(ISERROR(INDIRECT(EJ6)),"",INDIRECT(EJ6)),"") -> #REF! | EI6: Tiedot!AM | EJ6: =EI6&BQ6 -> Tiedot!AM23 | EL6: =IFERROR(EH6^1.4*AL6/100, "") | EN6: 21
A7: =A6+1 -> 44 | B7: =AU7 -> 0 | C7: =AV7 -> 0 | D7: =AO7 -> 0 | E7: =AP7 -> 0 | F7: =AQ7 -> 0 | G7: =EG7 | R7: =D7+E7+F7 -> 0 | AC7: =A7 -> 44 | AD7: 2 | AE7: =Tiedot!B40 -> 0 | AF7: =Tiedot!C40 -> 0 | AG7: =Tiedot!D40 -> 0 | AH7: =Tiedot!E40 -> 0 | AI7: =Tiedot!F40 -> 0 | AJ7: =Tiedot!G40 -> 0 | AK7: =Tiedot!H40 -> 0 | AL7: =Tiedot!I40 -> 0 | AM7: =IF(SUM(Tiedot!J26:J39)>0, Tiedot!J40, "") | AN7: =Tiedot!K40 | AO7: =Tiedot!L40 -> 0 | AP7: =Tiedot!M40 -> 0 | AQ7: =Tiedot!N40 -> 0 | AR7: =INDIRECT("Tiedot!N" & EN7)+INDIRECT("Tiedot!AU" & (EN7+2)) -> 0 | AS7: =SUM(AO7:AR7) -> 0 | AT7: =AT6+AS7 -> 0 | AU7: =INT(AL7/60) -> 0 | AV7: =AL7-AU7*60 -> 0 | AW7: =Tiedot!B41 -> 0 | AX7: =Tiedot!C41 -> 0 | AY7: =Tiedot!D41 -> 0 | AZ7: =Tiedot!E41 -> 0 | BA7: =Tiedot!F41 -> 0 | BB7: =Tiedot!G41 -> 0 | BC7: =Tiedot!H41 -> 0 | BD7: =Tiedot!I41 -> 0 | BF7: =Tiedot!P40 -> 0 | BH7: =IF(SUM(Tiedot!#REF!)>0, Tiedot!#REF!, "") -> #REF! | BJ7: =BP7-12 -> 26 | BK7: =BJ7+2 -> 28 | BL7: =BK7+2 -> 30 | BM7: =BL7+2 -> 32 | BN7: =BM7+2 -> 34 | BO7: =BN7+2 -> 36 | BP7: =BQ7-4 -> 38 | BQ7: =BQ6+19 -> 42 | BS7: =IF(SUM(CC7:CI7)>0,CJ7,"") | BT7: Tiedot!V | BU7: =$BT7&BJ7 -> Tiedot!V26 | BV7: =$BT7&BK7 -> Tiedot!V28 | BW7: =$BT7&BL7 -> Tiedot!V30 | BX7: =$BT7&BM7 -> Tiedot!V32 | BY7: =$BT7&BN7 -> Tiedot!V34 | BZ7: =$BT7&BO7 -> Tiedot!V36 | CA7: =$BT7&BP7 -> Tiedot!V38 | CB7: =$BT7&BQ7 -> Tiedot!V42 | CC7: =INDIRECT(BU7) | CD7: =INDIRECT(BV7) | CE7: =INDIRECT(BW7) | CF7: =INDIRECT(BX7) | CG7: =INDIRECT(BY7) | CH7: =INDIRECT(BZ7) | CI7: =INDIRECT(CA7) | CJ7: =INDIRECT(CB7) | CK7: =CK6 -> 6 | CL7: CB | CM7: =INDIRECT(CL7&CK7) -> Tiedot!V23 | CN7: Tiedot!AW | CO7: =$CN7&BJ7 -> Tiedot!AW26 | CP7: =$CN7&BK7 -> Tiedot!AW28 | CQ7: =$CN7&BL7 -> Tiedot!AW30 | CR7: =$CN7&BM7 -> Tiedot!AW32 | CS7: =$CN7&BN7 -> Tiedot!AW34 | CT7: =$CN7&BO7 -> Tiedot!AW36 | CU7: =$CN7&BP7 -> Tiedot!AW38 | CV7: =$CN7&BQ7 -> Tiedot!AW42 | CW7: =INDIRECT(CO7) -> 0 | CX7: =INDIRECT(CP7) -> 0 | CY7: =INDIRECT(CQ7) -> 0 | CZ7: =INDIRECT(CR7) -> 0 | DA7: =INDIRECT(CS7) -> 0 | DB7: =INDIRECT(CT7) -> 0 | DC7: =INDIRECT(CU7) -> 0 | DD7: =INDIRECT(CV7) -> 0 | DE7: =IF(SUM(CW7:DC7)<>0, DD7, "") | DG7: =INDIRECT(DK7) -> Tiedot!AW23 | DI7: CV | DJ7: =DJ6 -> 6 | DK7: =DI7&DJ7 -> CV6 | DM7: =IF(DT7<>0, DT7, "") | DN7: =IF(DS7<>0, DS7, "") | DP7: Tiedot!AU | DQ7: =DP7&BQ7 -> Tiedot!AU42 | DR7: =DP7&(BQ7-1) -> Tiedot!AU41 | DS7: =INDIRECT(DR7) -> 0 | DT7: =INDIRECT(DQ7) -> 0 | DV7: =IF(EA7<>0, EA7, "") | DW7: =IF(ISERROR(EC7),"",EC7) -> 0 | DX7: Tiedot!AO | DY7: Tiedot!AN | DZ7: =DY7&BQ7 -> Tiedot!AN42 | EA7: =INDIRECT(DZ7) -> 0 | EB7: =DX7&BQ7 -> Tiedot!AO42 | EC7: =INDIRECT(EB7) -> 0 | ED7: Tiedot!AH | EE7: =ED7&BQ7 -> Tiedot!AH42 | EF7: =INDIRECT(EE7) -> 0 | EG7: =IF(EF7>0, EF7, "") | EH7: =IF(BH7>0,IF(ISERROR(INDIRECT(EJ7)),"",INDIRECT(EJ7)),"") -> #REF! | EI7: Tiedot!AM | EJ7: =EI7&BQ7 -> Tiedot!AM42 | EL7: =IFERROR(EH7^1.4*AL7/100, "") | EN7: =EN6+19 -> 40
A8: =A7+1 -> 45 | B8: =AU8 -> 0 | C8: =AV8 -> 0 | D8: =AO8 -> 0 | E8: =AP8 -> 0 | F8: =AQ8 -> 0 | G8: =EG8 | R8: =D8+E8+F8 -> 0 | AC8: =A8 -> 45 | AD8: 3 | AE8: =Tiedot!B59 -> 0 | AF8: =Tiedot!C59 -> 0 | AG8: =Tiedot!D59 -> 0 | AH8: =Tiedot!E59 -> 0 | AI8: =Tiedot!F59 -> 0 | AJ8: =Tiedot!G59 -> 0 | AK8: =Tiedot!H59 -> 0 | AL8: =Tiedot!I59 -> 0 | ... AQ8: =Tiedot!N59 -> 0 | AR8: =INDIRECT("Tiedot!N" & EN8)+INDIRECT("Tiedot!AU" & (EN8+2)) -> 0 | AS8: =SUM(AO8:AR8) -> 0 | AT8: =AT7+AS8 -> 0 | AU8: =INT(AL8/60) -> 0 | AV8: =AL8-AU8*60 -> 0 | AW8: =Tiedot!B60 -> 0 | AX8: =Tiedot!C60 -> 0 | AY8: =Tiedot!D60 -> 0 | AZ8: =Tiedot!E60 -> 0 | BA8: =Tiedot!F60 -> 0 | BB8: =Tiedot!G60 -> 0 | BC8: =Tiedot!H60 -> 0 | BD8: =Tiedot!I60 -> 0 | BF8: =Tiedot!P59 -> 0 | BH8: =IF(SUM(Tiedot!#REF!)>0, Tiedot!#REF!, "") -> #REF! | BJ8: =BP8-12 -> 45 | BK8: =BJ8+2 -> 47 | BL8: =BK8+2 -> 49 | BM8: =BL8+2 -> 51 | BN8: =BM8+2 -> 53 | BO8: =BN8+2 -> 55 | BP8: =BQ8-4 -> 57 | BQ8: =BQ7+19 -> 61 | BS8: =IF(SUM(CC8:CI8)>0,CJ8,"") | BT8: Tiedot!V | BU8: =$BT8&BJ8 -> Tiedot!V45 | BV8: =$BT8&BK8 -> Tiedot!V47 | BW8: =$BT8&BL8 -> Tiedot!V49 | BX8: =$BT8&BM8 -> Tiedot!V51 | BY8: =$BT8&BN8 -> Tiedot!V53 | BZ8: =$BT8&BO8 -> Tiedot!V55 | CA8: =$BT8&BP8 -> Tiedot!V57 | CB8: =$BT8&BQ8 -> Tiedot!V61 | CC8: =INDIRECT(BU8) | CD8: =INDIRECT(BV8) | CE8: =INDIRECT(BW8) | CF8: =INDIRECT(BX8) | CG8: =INDIRECT(BY8) | CH8: =INDIRECT(BZ8) | CI8: =INDIRECT(CA8) | CJ8: =INDIRECT(CB8) | CK8: =CK6 -> 6 | CL8: CC | CM8: =INDIRECT(CL8&CK8) | CN8: Tiedot!AW | CO8: =$CN8&BJ8 -> Tiedot!AW45 | CP8: =$CN8&BK8 -> Tiedot!AW47 | CQ8: =$CN8&BL8 -> Tiedot!AW49 | CR8: =$CN8&BM8 -> Tiedot!AW51 | CS8: =$CN8&BN8 -> Tiedot!AW53 | CT8: =$CN8&BO8 -> Tiedot!AW55 | CU8: =$CN8&BP8 -> Tiedot!AW57 | CV8: =$CN8&BQ8 -> Tiedot!AW61 | CW8: =INDIRECT(CO8) -> 0 | CX8: =INDIRECT(CP8) -> 0 | CY8: =INDIRECT(CQ8) -> 0 | CZ8: =INDIRECT(CR8) -> 0 | DA8: =INDIRECT(CS8) -> 0 | DB8: =INDIRECT(CT8) -> 0 | DC8: =INDIRECT(CU8) -> 0 | DD8: =INDIRECT(CV8) -> 0 | DE8: =IF(SUM(CW8:DC8)<>0, DD8, "") | DG8: =INDIRECT(DK8) -> 0 | DI8: CW | DJ8: =DJ6 -> 6 | DK8: =DI8&DJ8 -> CW6 | DM8: =IF(DT8<>0, DT8, "") | DN8: =IF(DS8<>0, DS8, "") | DP8: Tiedot!AU | DQ8: =DP8&BQ8 -> Tiedot!AU61 | DR8: =DP8&(BQ8-1) -> Tiedot!AU60 | DS8: =INDIRECT(DR8) -> 0 | DT8: =INDIRECT(DQ8) -> 0 | DV8: =IF(EA8<>0, EA8, "") | DW8: =IF(ISERROR(EC8),"",EC8) -> 0 | DX8: Tiedot!AO | DY8: Tiedot!AN | DZ8: =DY8&BQ8 -> Tiedot!AN61 | EA8: =INDIRECT(DZ8) -> 0 | EB8: =DX8&BQ8 -> Tiedot!AO61 | EC8: =INDIRECT(EB8) -> 0 | ED8: Tiedot!AH | EE8: =ED8&BQ8 -> Tiedot!AH61 | EF8: =INDIRECT(EE8) -> 0 | EG8: =IF(EF8>0, EF8, "") | EH8: =IF(BH8>0,IF(ISERROR(INDIRECT(EJ8)),"",INDIRECT(EJ8)),"") -> #REF! | EI8: Tiedot!AM | EJ8: =EI8&BQ8 -> Tiedot!AM61 | EL8: =IFERROR(EH8^1.4*AL8/100, "") | EN8: =EN7+19 -> 59
A9: =A8+1 -> 46 | B9: =AU9 -> 0 | C9: =AV9 -> 0 | D9: =AO9 -> 0 | E9: =AP9 -> 0 | F9: =AQ9 -> 0 | G9: =EG9 | R9: =D9+E9+F9 -> 0 | AC9: =A9 -> 46 | AD9: 4 | AE9: =Tiedot!B78 -> 0 | AF9: =Tiedot!C78 -> 0 | AG9: =Tiedot!D78 -> 0 | AH9: =Tiedot!E78 -> 0 | AI9: =Tiedot!F78 -> 0 | AJ9: =Tiedot!G78 -> 0 | AK9: =Tiedot!H78 -> 0 | AL9: =Tiedot!I78 -> 0 | ... AQ9: =Tiedot!N78 -> 0 | AR9: =INDIRECT("Tiedot!N" & EN9)+INDIRECT("Tiedot!AU" & (EN9+2)) -> 0 | AS9: =SUM(AO9:AR9) -> 0 | AT9: =AT8+AS9 -> 0 | AU9: =INT(AL9/60) -> 0 | AV9: =AL9-AU9*60 -> 0 | AW9: =Tiedot!B79 -> 0 | AX9: =Tiedot!C79 -> 0 | AY9: =Tiedot!D79 -> 0 | AZ9: =Tiedot!E79 -> 0 | BA9: =Tiedot!F79 -> 0 | BB9: =Tiedot!G79 -> 0 | BC9: =Tiedot!H79 -> 0 | BD9: =Tiedot!I79 -> 0 | BF9: =Tiedot!P78 -> 0 | BH9: =IF(SUM(Tiedot!#REF!)>0, Tiedot!#REF!, "") -> #REF! | BJ9: =BP9-12 -> 64 | BK9: =BJ9+2 -> 66 | BL9: =BK9+2 -> 68 | BM9: =BL9+2 -> 70 | BN9: =BM9+2 -> 72 | BO9: =BN9+2 -> 74 | BP9: =BQ9-4 -> 76 | BQ9: =BQ8+19 -> 80 | BS9: =IF(SUM(CC9:CI9)>0,CJ9,"") | BT9: Tiedot!V | BU9: =$BT9&BJ9 -> Tiedot!V64 | BV9: =$BT9&BK9 -> Tiedot!V66 | BW9: =$BT9&BL9 -> Tiedot!V68 | BX9: =$BT9&BM9 -> Tiedot!V70 | BY9: =$BT9&BN9 -> Tiedot!V72 | BZ9: =$BT9&BO9 -> Tiedot!V74 | CA9: =$BT9&BP9 -> Tiedot!V76 | CB9: =$BT9&BQ9 -> Tiedot!V80 | CC9: =INDIRECT(BU9) | CD9: =INDIRECT(BV9) | CE9: =INDIRECT(BW9) | CF9: =INDIRECT(BX9) | CG9: =INDIRECT(BY9) | CH9: =INDIRECT(BZ9) | CI9: =INDIRECT(CA9) | CJ9: =INDIRECT(CB9) | CK9: =CK6 -> 6 | CL9: CD | CM9: =INDIRECT(CL9&CK9) | CN9: Tiedot!AW | CO9: =$CN9&BJ9 -> Tiedot!AW64 | CP9: =$CN9&BK9 -> Tiedot!AW66 | CQ9: =$CN9&BL9 -> Tiedot!AW68 | CR9: =$CN9&BM9 -> Tiedot!AW70 | CS9: =$CN9&BN9 -> Tiedot!AW72 | CT9: =$CN9&BO9 -> Tiedot!AW74 | CU9: =$CN9&BP9 -> Tiedot!AW76 | CV9: =$CN9&BQ9 -> Tiedot!AW80 | CW9: =INDIRECT(CO9) -> 0 | CX9: =INDIRECT(CP9) -> 0 | CY9: =INDIRECT(CQ9) -> 0 | CZ9: =INDIRECT(CR9) -> 0 | DA9: =INDIRECT(CS9) -> 0 | DB9: =INDIRECT(CT9) -> 0 | DC9: =INDIRECT(CU9) -> 0 | DD9: =INDIRECT(CV9) -> 0 | DE9: =IF(SUM(CW9:DC9)<>0, DD9, "") | DG9: =INDIRECT(DK9) -> 0 | DI9: CX | DJ9: =DJ6 -> 6 | DK9: =DI9&DJ9 -> CX6 | DM9: =IF(DT9<>0, DT9, "") | DN9: =IF(DS9<>0, DS9, "") | DP9: Tiedot!AU | DQ9: =DP9&BQ9 -> Tiedot!AU80 | DR9: =DP9&(BQ9-1) -> Tiedot!AU79 | DS9: =INDIRECT(DR9) -> 0 | DT9: =INDIRECT(DQ9) -> 0 | DV9: =IF(EA9<>0, EA9, "") | DW9: =IF(ISERROR(EC9),"",EC9) -> 0 | DX9: Tiedot!AO | DY9: Tiedot!AN | DZ9: =DY9&BQ9 -> Tiedot!AN80 | EA9: =INDIRECT(DZ9) -> 0 | EB9: =DX9&BQ9 -> Tiedot!AO80 | EC9: =INDIRECT(EB9) -> 0 | ED9: Tiedot!AH | EE9: =ED9&BQ9 -> Tiedot!AH80 | EF9: =INDIRECT(EE9) -> 0 | EG9: =IF(EF9>0, EF9, "") | EH9: =IF(BH9>0,IF(ISERROR(INDIRECT(EJ9)),"",INDIRECT(EJ9)),"") -> #REF! | EI9: Tiedot!AM | EJ9: =EI9&BQ9 -> Tiedot!AM80 | EL9: =IFERROR(EH9^1.4*AL9/100, "") | EN9: =EN8+19 -> 78
A10: =A9+1 -> 47 | B10: =AU10 -> 0 | C10: =AV10 -> 0 | D10: =AO10 -> 0 | E10: =AP10 -> 0 | F10: =AQ10 -> 0 | G10: =EG10 | R10: =D10+E10+F10 -> 0 | AC10: =A10 -> 47 | AD10: 5 | AE10: =Tiedot!B97 -> 0 | AF10: =Tiedot!C97 -> 0 | AG10: =Tiedot!D97 -> 0 | AH10: =Tiedot!E97 -> 0 | AI10: =Tiedot!F97 -> 0 | AJ10: =Tiedot!G97 -> 0 | AK10: =Tiedot!H97 -> 0 | AL10: =Tiedot!I97 -> 0 | ... AQ10: =Tiedot!N97 -> 0 | AR10: =INDIRECT("Tiedot!N" & EN10)+INDIRECT("Tiedot!AU" & (EN10+2)) -> 0 | AS10: =SUM(AO10:AR10) -> 0 | AT10: =AT9+AS10 -> 0 | AU10: =INT(AL10/60) -> 0 | AV10: =AL10-AU10*60 -> 0 | AW10: =Tiedot!B98 -> 0 | AX10: =Tiedot!C98 -> 0 | AY10: =Tiedot!D98 -> 0 | AZ10: =Tiedot!E98 -> 0 | BA10: =Tiedot!F98 -> 0 | BB10: =Tiedot!G98 -> 0 | BC10: =Tiedot!H98 -> 0 | BD10: =Tiedot!I98 -> 0 | BF10: =Tiedot!P97 -> 0 | BH10: =IF(SUM(Tiedot!#REF!)>0, Tiedot!#REF!, "") -> #REF! | BJ10: =BP10-12 -> 83 | BK10: =BJ10+2 -> 85 | BL10: =BK10+2 -> 87 | BM10: =BL10+2 -> 89 | BN10: =BM10+2 -> 91 | BO10: =BN10+2 -> 93 | BP10: =BQ10-4 -> 95 | BQ10: =BQ9+19 -> 99 | BS10: =IF(SUM(CC10:CI10)>0,CJ10,"") | BT10: Tiedot!V | BU10: =$BT10&BJ10 -> Tiedot!V83 | BV10: =$BT10&BK10 -> Tiedot!V85 | BW10: =$BT10&BL10 -> Tiedot!V87 | BX10: =$BT10&BM10 -> Tiedot!V89 | BY10: =$BT10&BN10 -> Tiedot!V91 | BZ10: =$BT10&BO10 -> Tiedot!V93 | CA10: =$BT10&BP10 -> Tiedot!V95 | CB10: =$BT10&BQ10 -> Tiedot!V99 | CC10: =INDIRECT(BU10) | CD10: =INDIRECT(BV10) | CE10: =INDIRECT(BW10) | CF10: =INDIRECT(BX10) | CG10: =INDIRECT(BY10) | CH10: =INDIRECT(BZ10) | CI10: =INDIRECT(CA10) | CJ10: =INDIRECT(CB10) | CK10: =CK6 -> 6 | CL10: CE | CM10: =INDIRECT(CL10&CK10) -> 0 | CN10: Tiedot!AW | CO10: =$CN10&BJ10 -> Tiedot!AW83 | CP10: =$CN10&BK10 -> Tiedot!AW85 | CQ10: =$CN10&BL10 -> Tiedot!AW87 | CR10: =$CN10&BM10 -> Tiedot!AW89 | CS10: =$CN10&BN10 -> Tiedot!AW91 | CT10: =$CN10&BO10 -> Tiedot!AW93 | CU10: =$CN10&BP10 -> Tiedot!AW95 | CV10: =$CN10&BQ10 -> Tiedot!AW99 | CW10: =INDIRECT(CO10) -> 0 | CX10: =INDIRECT(CP10) -> 0 | CY10: =INDIRECT(CQ10) -> 0 | CZ10: =INDIRECT(CR10) -> 0 | DA10: =INDIRECT(CS10) -> 0 | DB10: =INDIRECT(CT10) -> 0 | DC10: =INDIRECT(CU10) -> 0 | DD10: =INDIRECT(CV10) -> 0 | DE10: =IF(SUM(CW10:DC10)<>0, DD10, "") | DG10: =INDIRECT(DK10) -> 0 | DI10: CY | DJ10: =DJ6 -> 6 | DK10: =DI10&DJ10 -> CY6 | DM10: =IF(DT10<>0, DT10, "") | DN10: =IF(DS10<>0, DS10, "") | DP10: Tiedot!AU | DQ10: =DP10&BQ10 -> Tiedot!AU99 | DR10: =DP10&(BQ10-1) -> Tiedot!AU98 | DS10: =INDIRECT(DR10) -> 0 | DT10: =INDIRECT(DQ10) -> 0 | DV10: =IF(EA10<>0, EA10, "") | DW10: =IF(ISERROR(EC10),"",EC10) -> 0 | DX10: Tiedot!AO | DY10: Tiedot!AN | DZ10: =DY10&BQ10 -> Tiedot!AN99 | EA10: =INDIRECT(DZ10) -> 0 | EB10: =DX10&BQ10 -> Tiedot!AO99 | EC10: =INDIRECT(EB10) -> 0 | ED10: Tiedot!AH | EE10: =ED10&BQ10 -> Tiedot!AH99 | EF10: =INDIRECT(EE10) -> 0 | EG10: =IF(EF10>0, EF10, "") | EH10: =IF(BH10>0,IF(ISERROR(INDIRECT(EJ10)),"",INDIRECT(EJ10)),"") -> #REF! | EI10: Tiedot!AM | EJ10: =EI10&BQ10 -> Tiedot!AM99 | EL10: =IFERROR(EH10^1.4*AL10/100, "") | EN10: =EN9+19 -> 97
A11: =A10+1 -> 48 | B11: =AU11 -> 0 | C11: =AV11 -> 0 | D11: =AO11 -> 0 | E11: =AP11 -> 0 | F11: =AQ11 -> 0 | G11: =EG11 | R11: =D11+E11+F11 -> 0 | AC11: =A11 -> 48 | AD11: 6 | AE11: =Tiedot!B116 -> 0 | AF11: =Tiedot!C116 -> 0 | AG11: =Tiedot!D116 -> 0 | AH11: =Tiedot!E116 -> 0 | AI11: =Tiedot!F116 -> 0 | AJ11: =Tiedot!G116 -> 0 | AK11: =Tiedot!H116 -> 0 | AL11: =Tiedot!I116 -> 0 | ... AQ11: =Tiedot!N116 -> 0 | AR11: =INDIRECT("Tiedot!N" & EN11)+INDIRECT("Tiedot!AU" & (EN11+2)) -> 0 | AS11: =SUM(AO11:AR11) -> 0 | AT11: =AT10+AS11 -> 0 | AU11: =INT(AL11/60) -> 0 | AV11: =AL11-AU11*60 -> 0 | AW11: =Tiedot!B117 -> 0 | AX11: =Tiedot!C117 -> 0 | AY11: =Tiedot!D117 -> 0 | AZ11: =Tiedot!E117 -> 0 | BA11: =Tiedot!F117 -> 0 | BB11: =Tiedot!G117 -> 0 | BC11: =Tiedot!H117 -> 0 | BD11: =Tiedot!I117 -> 0 | BF11: =Tiedot!P116 -> 0 | BH11: =IF(SUM(Tiedot!#REF!)>0, Tiedot!#REF!, "") -> #REF! | BJ11: =BP11-12 -> 102 | BK11: =BJ11+2 -> 104 | BL11: =BK11+2 -> 106 | BM11: =BL11+2 -> 108 | BN11: =BM11+2 -> 110 | BO11: =BN11+2 -> 112 | BP11: =BQ11-4 -> 114 | BQ11: =BQ10+19 -> 118 | BS11: =IF(SUM(CC11:CI11)>0,CJ11,"") | BT11: Tiedot!V | BU11: =$BT11&BJ11 -> Tiedot!V102 | BV11: =$BT11&BK11 -> Tiedot!V104 | BW11: =$BT11&BL11 -> Tiedot!V106 | BX11: =$BT11&BM11 -> Tiedot!V108 | BY11: =$BT11&BN11 -> Tiedot!V110 | BZ11: =$BT11&BO11 -> Tiedot!V112 | CA11: =$BT11&BP11 -> Tiedot!V114 | CB11: =$BT11&BQ11 -> Tiedot!V118 | CC11: =INDIRECT(BU11) | CD11: =INDIRECT(BV11) | CE11: =INDIRECT(BW11) | CF11: =INDIRECT(BX11) | CG11: =INDIRECT(BY11) | CH11: =INDIRECT(BZ11) | CI11: =INDIRECT(CA11) | CJ11: =INDIRECT(CB11) | CK11: =CK6 -> 6 | CL11: CF | CM11: =INDIRECT(CL11&CK11) | CN11: Tiedot!AW | CO11: =$CN11&BJ11 -> Tiedot!AW102 | CP11: =$CN11&BK11 -> Tiedot!AW104 | CQ11: =$CN11&BL11 -> Tiedot!AW106 | CR11: =$CN11&BM11 -> Tiedot!AW108 | CS11: =$CN11&BN11 -> Tiedot!AW110 | CT11: =$CN11&BO11 -> Tiedot!AW112 | CU11: =$CN11&BP11 -> Tiedot!AW114 | CV11: =$CN11&BQ11 -> Tiedot!AW118 | CW11: =INDIRECT(CO11) -> 0 | CX11: =INDIRECT(CP11) -> 0 | CY11: =INDIRECT(CQ11) -> 0 | CZ11: =INDIRECT(CR11) -> 0 | DA11: =INDIRECT(CS11) -> 0 | DB11: =INDIRECT(CT11) -> 0 | DC11: =INDIRECT(CU11) -> 0 | DD11: =INDIRECT(CV11) -> 0 | DE11: =IF(SUM(CW11:DC11)<>0, DD11, "") | DG11: =INDIRECT(DK11) -> 0 | DI11: CZ | DJ11: =DJ6 -> 6 | DK11: =DI11&DJ11 -> CZ6 | DM11: =IF(DT11<>0, DT11, "") | DN11: =IF(DS11<>0, DS11, "") | DP11: Tiedot!AU | DQ11: =DP11&BQ11 -> Tiedot!AU118 | DR11: =DP11&(BQ11-1) -> Tiedot!AU117 | DS11: =INDIRECT(DR11) -> 0 | DT11: =INDIRECT(DQ11) -> 0 | DV11: =IF(EA11<>0, EA11, "") | DW11: =IF(ISERROR(EC11),"",EC11) -> 0 | DX11: Tiedot!AO | DY11: Tiedot!AN | DZ11: =DY11&BQ11 -> Tiedot!AN118 | EA11: =INDIRECT(DZ11) -> 0 | EB11: =DX11&BQ11 -> Tiedot!AO118 | EC11: =INDIRECT(EB11) -> 0 | ED11: Tiedot!AH | EE11: =ED11&BQ11 -> Tiedot!AH118 | EF11: =INDIRECT(EE11) -> 0 | EG11: =IF(EF11>0, EF11, "") | EH11: =IF(BH11>0,IF(ISERROR(INDIRECT(EJ11)),"",INDIRECT(EJ11)),"") -> #REF! | EI11: Tiedot!AM | EJ11: =EI11&BQ11 -> Tiedot!AM118 | EL11: =IFERROR(EH11^1.4*AL11/100, "") | EN11: =EN10+19 -> 116
A12: =A11+1 -> 49 | B12: =AU12 -> 0 | C12: =AV12 -> 0 | D12: =AO12 -> 0 | E12: =AP12 -> 0 | F12: =AQ12 -> 0 | G12: =EG12 | R12: =D12+E12+F12 -> 0 | AC12: =A12 -> 49 | AD12: 7 | AE12: =Tiedot!B135 -> 0 | AF12: =Tiedot!C135 -> 0 | AG12: =Tiedot!D135 -> 0 | AH12: =Tiedot!E135 -> 0 | AI12: =Tiedot!F135 -> 0 | AJ12: =Tiedot!G135 -> 0 | AK12: =Tiedot!H135 -> 0 | AL12: =Tiedot!I135 -> 0 | ... AQ12: =Tiedot!N135 -> 0 | AR12: =INDIRECT("Tiedot!N" & EN12)+INDIRECT("Tiedot!AU" & (EN12+2)) -> 0 | AS12: =SUM(AO12:AR12) -> 0 | AT12: =AT11+AS12 -> 0 | AU12: =INT(AL12/60) -> 0 | AV12: =AL12-AU12*60 -> 0 | AW12: =Tiedot!B136 -> 0 | AX12: =Tiedot!C136 -> 0 | AY12: =Tiedot!D136 -> 0 | AZ12: =Tiedot!E136 -> 0 | BA12: =Tiedot!F136 -> 0 | BB12: =Tiedot!G136 -> 0 | BC12: =Tiedot!H136 -> 0 | BD12: =Tiedot!I136 -> 0 | BF12: =Tiedot!P135 -> 0 | BH12: =IF(SUM(Tiedot!#REF!)>0, Tiedot!#REF!, "") -> #REF! | BJ12: =BP12-12 -> 121 | BK12: =BJ12+2 -> 123 | BL12: =BK12+2 -> 125 | BM12: =BL12+2 -> 127 | BN12: =BM12+2 -> 129 | BO12: =BN12+2 -> 131 | BP12: =BQ12-4 -> 133 | BQ12: =BQ11+19 -> 137 | BS12: =IF(SUM(CC12:CI12)>0,CJ12,"") | BT12: Tiedot!V | BU12: =$BT12&BJ12 -> Tiedot!V121 | BV12: =$BT12&BK12 -> Tiedot!V123 | BW12: =$BT12&BL12 -> Tiedot!V125 | BX12: =$BT12&BM12 -> Tiedot!V127 | BY12: =$BT12&BN12 -> Tiedot!V129 | BZ12: =$BT12&BO12 -> Tiedot!V131 | CA12: =$BT12&BP12 -> Tiedot!V133 | CB12: =$BT12&BQ12 -> Tiedot!V137 | CC12: =INDIRECT(BU12) | CD12: =INDIRECT(BV12) | CE12: =INDIRECT(BW12) | CF12: =INDIRECT(BX12) | CG12: =INDIRECT(BY12) | CH12: =INDIRECT(BZ12) | CI12: =INDIRECT(CA12) | CJ12: =INDIRECT(CB12) | CK12: =CK6 -> 6 | CL12: CG | CM12: =INDIRECT(CL12&CK12) | CN12: Tiedot!AW | CO12: =$CN12&BJ12 -> Tiedot!AW121 | CP12: =$CN12&BK12 -> Tiedot!AW123 | CQ12: =$CN12&BL12 -> Tiedot!AW125 | CR12: =$CN12&BM12 -> Tiedot!AW127 | CS12: =$CN12&BN12 -> Tiedot!AW129 | CT12: =$CN12&BO12 -> Tiedot!AW131 | CU12: =$CN12&BP12 -> Tiedot!AW133 | CV12: =$CN12&BQ12 -> Tiedot!AW137 | CW12: =INDIRECT(CO12) -> 0 | CX12: =INDIRECT(CP12) -> 0 | CY12: =INDIRECT(CQ12) -> 0 | CZ12: =INDIRECT(CR12) -> 0 | DA12: =INDIRECT(CS12) -> 0 | DB12: =INDIRECT(CT12) -> 0 | DC12: =INDIRECT(CU12) -> 0 | DD12: =INDIRECT(CV12) -> 0 | DE12: =IF(SUM(CW12:DC12)<>0, DD12, "") | DF12: Marras | DG12: =INDIRECT(DK12) -> 0 | DI12: DA | DJ12: =DJ6 -> 6 | DK12: =DI12&DJ12 -> DA6 | DM12: =IF(DT12<>0, DT12, "") | DN12: =IF(DS12<>0, DS12, "") | DP12: Tiedot!AU | DQ12: =DP12&BQ12 -> Tiedot!AU137 | DR12: =DP12&(BQ12-1) -> Tiedot!AU136 | DS12: =INDIRECT(DR12) -> 0 | DT12: =INDIRECT(DQ12) -> 0 | DV12: =IF(EA12<>0, EA12, "") | DW12: =IF(ISERROR(EC12),"",EC12) -> 0 | DX12: Tiedot!AO | DY12: Tiedot!AN | DZ12: =DY12&BQ12 -> Tiedot!AN137 | EA12: =INDIRECT(DZ12) -> 0 | EB12: =DX12&BQ12 -> Tiedot!AO137 | EC12: =INDIRECT(EB12) -> 0 | ED12: Tiedot!AH | EE12: =ED12&BQ12 -> Tiedot!AH137 | EF12: =INDIRECT(EE12) -> 0 | EG12: =IF(EF12>0, EF12, "") | EH12: =IF(BH12>0,IF(ISERROR(INDIRECT(EJ12)),"",INDIRECT(EJ12)),"") -> #REF! | EI12: Tiedot!AM | EJ12: =EI12&BQ12 -> Tiedot!AM137 | EL12: =IFERROR(EH12^1.4*AL12/100, "") | EN12: =EN11+19 -> 135
A13: =A12+1 -> 50 | B13: =AU13 -> 0 | C13: =AV13 -> 0 | D13: =AO13 -> 0 | E13: =AP13 -> 0 | F13: =AQ13 -> 0 | G13: =EG13 | R13: =D13+E13+F13 -> 0 | AC13: =A13 -> 50 | AD13: 8 | AE13: =Tiedot!B154 -> 0 | AF13: =Tiedot!C154 -> 0 | AG13: =Tiedot!D154 -> 0 | AH13: =Tiedot!E154 -> 0 | AI13: =Tiedot!F154 -> 0 | AJ13: =Tiedot!G154 -> 0 | AK13: =Tiedot!H154 -> 0 | AL13: =Tiedot!I154 -> 0 | ... AQ13: =Tiedot!N154 -> 0 | AR13: =INDIRECT("Tiedot!N" & EN13)+INDIRECT("Tiedot!AU" & (EN13+2)) -> 0 | AS13: =SUM(AO13:AR13) -> 0 | AT13: =AT12+AS13 -> 0 | AU13: =INT(AL13/60) -> 0 | AV13: =AL13-AU13*60 -> 0 | AW13: =Tiedot!B155 -> 0 | AX13: =Tiedot!C155 -> 0 | AY13: =Tiedot!D155 -> 0 | AZ13: =Tiedot!E155 -> 0 | BA13: =Tiedot!F155 -> 0 | BB13: =Tiedot!G155 -> 0 | BC13: =Tiedot!H155 -> 0 | BD13: =Tiedot!I155 -> 0 | BF13: =Tiedot!P154 -> 0 | BH13: =IF(SUM(Tiedot!#REF!)>0, Tiedot!#REF!, "") -> #REF! | BJ13: =BP13-12 -> 140 | BK13: =BJ13+2 -> 142 | BL13: =BK13+2 -> 144 | BM13: =BL13+2 -> 146 | BN13: =BM13+2 -> 148 | BO13: =BN13+2 -> 150 | BP13: =BQ13-4 -> 152 | BQ13: =BQ12+19 -> 156 | BS13: =IF(SUM(CC13:CI13)>0,CJ13,"") | BT13: Tiedot!V | BU13: =$BT13&BJ13 -> Tiedot!V140 | BV13: =$BT13&BK13 -> Tiedot!V142 | BW13: =$BT13&BL13 -> Tiedot!V144 | BX13: =$BT13&BM13 -> Tiedot!V146 | BY13: =$BT13&BN13 -> Tiedot!V148 | BZ13: =$BT13&BO13 -> Tiedot!V150 | CA13: =$BT13&BP13 -> Tiedot!V152 | CB13: =$BT13&BQ13 -> Tiedot!V156 | CC13: =INDIRECT(BU13) | CD13: =INDIRECT(BV13) | CE13: =INDIRECT(BW13) | CF13: =INDIRECT(BX13) | CG13: =INDIRECT(BY13) | CH13: =INDIRECT(BZ13) | CI13: =INDIRECT(CA13) | CJ13: =INDIRECT(CB13) | CK13: =CK6+1 -> 7 | CL13: CA | CM13: =INDIRECT(CL13&CK13) -> Tiedot!V38 | CN13: Tiedot!AW | CO13: =$CN13&BJ13 -> Tiedot!AW140 | CP13: =$CN13&BK13 -> Tiedot!AW142 | CQ13: =$CN13&BL13 -> Tiedot!AW144 | CR13: =$CN13&BM13 -> Tiedot!AW146 | CS13: =$CN13&BN13 -> Tiedot!AW148 | CT13: =$CN13&BO13 -> Tiedot!AW150 | CU13: =$CN13&BP13 -> Tiedot!AW152 | CV13: =$CN13&BQ13 -> Tiedot!AW156 | CW13: =INDIRECT(CO13) -> 0 | CX13: =INDIRECT(CP13) -> 0 | CY13: =INDIRECT(CQ13) -> 0 | CZ13: =INDIRECT(CR13) -> 0 | DA13: =INDIRECT(CS13) -> 0 | DB13: =INDIRECT(CT13) -> 0 | DC13: =INDIRECT(CU13) -> 0 | DD13: =INDIRECT(CV13) -> 0 | DE13: =IF(SUM(CW13:DC13)<>0, DD13, "") | DG13: =INDIRECT(DK13) -> Tiedot!AW38 | DI13: CU | DJ13: =DJ6+1 -> 7 | DK13: =DI13&DJ13 -> CU7 | DM13: =IF(DT13<>0, DT13, "") | DN13: =IF(DS13<>0, DS13, "") | DP13: Tiedot!AU | DQ13: =DP13&BQ13 -> Tiedot!AU156 | DR13: =DP13&(BQ13-1) -> Tiedot!AU155 | DS13: =INDIRECT(DR13) -> 0 | DT13: =INDIRECT(DQ13) -> 0 | DV13: =IF(EA13<>0, EA13, "") | DW13: =IF(ISERROR(EC13),"",EC13) -> 0 | DX13: Tiedot!AO | DY13: Tiedot!AN | DZ13: =DY13&BQ13 -> Tiedot!AN156 | EA13: =INDIRECT(DZ13) -> 0 | EB13: =DX13&BQ13 -> Tiedot!AO156 | EC13: =INDIRECT(EB13) -> 0 | ED13: Tiedot!AH | EE13: =ED13&BQ13 -> Tiedot!AH156 | EF13: =INDIRECT(EE13) -> 0 | EG13: =IF(EF13>0, EF13, "") | EH13: =IF(BH13>0,IF(ISERROR(INDIRECT(EJ13)),"",INDIRECT(EJ13)),"") -> #REF! | EI13: Tiedot!AM | EJ13: =EI13&BQ13 -> Tiedot!AM156 | EL13: =IFERROR(EH13^1.4*AL13/100, "") | EN13: =EN12+19 -> 154
A14: =A13+1 -> 51 | B14: =AU14 -> 0 | C14: =AV14 -> 0 | D14: =AO14 -> 0 | E14: =AP14 -> 0 | F14: =AQ14 -> 0 | G14: =EG14 | R14: =D14+E14+F14 -> 0 | AC14: =A14 -> 51 | AD14: 9 | AE14: =Tiedot!B173 -> 0 | AF14: =Tiedot!C173 -> 0 | AG14: =Tiedot!D173 -> 0 | AH14: =Tiedot!E173 -> 0 | AI14: =Tiedot!F173 -> 0 | AJ14: =Tiedot!G173 -> 0 | AK14: =Tiedot!H173 -> 0 | AL14: =Tiedot!I173 -> 0 | ... AQ14: =Tiedot!N173 -> 0 | AR14: =INDIRECT("Tiedot!N" & EN14)+INDIRECT("Tiedot!AU" & (EN14+2)) -> 0 | AS14: =SUM(AO14:AR14) -> 0 | AT14: =AT13+AS14 -> 0 | AU14: =INT(AL14/60) -> 0 | AV14: =AL14-AU14*60 -> 0 | AW14: =Tiedot!B174 -> 0 | AX14: =Tiedot!C174 -> 0 | AY14: =Tiedot!D174 -> 0 | AZ14: =Tiedot!E174 -> 0 | BA14: =Tiedot!F174 -> 0 | BB14: =Tiedot!G174 -> 0 | BC14: =Tiedot!H174 -> 0 | BD14: =Tiedot!I174 -> 0 | BF14: =Tiedot!P173 -> 0 | BH14: =IF(SUM(Tiedot!#REF!)>0, Tiedot!#REF!, "") -> #REF! | BJ14: =BP14-12 -> 159 | BK14: =BJ14+2 -> 161 | BL14: =BK14+2 -> 163 | BM14: =BL14+2 -> 165 | BN14: =BM14+2 -> 167 | BO14: =BN14+2 -> 169 | BP14: =BQ14-4 -> 171 | BQ14: =BQ13+19 -> 175 | BS14: =IF(SUM(CC14:CI14)>0,CJ14,"") | BT14: Tiedot!V | BU14: =$BT14&BJ14 -> Tiedot!V159 | BV14: =$BT14&BK14 -> Tiedot!V161 | BW14: =$BT14&BL14 -> Tiedot!V163 | BX14: =$BT14&BM14 -> Tiedot!V165 | BY14: =$BT14&BN14 -> Tiedot!V167 | BZ14: =$BT14&BO14 -> Tiedot!V169 | CA14: =$BT14&BP14 -> Tiedot!V171 | CB14: =$BT14&BQ14 -> Tiedot!V175 | CC14: =INDIRECT(BU14) | CD14: =INDIRECT(BV14) | CE14: =INDIRECT(BW14) | CF14: =INDIRECT(BX14) | CG14: =INDIRECT(BY14) | CH14: =INDIRECT(BZ14) | CI14: =INDIRECT(CA14) | CJ14: =INDIRECT(CB14) | CK14: =CK13 -> 7 | CL14: CB | CM14: =INDIRECT(CL14&CK14) -> Tiedot!V42 | CN14: Tiedot!AW | CO14: =$CN14&BJ14 -> Tiedot!AW159 | CP14: =$CN14&BK14 -> Tiedot!AW161 | CQ14: =$CN14&BL14 -> Tiedot!AW163 | CR14: =$CN14&BM14 -> Tiedot!AW165 | CS14: =$CN14&BN14 -> Tiedot!AW167 | CT14: =$CN14&BO14 -> Tiedot!AW169 | CU14: =$CN14&BP14 -> Tiedot!AW171 | CV14: =$CN14&BQ14 -> Tiedot!AW175 | CW14: =INDIRECT(CO14) -> 0 | CX14: =INDIRECT(CP14) -> 0 | CY14: =INDIRECT(CQ14) -> 0 | CZ14: =INDIRECT(CR14) -> 0 | DA14: =INDIRECT(CS14) -> 0 | DB14: =INDIRECT(CT14) -> 0 | DC14: =INDIRECT(CU14) -> 0 | DD14: =INDIRECT(CV14) -> 0 | DE14: =IF(SUM(CW14:DC14)<>0, DD14, "") | DG14: =INDIRECT(DK14) -> Tiedot!AW42 | DI14: CV | DJ14: =DJ13 -> 7 | DK14: =DI14&DJ14 -> CV7 | DM14: =IF(DT14<>0, DT14, "") | DN14: =IF(DS14<>0, DS14, "") | DP14: Tiedot!AU | DQ14: =DP14&BQ14 -> Tiedot!AU175 | DR14: =DP14&(BQ14-1) -> Tiedot!AU174 | DS14: =INDIRECT(DR14) -> 0 | DT14: =INDIRECT(DQ14) -> 0 | DV14: =IF(EA14<>0, EA14, "") | DW14: =IF(ISERROR(EC14),"",EC14) -> 0 | DX14: Tiedot!AO | DY14: Tiedot!AN | DZ14: =DY14&BQ14 -> Tiedot!AN175 | EA14: =INDIRECT(DZ14) -> 0 | EB14: =DX14&BQ14 -> Tiedot!AO175 | EC14: =INDIRECT(EB14) -> 0 | ED14: Tiedot!AH | EE14: =ED14&BQ14 -> Tiedot!AH175 | EF14: =INDIRECT(EE14) -> 0 | EG14: =IF(EF14>0, EF14, "") | EH14: =IF(BH14>0,IF(ISERROR(INDIRECT(EJ14)),"",INDIRECT(EJ14)),"") -> #REF! | EI14: Tiedot!AM | EJ14: =EI14&BQ14 -> Tiedot!AM175 | EL14: =IFERROR(EH14^1.4*AL14/100, "") | EN14: =EN13+19 -> 173
A15: =A14+1 -> 52 | B15: =AU15 -> 0 | C15: =AV15 -> 0 | D15: =AO15 -> 0 | E15: =AP15 -> 0 | F15: =AQ15 -> 0 | G15: =EG15 | R15: =D15+E15+F15 -> 0 | AC15: =A15 -> 52 | AD15: 10 | AE15: =Tiedot!B192 -> 0 | AF15: =Tiedot!C192 -> 0 | AG15: =Tiedot!D192 -> 0 | AH15: =Tiedot!E192 -> 0 | AI15: =Tiedot!F192 -> 0 | AJ15: =Tiedot!G192 -> 0 | AK15: =Tiedot!H192 -> 0 | AL15: =Tiedot!I192 -> 0 | ... AQ15: =Tiedot!N192 -> 0 | AR15: =INDIRECT("Tiedot!N" & EN15)+INDIRECT("Tiedot!AU" & (EN15+2)) -> 0 | AS15: =SUM(AO15:AR15) -> 0 | AT15: =AT14+AS15 -> 0 | AU15: =INT(AL15/60) -> 0 | AV15: =AL15-AU15*60 -> 0 | AW15: =Tiedot!B193 -> 0 | AX15: =Tiedot!C193 -> 0 | AY15: =Tiedot!D193 -> 0 | AZ15: =Tiedot!E193 -> 0 | BA15: =Tiedot!F193 -> 0 | BB15: =Tiedot!G193 -> 0 | BC15: =Tiedot!H193 -> 0 | BD15: =Tiedot!I193 -> 0 | BF15: =Tiedot!P192 -> 0 | BH15: =IF(SUM(Tiedot!#REF!)>0, Tiedot!#REF!, "") -> #REF! | BJ15: =BP15-12 -> 178 | BK15: =BJ15+2 -> 180 | BL15: =BK15+2 -> 182 | BM15: =BL15+2 -> 184 | BN15: =BM15+2 -> 186 | BO15: =BN15+2 -> 188 | BP15: =BQ15-4 -> 190 | BQ15: =BQ14+19 -> 194 | BS15: =IF(SUM(CC15:CI15)>0,CJ15,"") | BT15: Tiedot!V | BU15: =$BT15&BJ15 -> Tiedot!V178 | BV15: =$BT15&BK15 -> Tiedot!V180 | BW15: =$BT15&BL15 -> Tiedot!V182 | BX15: =$BT15&BM15 -> Tiedot!V184 | BY15: =$BT15&BN15 -> Tiedot!V186 | BZ15: =$BT15&BO15 -> Tiedot!V188 | CA15: =$BT15&BP15 -> Tiedot!V190 | CB15: =$BT15&BQ15 -> Tiedot!V194 | CC15: =INDIRECT(BU15) | CD15: =INDIRECT(BV15) | CE15: =INDIRECT(BW15) | CF15: =INDIRECT(BX15) | CG15: =INDIRECT(BY15) | CH15: =INDIRECT(BZ15) | CI15: =INDIRECT(CA15) | CJ15: =INDIRECT(CB15) | CK15: =CK13 -> 7 | CL15: CC | CM15: =INDIRECT(CL15&CK15) | CN15: Tiedot!AW | CO15: =$CN15&BJ15 -> Tiedot!AW178 | CP15: =$CN15&BK15 -> Tiedot!AW180 | CQ15: =$CN15&BL15 -> Tiedot!AW182 | CR15: =$CN15&BM15 -> Tiedot!AW184 | CS15: =$CN15&BN15 -> Tiedot!AW186 | CT15: =$CN15&BO15 -> Tiedot!AW188 | CU15: =$CN15&BP15 -> Tiedot!AW190 | CV15: =$CN15&BQ15 -> Tiedot!AW194 | CW15: =INDIRECT(CO15) -> 0 | CX15: =INDIRECT(CP15) -> 0 | CY15: =INDIRECT(CQ15) -> 0 | CZ15: =INDIRECT(CR15) -> 0 | DA15: =INDIRECT(CS15) -> 0 | DB15: =INDIRECT(CT15) -> 0 | DC15: =INDIRECT(CU15) -> 0 | DD15: =INDIRECT(CV15) -> 0 | DE15: =IF(SUM(CW15:DC15)<>0, DD15, "") | DG15: =INDIRECT(DK15) -> 0 | DI15: CW | DJ15: =DJ13 -> 7 | DK15: =DI15&DJ15 -> CW7 | DM15: =IF(DT15<>0, DT15, "") | DN15: =IF(DS15<>0, DS15, "") | DP15: Tiedot!AU | DQ15: =DP15&BQ15 -> Tiedot!AU194 | DR15: =DP15&(BQ15-1) -> Tiedot!AU193 | DS15: =INDIRECT(DR15) -> 0 | DT15: =INDIRECT(DQ15) -> 0 | DV15: =IF(EA15<>0, EA15, "") | DW15: =IF(ISERROR(EC15),"",EC15) -> 0 | DX15: Tiedot!AO | DY15: Tiedot!AN | DZ15: =DY15&BQ15 -> Tiedot!AN194 | EA15: =INDIRECT(DZ15) -> 0 | EB15: =DX15&BQ15 -> Tiedot!AO194 | EC15: =INDIRECT(EB15) -> 0 | ED15: Tiedot!AH | EE15: =ED15&BQ15 -> Tiedot!AH194 | EF15: =INDIRECT(EE15) -> 0 | EG15: =IF(EF15>0, EF15, "") | EH15: =IF(BH15>0,IF(ISERROR(INDIRECT(EJ15)),"",INDIRECT(EJ15)),"") -> #REF! | EI15: Tiedot!AM | EJ15: =EI15&BQ15 -> Tiedot!AM194 | EL15: =IFERROR(EH15^1.4*AL15/100, "") | EN15: =EN14+19 -> 192
A16: 1 | B16: =AU16 -> 0 | C16: =AV16 -> 0 | D16: =AO16 -> 0 | E16: =AP16 -> 0 | F16: =AQ16 -> 0 | G16: =EG16 | R16: =D16+E16+F16 -> 0 | AC16: =A16 -> 1 | AD16: 11 | AE16: =Tiedot!B211 -> 0 | AF16: =Tiedot!C211 -> 0 | AG16: =Tiedot!D211 -> 0 | AH16: =Tiedot!E211 -> 0 | AI16: =Tiedot!F211 -> 0 | AJ16: =Tiedot!G211 -> 0 | AK16: =Tiedot!H211 -> 0 | AL16: =Tiedot!I211 -> 0 | ... AQ16: =Tiedot!N211 -> 0 | AR16: =INDIRECT("Tiedot!N" & EN16)+INDIRECT("Tiedot!AU" & (EN16+2)) -> 0 | AS16: =SUM(AO16:AR16) -> 0 | AT16: =AT15+AS16 -> 0 | AU16: =INT(AL16/60) -> 0 | AV16: =AL16-AU16*60 -> 0 | AW16: =Tiedot!B212 -> 0 | AX16: =Tiedot!C212 -> 0 | AY16: =Tiedot!D212 -> 0 | AZ16: =Tiedot!E212 -> 0 | BA16: =Tiedot!F212 -> 0 | BB16: =Tiedot!G212 -> 0 | BC16: =Tiedot!H212 -> 0 | BD16: =Tiedot!I212 -> 0 | BF16: =Tiedot!P211 -> 0 | BH16: =IF(SUM(Tiedot!#REF!)>0, Tiedot!#REF!, "") -> #REF! | BJ16: =BP16-12 -> 197 | BK16: =BJ16+2 -> 199 | BL16: =BK16+2 -> 201 | BM16: =BL16+2 -> 203 | BN16: =BM16+2 -> 205 | BO16: =BN16+2 -> 207 | BP16: =BQ16-4 -> 209 | BQ16: =BQ15+19 -> 213 | BS16: =IF(SUM(CC16:CI16)>0,CJ16,"") | BT16: Tiedot!V | BU16: =$BT16&BJ16 -> Tiedot!V197 | BV16: =$BT16&BK16 -> Tiedot!V199 | BW16: =$BT16&BL16 -> Tiedot!V201 | BX16: =$BT16&BM16 -> Tiedot!V203 | BY16: =$BT16&BN16 -> Tiedot!V205 | BZ16: =$BT16&BO16 -> Tiedot!V207 | CA16: =$BT16&BP16 -> Tiedot!V209 | CB16: =$BT16&BQ16 -> Tiedot!V213 | CC16: =INDIRECT(BU16) | CD16: =INDIRECT(BV16) | CE16: =INDIRECT(BW16) | CF16: =INDIRECT(BX16) | CG16: =INDIRECT(BY16) | CH16: =INDIRECT(BZ16) | CI16: =INDIRECT(CA16) | CJ16: =INDIRECT(CB16) | CK16: =CK13 -> 7 | CL16: CD | CM16: =INDIRECT(CL16&CK16) | CN16: Tiedot!AW | CO16: =$CN16&BJ16 -> Tiedot!AW197 | CP16: =$CN16&BK16 -> Tiedot!AW199 | CQ16: =$CN16&BL16 -> Tiedot!AW201 | CR16: =$CN16&BM16 -> Tiedot!AW203 | CS16: =$CN16&BN16 -> Tiedot!AW205 | CT16: =$CN16&BO16 -> Tiedot!AW207 | CU16: =$CN16&BP16 -> Tiedot!AW209 | CV16: =$CN16&BQ16 -> Tiedot!AW213 | CW16: =INDIRECT(CO16) -> 0 | CX16: =INDIRECT(CP16) -> 0 | CY16: =INDIRECT(CQ16) -> 0 | CZ16: =INDIRECT(CR16) -> 0 | DA16: =INDIRECT(CS16) -> 0 | DB16: =INDIRECT(CT16) -> 0 | DC16: =INDIRECT(CU16) -> 0 | DD16: =INDIRECT(CV16) -> 0 | DE16: =IF(SUM(CW16:DC16)<>0, DD16, "") | DG16: =INDIRECT(DK16) -> 0 | DI16: CX | DJ16: =DJ13 -> 7 | DK16: =DI16&DJ16 -> CX7 | DM16: =IF(DT16<>0, DT16, "") | DN16: =IF(DS16<>0, DS16, "") | DP16: Tiedot!AU | DQ16: =DP16&BQ16 -> Tiedot!AU213 | DR16: =DP16&(BQ16-1) -> Tiedot!AU212 | DS16: =INDIRECT(DR16) -> 0 | DT16: =INDIRECT(DQ16) -> 0 | DV16: =IF(EA16<>0, EA16, "") | DW16: =IF(ISERROR(EC16),"",EC16) -> 0 | DX16: Tiedot!AO | DY16: Tiedot!AN | DZ16: =DY16&BQ16 -> Tiedot!AN213 | EA16: =INDIRECT(DZ16) -> 0 | EB16: =DX16&BQ16 -> Tiedot!AO213 | EC16: =INDIRECT(EB16) -> 0 | ED16: Tiedot!AH | EE16: =ED16&BQ16 -> Tiedot!AH213 | EF16: =INDIRECT(EE16) -> 0 | EG16: =IF(EF16>0, EF16, "") | EH16: =IF(BH16>0,IF(ISERROR(INDIRECT(EJ16)),"",INDIRECT(EJ16)),"") -> #REF! | EI16: Tiedot!AM | EJ16: =EI16&BQ16 -> Tiedot!AM213 | EL16: =IFERROR(EH16^1.4*AL16/100, "") | EN16: =EN15+19 -> 211
A17: =A16+1 -> 2 | B17: =AU17 -> 0 | C17: =AV17 -> 0 | D17: =AO17 -> 0 | E17: =AP17 -> 0 | F17: =AQ17 -> 0 | G17: =EG17 | R17: =D17+E17+F17 -> 0 | AC17: =A17 -> 2 | AD17: 12 | AE17: =Tiedot!B230 -> 0 | AF17: =Tiedot!C230 -> 0 | AG17: =Tiedot!D230 -> 0 | AH17: =Tiedot!E230 -> 0 | AI17: =Tiedot!F230 -> 0 | AJ17: =Tiedot!G230 -> 0 | AK17: =Tiedot!H230 -> 0 | AL17: =Tiedot!I230 -> 0 | ... AQ17: =Tiedot!N230 -> 0 | AR17: =INDIRECT("Tiedot!N" & EN17)+INDIRECT("Tiedot!AU" & (EN17+2)) -> 0 | AS17: =SUM(AO17:AR17) -> 0 | AT17: =AT16+AS17 -> 0 | AU17: =INT(AL17/60) -> 0 | AV17: =AL17-AU17*60 -> 0 | AW17: =Tiedot!B231 -> 0 | AX17: =Tiedot!C231 -> 0 | AY17: =Tiedot!D231 -> 0 | AZ17: =Tiedot!E231 -> 0 | BA17: =Tiedot!F231 -> 0 | BB17: =Tiedot!G231 -> 0 | BC17: =Tiedot!H231 -> 0 | BD17: =Tiedot!I231 -> 0 | BF17: =Tiedot!P230 -> 0 | BH17: =IF(SUM(Tiedot!#REF!)>0, Tiedot!#REF!, "") -> #REF! | BJ17: =BP17-12 -> 216 | BK17: =BJ17+2 -> 218 | BL17: =BK17+2 -> 220 | BM17: =BL17+2 -> 222 | BN17: =BM17+2 -> 224 | BO17: =BN17+2 -> 226 | BP17: =BQ17-4 -> 228 | BQ17: =BQ16+19 -> 232 | BS17: =IF(SUM(CC17:CI17)>0,CJ17,"") | BT17: Tiedot!V | BU17: =$BT17&BJ17 -> Tiedot!V216 | BV17: =$BT17&BK17 -> Tiedot!V218 | BW17: =$BT17&BL17 -> Tiedot!V220 | BX17: =$BT17&BM17 -> Tiedot!V222 | BY17: =$BT17&BN17 -> Tiedot!V224 | BZ17: =$BT17&BO17 -> Tiedot!V226 | CA17: =$BT17&BP17 -> Tiedot!V228 | CB17: =$BT17&BQ17 -> Tiedot!V232 | CC17: =INDIRECT(BU17) | CD17: =INDIRECT(BV17) | CE17: =INDIRECT(BW17) | CF17: =INDIRECT(BX17) | CG17: =INDIRECT(BY17) | CH17: =INDIRECT(BZ17) | CI17: =INDIRECT(CA17) | CJ17: =INDIRECT(CB17) | CK17: =CK13 -> 7 | CL17: CE | CM17: =INDIRECT(CL17&CK17) | CN17: Tiedot!AW | CO17: =$CN17&BJ17 -> Tiedot!AW216 | CP17: =$CN17&BK17 -> Tiedot!AW218 | CQ17: =$CN17&BL17 -> Tiedot!AW220 | CR17: =$CN17&BM17 -> Tiedot!AW222 | CS17: =$CN17&BN17 -> Tiedot!AW224 | CT17: =$CN17&BO17 -> Tiedot!AW226 | CU17: =$CN17&BP17 -> Tiedot!AW228 | CV17: =$CN17&BQ17 -> Tiedot!AW232 | CW17: =INDIRECT(CO17) -> 0 | CX17: =INDIRECT(CP17) -> 0 | CY17: =INDIRECT(CQ17) -> 0 | CZ17: =INDIRECT(CR17) -> 0 | DA17: =INDIRECT(CS17) -> 0 | DB17: =INDIRECT(CT17) -> 0 | DC17: =INDIRECT(CU17) -> 0 | DD17: =INDIRECT(CV17) -> 0 | DE17: =IF(SUM(CW17:DC17)<>0, DD17, "") | DG17: =INDIRECT(DK17) -> 0 | DI17: CY | DJ17: =DJ13 -> 7 | DK17: =DI17&DJ17 -> CY7 | DM17: =IF(DT17<>0, DT17, "") | DN17: =IF(DS17<>0, DS17, "") | DP17: Tiedot!AU | DQ17: =DP17&BQ17 -> Tiedot!AU232 | DR17: =DP17&(BQ17-1) -> Tiedot!AU231 | DS17: =INDIRECT(DR17) -> 0 | DT17: =INDIRECT(DQ17) -> 0 | DV17: =IF(EA17<>0, EA17, "") | DW17: =IF(ISERROR(EC17),"",EC17) -> 0 | DX17: Tiedot!AO | DY17: Tiedot!AN | DZ17: =DY17&BQ17 -> Tiedot!AN232 | EA17: =INDIRECT(DZ17) -> 0 | EB17: =DX17&BQ17 -> Tiedot!AO232 | EC17: =INDIRECT(EB17) -> 0 | ED17: Tiedot!AH | EE17: =ED17&BQ17 -> Tiedot!AH232 | EF17: =INDIRECT(EE17) -> 0 | EG17: =IF(EF17>0, EF17, "") | EH17: =IF(BH17>0,IF(ISERROR(INDIRECT(EJ17)),"",INDIRECT(EJ17)),"") -> #REF! | EI17: Tiedot!AM | EJ17: =EI17&BQ17 -> Tiedot!AM232 | EL17: =IFERROR(EH17^1.4*AL17/100, "") | EN17: =EN16+19 -> 230
A18: =A17+1 -> 3 | B18: =AU18 -> 0 | C18: =AV18 -> 0 | D18: =AO18 -> 0 | E18: =AP18 -> 0 | F18: =AQ18 -> 0 | G18: =EG18 | R18: =D18+E18+F18 -> 0 | AC18: =A18 -> 3 | AD18: 13 | AE18: =Tiedot!B249 -> 0 | AF18: =Tiedot!C249 -> 0 | AG18: =Tiedot!D249 -> 0 | AH18: =Tiedot!E249 -> 0 | AI18: =Tiedot!F249 -> 0 | AJ18: =Tiedot!G249 -> 0 | AK18: =Tiedot!H249 -> 0 | AL18: =Tiedot!I249 -> 0 | ... AQ18: =Tiedot!N249 -> 0 | AR18: =INDIRECT("Tiedot!N" & EN18)+INDIRECT("Tiedot!AU" & (EN18+2)) -> 0 | AS18: =SUM(AO18:AR18) -> 0 | AT18: =AT17+AS18 -> 0 | AU18: =INT(AL18/60) -> 0 | AV18: =AL18-AU18*60 -> 0 | AW18: =Tiedot!B250 -> 0 | AX18: =Tiedot!C250 -> 0 | AY18: =Tiedot!D250 -> 0 | AZ18: =Tiedot!E250 -> 0 | BA18: =Tiedot!F250 -> 0 | BB18: =Tiedot!G250 -> 0 | BC18: =Tiedot!H250 -> 0 | BD18: =Tiedot!I250 -> 0 | BF18: =Tiedot!P249 -> 0 | BH18: =IF(SUM(Tiedot!#REF!)>0, Tiedot!#REF!, "") -> #REF! | BJ18: =BP18-12 -> 235 | BK18: =BJ18+2 -> 237 | BL18: =BK18+2 -> 239 | BM18: =BL18+2 -> 241 | BN18: =BM18+2 -> 243 | BO18: =BN18+2 -> 245 | BP18: =BQ18-4 -> 247 | BQ18: =BQ17+19 -> 251 | BS18: =IF(SUM(CC18:CI18)>0,CJ18,"") | BT18: Tiedot!V | BU18: =$BT18&BJ18 -> Tiedot!V235 | BV18: =$BT18&BK18 -> Tiedot!V237 | BW18: =$BT18&BL18 -> Tiedot!V239 | BX18: =$BT18&BM18 -> Tiedot!V241 | BY18: =$BT18&BN18 -> Tiedot!V243 | BZ18: =$BT18&BO18 -> Tiedot!V245 | CA18: =$BT18&BP18 -> Tiedot!V247 | CB18: =$BT18&BQ18 -> Tiedot!V251 | CC18: =INDIRECT(BU18) | CD18: =INDIRECT(BV18) | CE18: =INDIRECT(BW18) | CF18: =INDIRECT(BX18) | CG18: =INDIRECT(BY18) | CH18: =INDIRECT(BZ18) | CI18: =INDIRECT(CA18) | CJ18: =INDIRECT(CB18) | CK18: =CK13 -> 7 | CL18: CF | CM18: =INDIRECT(CL18&CK18) | CN18: Tiedot!AW | CO18: =$CN18&BJ18 -> Tiedot!AW235 | CP18: =$CN18&BK18 -> Tiedot!AW237 | CQ18: =$CN18&BL18 -> Tiedot!AW239 | CR18: =$CN18&BM18 -> Tiedot!AW241 | CS18: =$CN18&BN18 -> Tiedot!AW243 | CT18: =$CN18&BO18 -> Tiedot!AW245 | CU18: =$CN18&BP18 -> Tiedot!AW247 | CV18: =$CN18&BQ18 -> Tiedot!AW251 | CW18: =INDIRECT(CO18) -> 0 | CX18: =INDIRECT(CP18) -> 0 | CY18: =INDIRECT(CQ18) -> 0 | CZ18: =INDIRECT(CR18) -> 0 | DA18: =INDIRECT(CS18) -> 0 | DB18: =INDIRECT(CT18) -> 0 | DC18: =INDIRECT(CU18) -> 0 | DD18: =INDIRECT(CV18) -> 0 | DE18: =IF(SUM(CW18:DC18)<>0, DD18, "") | DG18: =INDIRECT(DK18) -> 0 | DI18: CZ | DJ18: =DJ13 -> 7 | DK18: =DI18&DJ18 -> CZ7 | DM18: =IF(DT18<>0, DT18, "") | DN18: =IF(DS18<>0, DS18, "") | DP18: Tiedot!AU | DQ18: =DP18&BQ18 -> Tiedot!AU251 | DR18: =DP18&(BQ18-1) -> Tiedot!AU250 | DS18: =INDIRECT(DR18) -> 0 | DT18: =INDIRECT(DQ18) -> 0 | DV18: =IF(EA18<>0, EA18, "") | DW18: =IF(ISERROR(EC18),"",EC18) -> 0 | DX18: Tiedot!AO | DY18: Tiedot!AN | DZ18: =DY18&BQ18 -> Tiedot!AN251 | EA18: =INDIRECT(DZ18) -> 0 | EB18: =DX18&BQ18 -> Tiedot!AO251 | EC18: =INDIRECT(EB18) -> 0 | ED18: Tiedot!AH | EE18: =ED18&BQ18 -> Tiedot!AH251 | EF18: =INDIRECT(EE18) -> 0 | EG18: =IF(EF18>0, EF18, "") | EH18: =IF(BH18>0,IF(ISERROR(INDIRECT(EJ18)),"",INDIRECT(EJ18)),"") -> #REF! | EI18: Tiedot!AM | EJ18: =EI18&BQ18 -> Tiedot!AM251 | EL18: =IFERROR(EH18^1.4*AL18/100, "") | EN18: =EN17+19 -> 249
A19: =A18+1 -> 4 | B19: =AU19 -> 0 | C19: =AV19 -> 0 | D19: =AO19 -> 0 | E19: =AP19 -> 0 | F19: =AQ19 -> 0 | G19: =EG19 | R19: =D19+E19+F19 -> 0 | AC19: =A19 -> 4 | AD19: 14 | AE19: =Tiedot!B268 -> 0 | AF19: =Tiedot!C268 -> 0 | AG19: =Tiedot!D268 -> 0 | AH19: =Tiedot!E268 -> 0 | AI19: =Tiedot!F268 -> 0 | AJ19: =Tiedot!G268 -> 0 | AK19: =Tiedot!H268 -> 0 | AL19: =Tiedot!I268 -> 0 | ... AQ19: =Tiedot!N268 -> 0 | AR19: =INDIRECT("Tiedot!N" & EN19)+INDIRECT("Tiedot!AU" & (EN19+2)) -> 0 | AS19: =SUM(AO19:AR19) -> 0 | AT19: =AT18+AS19 -> 0 | AU19: =INT(AL19/60) -> 0 | AV19: =AL19-AU19*60 -> 0 | AW19: =Tiedot!B269 -> 0 | AX19: =Tiedot!C269 -> 0 | AY19: =Tiedot!D269 -> 0 | AZ19: =Tiedot!E269 -> 0 | BA19: =Tiedot!F269 -> 0 | BB19: =Tiedot!G269 -> 0 | BC19: =Tiedot!H269 -> 0 | BD19: =Tiedot!I269 -> 0 | BF19: =Tiedot!P268 -> 0 | BH19: =IF(SUM(Tiedot!#REF!)>0, Tiedot!#REF!, "") -> #REF! | BJ19: =BP19-12 -> 254 | BK19: =BJ19+2 -> 256 | BL19: =BK19+2 -> 258 | BM19: =BL19+2 -> 260 | BN19: =BM19+2 -> 262 | BO19: =BN19+2 -> 264 | BP19: =BQ19-4 -> 266 | BQ19: =BQ18+19 -> 270 | BS19: =IF(SUM(CC19:CI19)>0,CJ19,"") | BT19: Tiedot!V | BU19: =$BT19&BJ19 -> Tiedot!V254 | BV19: =$BT19&BK19 -> Tiedot!V256 | BW19: =$BT19&BL19 -> Tiedot!V258 | BX19: =$BT19&BM19 -> Tiedot!V260 | BY19: =$BT19&BN19 -> Tiedot!V262 | BZ19: =$BT19&BO19 -> Tiedot!V264 | CA19: =$BT19&BP19 -> Tiedot!V266 | CB19: =$BT19&BQ19 -> Tiedot!V270 | CC19: =INDIRECT(BU19) | CD19: =INDIRECT(BV19) | CE19: =INDIRECT(BW19) | CF19: =INDIRECT(BX19) | CG19: =INDIRECT(BY19) | CH19: =INDIRECT(BZ19) | CI19: =INDIRECT(CA19) | CJ19: =INDIRECT(CB19) | CK19: =CK13 -> 7 | CL19: CG | CM19: =INDIRECT(CL19&CK19) | CN19: Tiedot!AW | CO19: =$CN19&BJ19 -> Tiedot!AW254 | CP19: =$CN19&BK19 -> Tiedot!AW256 | CQ19: =$CN19&BL19 -> Tiedot!AW258 | CR19: =$CN19&BM19 -> Tiedot!AW260 | CS19: =$CN19&BN19 -> Tiedot!AW262 | CT19: =$CN19&BO19 -> Tiedot!AW264 | CU19: =$CN19&BP19 -> Tiedot!AW266 | CV19: =$CN19&BQ19 -> Tiedot!AW270 | CW19: =INDIRECT(CO19) -> 0 | CX19: =INDIRECT(CP19) -> 0 | CY19: =INDIRECT(CQ19) -> 0 | CZ19: =INDIRECT(CR19) -> 0 | DA19: =INDIRECT(CS19) -> 0 | DB19: =INDIRECT(CT19) -> 0 | DC19: =INDIRECT(CU19) -> 0 | DD19: =INDIRECT(CV19) -> 0 | DE19: =IF(SUM(CW19:DC19)<>0, DD19, "") | DG19: =INDIRECT(DK19) -> 0 | DI19: DA | DJ19: =DJ13 -> 7 | DK19: =DI19&DJ19 -> DA7 | DM19: =IF(DT19<>0, DT19, "") | DN19: =IF(DS19<>0, DS19, "") | DP19: Tiedot!AU | DQ19: =DP19&BQ19 -> Tiedot!AU270 | DR19: =DP19&(BQ19-1) -> Tiedot!AU269 | DS19: =INDIRECT(DR19) -> 0 | DT19: =INDIRECT(DQ19) -> 0 | DV19: =IF(EA19<>0, EA19, "") | DW19: =IF(ISERROR(EC19),"",EC19) -> 0 | DX19: Tiedot!AO | DY19: Tiedot!AN | DZ19: =DY19&BQ19 -> Tiedot!AN270 | EA19: =INDIRECT(DZ19) -> 0 | EB19: =DX19&BQ19 -> Tiedot!AO270 | EC19: =INDIRECT(EB19) -> 0 | ED19: Tiedot!AH | EE19: =ED19&BQ19 -> Tiedot!AH270 | EF19: =INDIRECT(EE19) -> 0 | EG19: =IF(EF19>0, EF19, "") | EH19: =IF(BH19>0,IF(ISERROR(INDIRECT(EJ19)),"",INDIRECT(EJ19)),"") -> #REF! | EI19: Tiedot!AM | EJ19: =EI19&BQ19 -> Tiedot!AM270 | EL19: =IFERROR(EH19^1.4*AL19/100, "") | EN19: =EN18+19 -> 268
A20: =A19+1 -> 5 | B20: =AU20 -> 0 | C20: =AV20 -> 0 | D20: =AO20 -> 0 | E20: =AP20 -> 0 | F20: =AQ20 -> 0 | G20: =EG20 | R20: =D20+E20+F20 -> 0 | AC20: =A20 -> 5 | AD20: 15 | AE20: =Tiedot!B287 -> 0 | AF20: =Tiedot!C287 -> 0 | AG20: =Tiedot!D287 -> 0 | AH20: =Tiedot!E287 -> 0 | AI20: =Tiedot!F287 -> 0 | AJ20: =Tiedot!G287 -> 0 | AK20: =Tiedot!H287 -> 0 | AL20: =Tiedot!I287 -> 0 | ... AQ20: =Tiedot!N287 -> 0 | AR20: =INDIRECT("Tiedot!N" & EN20)+INDIRECT("Tiedot!AU" & (EN20+2)) -> 0 | AS20: =SUM(AO20:AR20) -> 0 | AT20: =AT19+AS20 -> 0 | AU20: =INT(AL20/60) -> 0 | AV20: =AL20-AU20*60 -> 0 | AW20: =Tiedot!B288 -> 0 | AX20: =Tiedot!C288 -> 0 | AY20: =Tiedot!D288 -> 0 | AZ20: =Tiedot!E288 -> 0 | BA20: =Tiedot!F288 -> 0 | BB20: =Tiedot!G288 -> 0 | BC20: =Tiedot!H288 -> 0 | BD20: =Tiedot!I288 -> 0 | BF20: =Tiedot!P287 -> 0 | BH20: =IF(SUM(Tiedot!#REF!)>0, Tiedot!#REF!, "") -> #REF! | BJ20: =BP20-12 -> 273 | BK20: =BJ20+2 -> 275 | BL20: =BK20+2 -> 277 | BM20: =BL20+2 -> 279 | BN20: =BM20+2 -> 281 | BO20: =BN20+2 -> 283 | BP20: =BQ20-4 -> 285 | BQ20: =BQ19+19 -> 289 | BS20: =IF(SUM(CC20:CI20)>0,CJ20,"") | BT20: Tiedot!V | BU20: =$BT20&BJ20 -> Tiedot!V273 | BV20: =$BT20&BK20 -> Tiedot!V275 | BW20: =$BT20&BL20 -> Tiedot!V277 | BX20: =$BT20&BM20 -> Tiedot!V279 | BY20: =$BT20&BN20 -> Tiedot!V281 | BZ20: =$BT20&BO20 -> Tiedot!V283 | CA20: =$BT20&BP20 -> Tiedot!V285 | CB20: =$BT20&BQ20 -> Tiedot!V289 | CC20: =INDIRECT(BU20) | CD20: =INDIRECT(BV20) | CE20: =INDIRECT(BW20) | CF20: =INDIRECT(BX20) | CG20: =INDIRECT(BY20) | CH20: =INDIRECT(BZ20) | CI20: =INDIRECT(CA20) | CJ20: =INDIRECT(CB20) | CK20: =CK13+1 -> 8 | CL20: CA | CM20: =INDIRECT(CL20&CK20) -> Tiedot!V57 | CN20: Tiedot!AW | CO20: =$CN20&BJ20 -> Tiedot!AW273 | CP20: =$CN20&BK20 -> Tiedot!AW275 | CQ20: =$CN20&BL20 -> Tiedot!AW277 | CR20: =$CN20&BM20 -> Tiedot!AW279 | CS20: =$CN20&BN20 -> Tiedot!AW281 | CT20: =$CN20&BO20 -> Tiedot!AW283 | CU20: =$CN20&BP20 -> Tiedot!AW285 | CV20: =$CN20&BQ20 -> Tiedot!AW289 | CW20: =INDIRECT(CO20) -> 0 | CX20: =INDIRECT(CP20) -> 0 | CY20: =INDIRECT(CQ20) -> 0 | CZ20: =INDIRECT(CR20) -> 0 | DA20: =INDIRECT(CS20) -> 0 | DB20: =INDIRECT(CT20) -> 0 | DC20: =INDIRECT(CU20) -> 0 | DD20: =INDIRECT(CV20) -> 0 | DE20: =IF(SUM(CW20:DC20)<>0, DD20, "") | DG20: =INDIRECT(DK20) -> Tiedot!AW57 | DI20: CU | DJ20: =DJ13+1 -> 8 | DK20: =DI20&DJ20 -> CU8 | DM20: =IF(DT20<>0, DT20, "") | DN20: =IF(DS20<>0, DS20, "") | DP20: Tiedot!AU | DQ20: =DP20&BQ20 -> Tiedot!AU289 | DR20: =DP20&(BQ20-1) -> Tiedot!AU288 | DS20: =INDIRECT(DR20) -> 0 | DT20: =INDIRECT(DQ20) -> 0 | DV20: =IF(EA20<>0, EA20, "") | DW20: =IF(ISERROR(EC20),"",EC20) -> 0 | DX20: Tiedot!AO | DY20: Tiedot!AN | DZ20: =DY20&BQ20 -> Tiedot!AN289 | EA20: =INDIRECT(DZ20) -> 0 | EB20: =DX20&BQ20 -> Tiedot!AO289 | EC20: =INDIRECT(EB20) -> 0 | ED20: Tiedot!AH | EE20: =ED20&BQ20 -> Tiedot!AH289 | EF20: =INDIRECT(EE20) -> 0 | EG20: =IF(EF20>0, EF20, "") | EH20: =IF(BH20>0,IF(ISERROR(INDIRECT(EJ20)),"",INDIRECT(EJ20)),"") -> #REF! | EI20: Tiedot!AM | EJ20: =EI20&BQ20 -> Tiedot!AM289 | EL20: =IFERROR(EH20^1.4*AL20/100, "") | EN20: =EN19+19 -> 287
A21: =A20+1 -> 6 | B21: =AU21 -> 0 | C21: =AV21 -> 0 | D21: =AO21 -> 0 | E21: =AP21 -> 0 | F21: =AQ21 -> 0 | G21: =EG21 | R21: =D21+E21+F21 -> 0 | AC21: =A21 -> 6 | AD21: 16 | AE21: =Tiedot!B306 -> 0 | AF21: =Tiedot!C306 -> 0 | AG21: =Tiedot!D306 -> 0 | AH21: =Tiedot!E306 -> 0 | AI21: =Tiedot!F306 -> 0 | AJ21: =Tiedot!G306 -> 0 | AK21: =Tiedot!H306 -> 0 | AL21: =Tiedot!I306 -> 0 | ... AQ21: =Tiedot!N306 -> 0 | AR21: =INDIRECT("Tiedot!N" & EN21)+INDIRECT("Tiedot!AU" & (EN21+2)) -> 0 | AS21: =SUM(AO21:AR21) -> 0 | AT21: =AT20+AS21 -> 0 | AU21: =INT(AL21/60) -> 0 | AV21: =AL21-AU21*60 -> 0 | AW21: =Tiedot!B307 -> 0 | AX21: =Tiedot!C307 -> 0 | AY21: =Tiedot!D307 -> 0 | AZ21: =Tiedot!E307 -> 0 | BA21: =Tiedot!F307 -> 0 | BB21: =Tiedot!G307 -> 0 | BC21: =Tiedot!H307 -> 0 | BD21: =Tiedot!I307 -> 0 | BF21: =Tiedot!P306 -> 0 | BH21: =IF(SUM(Tiedot!#REF!)>0, Tiedot!#REF!, "") -> #REF! | BJ21: =BP21-12 -> 292 | BK21: =BJ21+2 -> 294 | BL21: =BK21+2 -> 296 | BM21: =BL21+2 -> 298 | BN21: =BM21+2 -> 300 | BO21: =BN21+2 -> 302 | BP21: =BQ21-4 -> 304 | BQ21: =BQ20+19 -> 308 | BS21: =IF(SUM(CC21:CI21)>0,CJ21,"") | BT21: Tiedot!V | BU21: =$BT21&BJ21 -> Tiedot!V292 | BV21: =$BT21&BK21 -> Tiedot!V294 | BW21: =$BT21&BL21 -> Tiedot!V296 | BX21: =$BT21&BM21 -> Tiedot!V298 | BY21: =$BT21&BN21 -> Tiedot!V300 | BZ21: =$BT21&BO21 -> Tiedot!V302 | CA21: =$BT21&BP21 -> Tiedot!V304 | CB21: =$BT21&BQ21 -> Tiedot!V308 | CC21: =INDIRECT(BU21) | CD21: =INDIRECT(BV21) | CE21: =INDIRECT(BW21) | CF21: =INDIRECT(BX21) | CG21: =INDIRECT(BY21) | CH21: =INDIRECT(BZ21) | CI21: =INDIRECT(CA21) | CJ21: =INDIRECT(CB21) | CK21: =CK20 -> 8 | CL21: CB | CM21: =INDIRECT(CL21&CK21) -> Tiedot!V61 | CN21: Tiedot!AW | CO21: =$CN21&BJ21 -> Tiedot!AW292 | CP21: =$CN21&BK21 -> Tiedot!AW294 | CQ21: =$CN21&BL21 -> Tiedot!AW296 | CR21: =$CN21&BM21 -> Tiedot!AW298 | CS21: =$CN21&BN21 -> Tiedot!AW300 | CT21: =$CN21&BO21 -> Tiedot!AW302 | CU21: =$CN21&BP21 -> Tiedot!AW304 | CV21: =$CN21&BQ21 -> Tiedot!AW308 | CW21: =INDIRECT(CO21) -> 0 | CX21: =INDIRECT(CP21) -> 0 | CY21: =INDIRECT(CQ21) -> 0 | CZ21: =INDIRECT(CR21) -> 0 | DA21: =INDIRECT(CS21) -> 0 | DB21: =INDIRECT(CT21) -> 0 | DC21: =INDIRECT(CU21) -> 0 | DD21: =INDIRECT(CV21) -> 0 | DE21: =IF(SUM(CW21:DC21)<>0, DD21, "") | DG21: =INDIRECT(DK21) -> Tiedot!AW61 | DI21: CV | DJ21: =DJ20 -> 8 | DK21: =DI21&DJ21 -> CV8 | DM21: =IF(DT21<>0, DT21, "") | DN21: =IF(DS21<>0, DS21, "") | DP21: Tiedot!AU | DQ21: =DP21&BQ21 -> Tiedot!AU308 | DR21: =DP21&(BQ21-1) -> Tiedot!AU307 | DS21: =INDIRECT(DR21) -> 0 | DT21: =INDIRECT(DQ21) -> 0 | DV21: =IF(EA21<>0, EA21, "") | DW21: =IF(ISERROR(EC21),"",EC21) -> 0 | DX21: Tiedot!AO | DY21: Tiedot!AN | DZ21: =DY21&BQ21 -> Tiedot!AN308 | EA21: =INDIRECT(DZ21) -> 0 | EB21: =DX21&BQ21 -> Tiedot!AO308 | EC21: =INDIRECT(EB21) -> 0 | ED21: Tiedot!AH | EE21: =ED21&BQ21 -> Tiedot!AH308 | EF21: =INDIRECT(EE21) -> 0 | EG21: =IF(EF21>0, EF21, "") | EH21: =IF(BH21>0,IF(ISERROR(INDIRECT(EJ21)),"",INDIRECT(EJ21)),"") -> #REF! | EI21: Tiedot!AM | EJ21: =EI21&BQ21 -> Tiedot!AM308 | EL21: =IFERROR(EH21^1.4*AL21/100, "") | EN21: =EN20+19 -> 306
A22: =A21+1 -> 7 | B22: =AU22 -> 0 | C22: =AV22 -> 0 | D22: =AO22 -> 0 | E22: =AP22 -> 0 | F22: =AQ22 -> 0 | G22: =EG22 | R22: =D22+E22+F22 -> 0 | AC22: =A22 -> 7 | AD22: 17 | AE22: =Tiedot!B325 -> 0 | AF22: =Tiedot!C325 -> 0 | AG22: =Tiedot!D325 -> 0 | AH22: =Tiedot!E325 -> 0 | AI22: =Tiedot!F325 -> 0 | AJ22: =Tiedot!G325 -> 0 | AK22: =Tiedot!H325 -> 0 | AL22: =Tiedot!I325 -> 0 | ... AQ22: =Tiedot!N325 -> 0 | AR22: =INDIRECT("Tiedot!N" & EN22)+INDIRECT("Tiedot!AU" & (EN22+2)) -> 0 | AS22: =SUM(AO22:AR22) -> 0 | AT22: =AT21+AS22 -> 0 | AU22: =INT(AL22/60) -> 0 | AV22: =AL22-AU22*60 -> 0 | AW22: =Tiedot!B326 -> 0 | AX22: =Tiedot!C326 -> 0 | AY22: =Tiedot!D326 -> 0 | AZ22: =Tiedot!E326 -> 0 | BA22: =Tiedot!F326 -> 0 | BB22: =Tiedot!G326 -> 0 | BC22: =Tiedot!H326 -> 0 | BD22: =Tiedot!I326 -> 0 | BF22: =Tiedot!P325 -> 0 | BH22: =IF(SUM(Tiedot!#REF!)>0, Tiedot!#REF!, "") -> #REF! | BJ22: =BP22-12 -> 311 | BK22: =BJ22+2 -> 313 | BL22: =BK22+2 -> 315 | BM22: =BL22+2 -> 317 | BN22: =BM22+2 -> 319 | BO22: =BN22+2 -> 321 | BP22: =BQ22-4 -> 323 | BQ22: =BQ21+19 -> 327 | BS22: =IF(SUM(CC22:CI22)>0,CJ22,"") | BT22: Tiedot!V | BU22: =$BT22&BJ22 -> Tiedot!V311 | BV22: =$BT22&BK22 -> Tiedot!V313 | BW22: =$BT22&BL22 -> Tiedot!V315 | BX22: =$BT22&BM22 -> Tiedot!V317 | BY22: =$BT22&BN22 -> Tiedot!V319 | BZ22: =$BT22&BO22 -> Tiedot!V321 | CA22: =$BT22&BP22 -> Tiedot!V323 | CB22: =$BT22&BQ22 -> Tiedot!V327 | CC22: =INDIRECT(BU22) | CD22: =INDIRECT(BV22) | CE22: =INDIRECT(BW22) | CF22: =INDIRECT(BX22) | CG22: =INDIRECT(BY22) | CH22: =INDIRECT(BZ22) | CI22: =INDIRECT(CA22) | CJ22: =INDIRECT(CB22) | CK22: =CK20 -> 8 | CL22: CC | CM22: =INDIRECT(CL22&CK22) | CN22: Tiedot!AW | CO22: =$CN22&BJ22 -> Tiedot!AW311 | CP22: =$CN22&BK22 -> Tiedot!AW313 | CQ22: =$CN22&BL22 -> Tiedot!AW315 | CR22: =$CN22&BM22 -> Tiedot!AW317 | CS22: =$CN22&BN22 -> Tiedot!AW319 | CT22: =$CN22&BO22 -> Tiedot!AW321 | CU22: =$CN22&BP22 -> Tiedot!AW323 | CV22: =$CN22&BQ22 -> Tiedot!AW327 | CW22: =INDIRECT(CO22) -> 0 | CX22: =INDIRECT(CP22) -> 0 | CY22: =INDIRECT(CQ22) -> 0 | CZ22: =INDIRECT(CR22) -> 0 | DA22: =INDIRECT(CS22) -> 0 | DB22: =INDIRECT(CT22) -> 0 | DC22: =INDIRECT(CU22) -> 0 | DD22: =INDIRECT(CV22) -> 0 | DE22: =IF(SUM(CW22:DC22)<>0, DD22, "") | DG22: =INDIRECT(DK22) -> 0 | DI22: CW | DJ22: =DJ20 -> 8 | DK22: =DI22&DJ22 -> CW8 | DM22: =IF(DT22<>0, DT22, "") | DN22: =IF(DS22<>0, DS22, "") | DP22: Tiedot!AU | DQ22: =DP22&BQ22 -> Tiedot!AU327 | DR22: =DP22&(BQ22-1) -> Tiedot!AU326 | DS22: =INDIRECT(DR22) -> 0 | DT22: =INDIRECT(DQ22) -> 0 | DV22: =IF(EA22<>0, EA22, "") | DW22: =IF(ISERROR(EC22),"",EC22) -> 0 | DX22: Tiedot!AO | DY22: Tiedot!AN | DZ22: =DY22&BQ22 -> Tiedot!AN327 | EA22: =INDIRECT(DZ22) -> 0 | EB22: =DX22&BQ22 -> Tiedot!AO327 | EC22: =INDIRECT(EB22) -> 0 | ED22: Tiedot!AH | EE22: =ED22&BQ22 -> Tiedot!AH327 | EF22: =INDIRECT(EE22) -> 0 | EG22: =IF(EF22>0, EF22, "") | EH22: =IF(BH22>0,IF(ISERROR(INDIRECT(EJ22)),"",INDIRECT(EJ22)),"") -> #REF! | EI22: Tiedot!AM | EJ22: =EI22&BQ22 -> Tiedot!AM327 | EL22: =IFERROR(EH22^1.4*AL22/100, "") | EN22: =EN21+19 -> 325
A23: =A22+1 -> 8 | B23: =AU23 -> 0 | C23: =AV23 -> 0 | D23: =AO23 -> 0 | E23: =AP23 -> 0 | F23: =AQ23 -> 0 | G23: =EG23 | R23: =D23+E23+F23 -> 0 | AC23: =A23 -> 8 | AD23: 18 | AE23: =Tiedot!B344 -> 0 | AF23: =Tiedot!C344 -> 0 | AG23: =Tiedot!D344 -> 0 | AH23: =Tiedot!E344 -> 0 | AI23: =Tiedot!F344 -> 0 | AJ23: =Tiedot!G344 -> 0 | AK23: =Tiedot!H344 -> 0 | AL23: =Tiedot!I344 -> 0 | ... AQ23: =Tiedot!N344 -> 0 | AR23: =INDIRECT("Tiedot!N" & EN23)+INDIRECT("Tiedot!AU" & (EN23+2)) -> 0 | AS23: =SUM(AO23:AR23) -> 0 | AT23: =AT22+AS23 -> 0 | AU23: =INT(AL23/60) -> 0 | AV23: =AL23-AU23*60 -> 0 | AW23: =Tiedot!B345 -> 0 | AX23: =Tiedot!C345 -> 0 | AY23: =Tiedot!D345 -> 0 | AZ23: =Tiedot!E345 -> 0 | BA23: =Tiedot!F345 -> 0 | BB23: =Tiedot!G345 -> 0 | BC23: =Tiedot!H345 -> 0 | BD23: =Tiedot!I345 -> 0 | BF23: =Tiedot!P344 -> 0 | BH23: =IF(SUM(Tiedot!#REF!)>0, Tiedot!#REF!, "") -> #REF! | BJ23: =BP23-12 -> 330 | BK23: =BJ23+2 -> 332 | BL23: =BK23+2 -> 334 | BM23: =BL23+2 -> 336 | BN23: =BM23+2 -> 338 | BO23: =BN23+2 -> 340 | BP23: =BQ23-4 -> 342 | BQ23: =BQ22+19 -> 346 | BS23: =IF(SUM(CC23:CI23)>0,CJ23,"") | BT23: Tiedot!V | BU23: =$BT23&BJ23 -> Tiedot!V330 | BV23: =$BT23&BK23 -> Tiedot!V332 | BW23: =$BT23&BL23 -> Tiedot!V334 | BX23: =$BT23&BM23 -> Tiedot!V336 | BY23: =$BT23&BN23 -> Tiedot!V338 | BZ23: =$BT23&BO23 -> Tiedot!V340 | CA23: =$BT23&BP23 -> Tiedot!V342 | CB23: =$BT23&BQ23 -> Tiedot!V346 | CC23: =INDIRECT(BU23) | CD23: =INDIRECT(BV23) | CE23: =INDIRECT(BW23) | CF23: =INDIRECT(BX23) | CG23: =INDIRECT(BY23) | CH23: =INDIRECT(BZ23) | CI23: =INDIRECT(CA23) | CJ23: =INDIRECT(CB23) | CK23: =CK20 -> 8 | CL23: CD | CM23: =INDIRECT(CL23&CK23) | CN23: Tiedot!AW | CO23: =$CN23&BJ23 -> Tiedot!AW330 | CP23: =$CN23&BK23 -> Tiedot!AW332 | CQ23: =$CN23&BL23 -> Tiedot!AW334 | CR23: =$CN23&BM23 -> Tiedot!AW336 | CS23: =$CN23&BN23 -> Tiedot!AW338 | CT23: =$CN23&BO23 -> Tiedot!AW340 | CU23: =$CN23&BP23 -> Tiedot!AW342 | CV23: =$CN23&BQ23 -> Tiedot!AW346 | CW23: =INDIRECT(CO23) -> 0 | CX23: =INDIRECT(CP23) -> 0 | CY23: =INDIRECT(CQ23) -> 0 | CZ23: =INDIRECT(CR23) -> 0 | DA23: =INDIRECT(CS23) -> 0 | DB23: =INDIRECT(CT23) -> 0 | DC23: =INDIRECT(CU23) -> 0 | DD23: =INDIRECT(CV23) -> 0 | DE23: =IF(SUM(CW23:DC23)<>0, DD23, "") | DG23: =INDIRECT(DK23) -> 0 | DI23: CX | DJ23: =DJ20 -> 8 | DK23: =DI23&DJ23 -> CX8 | DM23: =IF(DT23<>0, DT23, "") | DN23: =IF(DS23<>0, DS23, "") | DP23: Tiedot!AU | DQ23: =DP23&BQ23 -> Tiedot!AU346 | DR23: =DP23&(BQ23-1) -> Tiedot!AU345 | DS23: =INDIRECT(DR23) -> 0 | DT23: =INDIRECT(DQ23) -> 0 | DV23: =IF(EA23<>0, EA23, "") | DW23: =IF(ISERROR(EC23),"",EC23) -> 0 | DX23: Tiedot!AO | DY23: Tiedot!AN | DZ23: =DY23&BQ23 -> Tiedot!AN346 | EA23: =INDIRECT(DZ23) -> 0 | EB23: =DX23&BQ23 -> Tiedot!AO346 | EC23: =INDIRECT(EB23) -> 0 | ED23: Tiedot!AH | EE23: =ED23&BQ23 -> Tiedot!AH346 | EF23: =INDIRECT(EE23) -> 0 | EG23: =IF(EF23>0, EF23, "") | EH23: =IF(BH23>0,IF(ISERROR(INDIRECT(EJ23)),"",INDIRECT(EJ23)),"") -> #REF! | EI23: Tiedot!AM | EJ23: =EI23&BQ23 -> Tiedot!AM346 | EL23: =IFERROR(EH23^1.4*AL23/100, "") | EN23: =EN22+19 -> 344
A24: =A23+1 -> 9 | B24: =AU24 -> 0 | C24: =AV24 -> 0 | D24: =AO24 -> 0 | E24: =AP24 -> 0 | F24: =AQ24 -> 0 | G24: =EG24 | R24: =D24+E24+F24 -> 0 | AC24: =A24 -> 9 | AD24: 19 | AE24: =Tiedot!B363 -> 0 | AF24: =Tiedot!C363 -> 0 | AG24: =Tiedot!D363 -> 0 | AH24: =Tiedot!E363 -> 0 | AI24: =Tiedot!F363 -> 0 | AJ24: =Tiedot!G363 -> 0 | AK24: =Tiedot!H363 -> 0 | AL24: =Tiedot!I363 -> 0 | ... AQ24: =Tiedot!N363 -> 0 | AR24: =INDIRECT("Tiedot!N" & EN24)+INDIRECT("Tiedot!AU" & (EN24+2)) -> 0 | AS24: =SUM(AO24:AR24) -> 0 | AT24: =AT23+AS24 -> 0 | AU24: =INT(AL24/60) -> 0 | AV24: =AL24-AU24*60 -> 0 | AW24: =Tiedot!B364 -> 0 | AX24: =Tiedot!C364 -> 0 | AY24: =Tiedot!D364 -> 0 | AZ24: =Tiedot!E364 -> 0 | BA24: =Tiedot!F364 -> 0 | BB24: =Tiedot!G364 -> 0 | BC24: =Tiedot!H364 -> 0 | BD24: =Tiedot!I364 -> 0 | BF24: =Tiedot!P363 -> 0 | BH24: =IF(SUM(Tiedot!#REF!)>0, Tiedot!#REF!, "") -> #REF! | BJ24: =BP24-12 -> 349 | BK24: =BJ24+2 -> 351 | BL24: =BK24+2 -> 353 | BM24: =BL24+2 -> 355 | BN24: =BM24+2 -> 357 | BO24: =BN24+2 -> 359 | BP24: =BQ24-4 -> 361 | BQ24: =BQ23+19 -> 365 | BS24: =IF(SUM(CC24:CI24)>0,CJ24,"") | BT24: Tiedot!V | BU24: =$BT24&BJ24 -> Tiedot!V349 | BV24: =$BT24&BK24 -> Tiedot!V351 | BW24: =$BT24&BL24 -> Tiedot!V353 | BX24: =$BT24&BM24 -> Tiedot!V355 | BY24: =$BT24&BN24 -> Tiedot!V357 | BZ24: =$BT24&BO24 -> Tiedot!V359 | CA24: =$BT24&BP24 -> Tiedot!V361 | CB24: =$BT24&BQ24 -> Tiedot!V365 | CC24: =INDIRECT(BU24) | CD24: =INDIRECT(BV24) | CE24: =INDIRECT(BW24) | CF24: =INDIRECT(BX24) | CG24: =INDIRECT(BY24) | CH24: =INDIRECT(BZ24) | CI24: =INDIRECT(CA24) | CJ24: =INDIRECT(CB24) | CK24: =CK20 -> 8 | CL24: CE | CM24: =INDIRECT(CL24&CK24) | CN24: Tiedot!AW | CO24: =$CN24&BJ24 -> Tiedot!AW349 | CP24: =$CN24&BK24 -> Tiedot!AW351 | CQ24: =$CN24&BL24 -> Tiedot!AW353 | CR24: =$CN24&BM24 -> Tiedot!AW355 | CS24: =$CN24&BN24 -> Tiedot!AW357 | CT24: =$CN24&BO24 -> Tiedot!AW359 | CU24: =$CN24&BP24 -> Tiedot!AW361 | CV24: =$CN24&BQ24 -> Tiedot!AW365 | CW24: =INDIRECT(CO24) -> 0 | CX24: =INDIRECT(CP24) -> 0 | CY24: =INDIRECT(CQ24) -> 0 | CZ24: =INDIRECT(CR24) -> 0 | DA24: =INDIRECT(CS24) -> 0 | DB24: =INDIRECT(CT24) -> 0 | DC24: =INDIRECT(CU24) -> 0 | DD24: =INDIRECT(CV24) -> 0 | DE24: =IF(SUM(CW24:DC24)<>0, DD24, "") | DG24: =INDIRECT(DK24) -> 0 | DI24: CY | DJ24: =DJ20 -> 8 | DK24: =DI24&DJ24 -> CY8 | DM24: =IF(DT24<>0, DT24, "") | DN24: =IF(DS24<>0, DS24, "") | DP24: Tiedot!AU | DQ24: =DP24&BQ24 -> Tiedot!AU365 | DR24: =DP24&(BQ24-1) -> Tiedot!AU364 | DS24: =INDIRECT(DR24) -> 0 | DT24: =INDIRECT(DQ24) -> 0 | DV24: =IF(EA24<>0, EA24, "") | DW24: =IF(ISERROR(EC24),"",EC24) -> 0 | DX24: Tiedot!AO | DY24: Tiedot!AN | DZ24: =DY24&BQ24 -> Tiedot!AN365 | EA24: =INDIRECT(DZ24) -> 0 | EB24: =DX24&BQ24 -> Tiedot!AO365 | EC24: =INDIRECT(EB24) -> 0 | ED24: Tiedot!AH | EE24: =ED24&BQ24 -> Tiedot!AH365 | EF24: =INDIRECT(EE24) -> 0 | EG24: =IF(EF24>0, EF24, "") | EH24: =IF(BH24>0,IF(ISERROR(INDIRECT(EJ24)),"",INDIRECT(EJ24)),"") -> #REF! | EI24: Tiedot!AM | EJ24: =EI24&BQ24 -> Tiedot!AM365 | EL24: =IFERROR(EH24^1.4*AL24/100, "") | EN24: =EN23+19 -> 363
A25: =A24+1 -> 10 | B25: =AU25 -> 0 | C25: =AV25 -> 0 | D25: =AO25 -> 0 | E25: =AP25 -> 0 | F25: =AQ25 -> 0 | G25: =EG25 | R25: =D25+E25+F25 -> 0 | AC25: =A25 -> 10 | AD25: 20 | AE25: =Tiedot!B382 -> 0 | AF25: =Tiedot!C382 -> 0 | AG25: =Tiedot!D382 -> 0 | AH25: =Tiedot!E382 -> 0 | AI25: =Tiedot!F382 -> 0 | AJ25: =Tiedot!G382 -> 0 | AK25: =Tiedot!H382 -> 0 | AL25: =Tiedot!I382 -> 0 | ... AQ25: =Tiedot!N382 -> 0 | AR25: =INDIRECT("Tiedot!N" & EN25)+INDIRECT("Tiedot!AU" & (EN25+2)) -> 0 | AS25: =SUM(AO25:AR25) -> 0 | AT25: =AT24+AS25 -> 0 | AU25: =INT(AL25/60) -> 0 | AV25: =AL25-AU25*60 -> 0 | AW25: =Tiedot!B383 -> 0 | AX25: =Tiedot!C383 -> 0 | AY25: =Tiedot!D383 -> 0 | AZ25: =Tiedot!E383 -> 0 | BA25: =Tiedot!F383 -> 0 | BB25: =Tiedot!G383 -> 0 | BC25: =Tiedot!H383 -> 0 | BD25: =Tiedot!I383 -> 0 | BF25: =Tiedot!P382 -> 0 | BH25: =IF(SUM(Tiedot!#REF!)>0, Tiedot!#REF!, "") -> #REF! | BJ25: =BP25-12 -> 368 | BK25: =BJ25+2 -> 370 | BL25: =BK25+2 -> 372 | BM25: =BL25+2 -> 374 | BN25: =BM25+2 -> 376 | BO25: =BN25+2 -> 378 | BP25: =BQ25-4 -> 380 | BQ25: =BQ24+19 -> 384 | BS25: =IF(SUM(CC25:CI25)>0,CJ25,"") | BT25: Tiedot!V | BU25: =$BT25&BJ25 -> Tiedot!V368 | BV25: =$BT25&BK25 -> Tiedot!V370 | BW25: =$BT25&BL25 -> Tiedot!V372 | BX25: =$BT25&BM25 -> Tiedot!V374 | BY25: =$BT25&BN25 -> Tiedot!V376 | BZ25: =$BT25&BO25 -> Tiedot!V378 | CA25: =$BT25&BP25 -> Tiedot!V380 | CB25: =$BT25&BQ25 -> Tiedot!V384 | CC25: =INDIRECT(BU25) | CD25: =INDIRECT(BV25) | CE25: =INDIRECT(BW25) | CF25: =INDIRECT(BX25) | CG25: =INDIRECT(BY25) | CH25: =INDIRECT(BZ25) | CI25: =INDIRECT(CA25) | CJ25: =INDIRECT(CB25) | CK25: =CK20 -> 8 | CL25: CF | CM25: =INDIRECT(CL25&CK25) | CN25: Tiedot!AW | CO25: =$CN25&BJ25 -> Tiedot!AW368 | CP25: =$CN25&BK25 -> Tiedot!AW370 | CQ25: =$CN25&BL25 -> Tiedot!AW372 | CR25: =$CN25&BM25 -> Tiedot!AW374 | CS25: =$CN25&BN25 -> Tiedot!AW376 | CT25: =$CN25&BO25 -> Tiedot!AW378 | CU25: =$CN25&BP25 -> Tiedot!AW380 | CV25: =$CN25&BQ25 -> Tiedot!AW384 | CW25: =INDIRECT(CO25) -> 0 | CX25: =INDIRECT(CP25) -> 0 | CY25: =INDIRECT(CQ25) -> 0 | CZ25: =INDIRECT(CR25) -> 0 | DA25: =INDIRECT(CS25) -> 0 | DB25: =INDIRECT(CT25) -> 0 | DC25: =INDIRECT(CU25) -> 0 | DD25: =INDIRECT(CV25) -> 0 | DE25: =IF(SUM(CW25:DC25)<>0, DD25, "") | DG25: =INDIRECT(DK25) -> 0 | DI25: CZ | DJ25: =DJ20 -> 8 | DK25: =DI25&DJ25 -> CZ8 | DM25: =IF(DT25<>0, DT25, "") | DN25: =IF(DS25<>0, DS25, "") | DP25: Tiedot!AU | DQ25: =DP25&BQ25 -> Tiedot!AU384 | DR25: =DP25&(BQ25-1) -> Tiedot!AU383 | DS25: =INDIRECT(DR25) -> 0 | DT25: =INDIRECT(DQ25) -> 0 | DV25: =IF(EA25<>0, EA25, "") | DW25: =IF(ISERROR(EC25),"",EC25) -> 0 | DX25: Tiedot!AO | DY25: Tiedot!AN | DZ25: =DY25&BQ25 -> Tiedot!AN384 | EA25: =INDIRECT(DZ25) -> 0 | EB25: =DX25&BQ25 -> Tiedot!AO384 | EC25: =INDIRECT(EB25) -> 0 | ED25: Tiedot!AH | EE25: =ED25&BQ25 -> Tiedot!AH384 | EF25: =INDIRECT(EE25) -> 0 | EG25: =IF(EF25>0, EF25, "") | EH25: =IF(BH25>0,IF(ISERROR(INDIRECT(EJ25)),"",INDIRECT(EJ25)),"") -> #REF! | EI25: Tiedot!AM | EJ25: =EI25&BQ25 -> Tiedot!AM384 | EL25: =IFERROR(EH25^1.4*AL25/100, "") | EN25: =EN24+19 -> 382
A26: =A25+1 -> 11 | B26: =AU26 -> 0 | C26: =AV26 -> 0 | D26: =AO26 -> 0 | E26: =AP26 -> 0 | F26: =AQ26 -> 0 | G26: =EG26 | R26: =D26+E26+F26 -> 0 | AC26: =A26 -> 11 | AD26: 21 | AE26: =Tiedot!B401 -> 0 | AF26: =Tiedot!C401 -> 0 | AG26: =Tiedot!D401 -> 0 | AH26: =Tiedot!E401 -> 0 | AI26: =Tiedot!F401 -> 0 | AJ26: =Tiedot!G401 -> 0 | AK26: =Tiedot!H401 -> 0 | AL26: =Tiedot!I401 -> 0 | ... AQ26: =Tiedot!N401 -> 0 | AR26: =INDIRECT("Tiedot!N" & EN26)+INDIRECT("Tiedot!AU" & (EN26+2)) -> 0 | AS26: =SUM(AO26:AR26) -> 0 | AT26: =AT25+AS26 -> 0 | AU26: =INT(AL26/60) -> 0 | AV26: =AL26-AU26*60 -> 0 | AW26: =Tiedot!B402 -> 0 | AX26: =Tiedot!C402 -> 0 | AY26: =Tiedot!D402 -> 0 | AZ26: =Tiedot!E402 -> 0 | BA26: =Tiedot!F402 -> 0 | BB26: =Tiedot!G402 -> 0 | BC26: =Tiedot!H402 -> 0 | BD26: =Tiedot!I402 -> 0 | BF26: =Tiedot!P401 -> 0 | BH26: =IF(SUM(Tiedot!#REF!)>0, Tiedot!#REF!, "") -> #REF! | BJ26: =BP26-12 -> 387 | BK26: =BJ26+2 -> 389 | BL26: =BK26+2 -> 391 | BM26: =BL26+2 -> 393 | BN26: =BM26+2 -> 395 | BO26: =BN26+2 -> 397 | BP26: =BQ26-4 -> 399 | BQ26: =BQ25+19 -> 403 | BS26: =IF(SUM(CC26:CI26)>0,CJ26,"") | BT26: Tiedot!V | BU26: =$BT26&BJ26 -> Tiedot!V387 | BV26: =$BT26&BK26 -> Tiedot!V389 | BW26: =$BT26&BL26 -> Tiedot!V391 | BX26: =$BT26&BM26 -> Tiedot!V393 | BY26: =$BT26&BN26 -> Tiedot!V395 | BZ26: =$BT26&BO26 -> Tiedot!V397 | CA26: =$BT26&BP26 -> Tiedot!V399 | CB26: =$BT26&BQ26 -> Tiedot!V403 | CC26: =INDIRECT(BU26) | CD26: =INDIRECT(BV26) | CE26: =INDIRECT(BW26) | CF26: =INDIRECT(BX26) | CG26: =INDIRECT(BY26) | CH26: =INDIRECT(BZ26) | CI26: =INDIRECT(CA26) | CJ26: =INDIRECT(CB26) | CK26: =CK20 -> 8 | CL26: CG | CM26: =INDIRECT(CL26&CK26) | CN26: Tiedot!AW | CO26: =$CN26&BJ26 -> Tiedot!AW387 | CP26: =$CN26&BK26 -> Tiedot!AW389 | CQ26: =$CN26&BL26 -> Tiedot!AW391 | CR26: =$CN26&BM26 -> Tiedot!AW393 | CS26: =$CN26&BN26 -> Tiedot!AW395 | CT26: =$CN26&BO26 -> Tiedot!AW397 | CU26: =$CN26&BP26 -> Tiedot!AW399 | CV26: =$CN26&BQ26 -> Tiedot!AW403 | CW26: =INDIRECT(CO26) -> 0 | CX26: =INDIRECT(CP26) -> 0 | CY26: =INDIRECT(CQ26) -> 0 | CZ26: =INDIRECT(CR26) -> 0 | DA26: =INDIRECT(CS26) -> 0 | DB26: =INDIRECT(CT26) -> 0 | DC26: =INDIRECT(CU26) -> 0 | DD26: =INDIRECT(CV26) -> 0 | DE26: =IF(SUM(CW26:DC26)<>0, DD26, "") | DG26: =INDIRECT(DK26) -> 0 | DI26: DA | DJ26: =DJ20 -> 8 | DK26: =DI26&DJ26 -> DA8 | DM26: =IF(DT26<>0, DT26, "") | DN26: =IF(DS26<>0, DS26, "") | DP26: Tiedot!AU | DQ26: =DP26&BQ26 -> Tiedot!AU403 | DR26: =DP26&(BQ26-1) -> Tiedot!AU402 | DS26: =INDIRECT(DR26) -> 0 | DT26: =INDIRECT(DQ26) -> 0 | DV26: =IF(EA26<>0, EA26, "") | DW26: =IF(ISERROR(EC26),"",EC26) -> 0 | DX26: Tiedot!AO | DY26: Tiedot!AN | DZ26: =DY26&BQ26 -> Tiedot!AN403 | EA26: =INDIRECT(DZ26) -> 0 | EB26: =DX26&BQ26 -> Tiedot!AO403 | EC26: =INDIRECT(EB26) -> 0 | ED26: Tiedot!AH | EE26: =ED26&BQ26 -> Tiedot!AH403 | EF26: =INDIRECT(EE26) -> 0 | EG26: =IF(EF26>0, EF26, "") | EH26: =IF(BH26>0,IF(ISERROR(INDIRECT(EJ26)),"",INDIRECT(EJ26)),"") -> #REF! | EI26: Tiedot!AM | EJ26: =EI26&BQ26 -> Tiedot!AM403 | EL26: =IFERROR(EH26^1.4*AL26/100, "") | EN26: =EN25+19 -> 401
A27: =A26+1 -> 12 | B27: =AU27 -> 0 | C27: =AV27 -> 0 | D27: =AO27 -> 0 | E27: =AP27 -> 0 | F27: =AQ27 -> 0 | G27: =EG27 | R27: =D27+E27+F27 -> 0 | AC27: =A27 -> 12 | AD27: 22 | AE27: =Tiedot!B420 -> 0 | AF27: =Tiedot!C420 -> 0 | AG27: =Tiedot!D420 -> 0 | AH27: =Tiedot!E420 -> 0 | AI27: =Tiedot!F420 -> 0 | AJ27: =Tiedot!G420 -> 0 | AK27: =Tiedot!H420 -> 0 | AL27: =Tiedot!I420 -> 0 | ... AQ27: =Tiedot!N420 -> 0 | AR27: =INDIRECT("Tiedot!N" & EN27)+INDIRECT("Tiedot!AU" & (EN27+2)) -> 0 | AS27: =SUM(AO27:AR27) -> 0 | AT27: =AT26+AS27 -> 0 | AU27: =INT(AL27/60) -> 0 | AV27: =AL27-AU27*60 -> 0 | AW27: =Tiedot!B421 -> 0 | AX27: =Tiedot!C421 -> 0 | AY27: =Tiedot!D421 -> 0 | AZ27: =Tiedot!E421 -> 0 | BA27: =Tiedot!F421 -> 0 | BB27: =Tiedot!G421 -> 0 | BC27: =Tiedot!H421 -> 0 | BD27: =Tiedot!I421 -> 0 | BF27: =Tiedot!P420 -> 0 | BH27: =IF(SUM(Tiedot!#REF!)>0, Tiedot!#REF!, "") -> #REF! | BJ27: =BP27-12 -> 406 | BK27: =BJ27+2 -> 408 | BL27: =BK27+2 -> 410 | BM27: =BL27+2 -> 412 | BN27: =BM27+2 -> 414 | BO27: =BN27+2 -> 416 | BP27: =BQ27-4 -> 418 | BQ27: =BQ26+19 -> 422 | BS27: =IF(SUM(CC27:CI27)>0,CJ27,"") | BT27: Tiedot!V | BU27: =$BT27&BJ27 -> Tiedot!V406 | BV27: =$BT27&BK27 -> Tiedot!V408 | BW27: =$BT27&BL27 -> Tiedot!V410 | BX27: =$BT27&BM27 -> Tiedot!V412 | BY27: =$BT27&BN27 -> Tiedot!V414 | BZ27: =$BT27&BO27 -> Tiedot!V416 | CA27: =$BT27&BP27 -> Tiedot!V418 | CB27: =$BT27&BQ27 -> Tiedot!V422 | CC27: =INDIRECT(BU27) | CD27: =INDIRECT(BV27) | CE27: =INDIRECT(BW27) | CF27: =INDIRECT(BX27) | CG27: =INDIRECT(BY27) | CH27: =INDIRECT(BZ27) | CI27: =INDIRECT(CA27) | CJ27: =INDIRECT(CB27) | CK27: =CK20+1 -> 9 | CL27: CA | CM27: =INDIRECT(CL27&CK27) -> Tiedot!V76 | CN27: Tiedot!AW | CO27: =$CN27&BJ27 -> Tiedot!AW406 | CP27: =$CN27&BK27 -> Tiedot!AW408 | CQ27: =$CN27&BL27 -> Tiedot!AW410 | CR27: =$CN27&BM27 -> Tiedot!AW412 | CS27: =$CN27&BN27 -> Tiedot!AW414 | CT27: =$CN27&BO27 -> Tiedot!AW416 | CU27: =$CN27&BP27 -> Tiedot!AW418 | CV27: =$CN27&BQ27 -> Tiedot!AW422 | CW27: =INDIRECT(CO27) -> 0 | CX27: =INDIRECT(CP27) -> 0 | CY27: =INDIRECT(CQ27) -> 0 | CZ27: =INDIRECT(CR27) -> 0 | DA27: =INDIRECT(CS27) -> 0 | DB27: =INDIRECT(CT27) -> 0 | DC27: =INDIRECT(CU27) -> 0 | DD27: =INDIRECT(CV27) -> 0 | DE27: =IF(SUM(CW27:DC27)<>0, DD27, "") | DG27: =INDIRECT(DK27) -> Tiedot!AW76 | DI27: CU | DJ27: =DJ20+1 -> 9 | DK27: =DI27&DJ27 -> CU9 | DM27: =IF(DT27<>0, DT27, "") | DN27: =IF(DS27<>0, DS27, "") | DP27: Tiedot!AU | DQ27: =DP27&BQ27 -> Tiedot!AU422 | DR27: =DP27&(BQ27-1) -> Tiedot!AU421 | DS27: =INDIRECT(DR27) -> 0 | DT27: =INDIRECT(DQ27) -> 0 | DV27: =IF(EA27<>0, EA27, "") | DW27: =IF(ISERROR(EC27),"",EC27) -> 0 | DX27: Tiedot!AO | DY27: Tiedot!AN | DZ27: =DY27&BQ27 -> Tiedot!AN422 | EA27: =INDIRECT(DZ27) -> 0 | EB27: =DX27&BQ27 -> Tiedot!AO422 | EC27: =INDIRECT(EB27) -> 0 | ED27: Tiedot!AH | EE27: =ED27&BQ27 -> Tiedot!AH422 | EF27: =INDIRECT(EE27) -> 0 | EG27: =IF(EF27>0, EF27, "") | EH27: =IF(BH27>0,IF(ISERROR(INDIRECT(EJ27)),"",INDIRECT(EJ27)),"") -> #REF! | EI27: Tiedot!AM | EJ27: =EI27&BQ27 -> Tiedot!AM422 | EL27: =IFERROR(EH27^1.4*AL27/100, "") | EN27: =EN26+19 -> 420
A28: =A27+1 -> 13 | B28: =AU28 -> 0 | C28: =AV28 -> 0 | D28: =AO28 -> 0 | E28: =AP28 -> 0 | F28: =AQ28 -> 0 | G28: =EG28 | R28: =D28+E28+F28 -> 0 | AC28: =A28 -> 13 | AD28: 23 | AE28: =Tiedot!B439 -> 0 | AF28: =Tiedot!C439 -> 0 | AG28: =Tiedot!D439 -> 0 | AH28: =Tiedot!E439 -> 0 | AI28: =Tiedot!F439 -> 0 | AJ28: =Tiedot!G439 -> 0 | AK28: =Tiedot!H439 -> 0 | AL28: =Tiedot!I439 -> 0 | ... AQ28: =Tiedot!N439 -> 0 | AR28: =INDIRECT("Tiedot!N" & EN28)+INDIRECT("Tiedot!AU" & (EN28+2)) -> 0 | AS28: =SUM(AO28:AR28) -> 0 | AT28: =AT27+AS28 -> 0 | AU28: =INT(AL28/60) -> 0 | AV28: =AL28-AU28*60 -> 0 | AW28: =Tiedot!B440 -> 0 | AX28: =Tiedot!C440 -> 0 | AY28: =Tiedot!D440 -> 0 | AZ28: =Tiedot!E440 -> 0 | BA28: =Tiedot!F440 -> 0 | BB28: =Tiedot!G440 -> 0 | BC28: =Tiedot!H440 -> 0 | BD28: =Tiedot!I440 -> 0 | BF28: =Tiedot!P439 -> 0 | BH28: =IF(SUM(Tiedot!#REF!)>0, Tiedot!#REF!, "") -> #REF! | BJ28: =BP28-12 -> 425 | BK28: =BJ28+2 -> 427 | BL28: =BK28+2 -> 429 | BM28: =BL28+2 -> 431 | BN28: =BM28+2 -> 433 | BO28: =BN28+2 -> 435 | BP28: =BQ28-4 -> 437 | BQ28: =BQ27+19 -> 441 | BS28: =IF(SUM(CC28:CI28)>0,CJ28,"") | BT28: Tiedot!V | BU28: =$BT28&BJ28 -> Tiedot!V425 | BV28: =$BT28&BK28 -> Tiedot!V427 | BW28: =$BT28&BL28 -> Tiedot!V429 | BX28: =$BT28&BM28 -> Tiedot!V431 | BY28: =$BT28&BN28 -> Tiedot!V433 | BZ28: =$BT28&BO28 -> Tiedot!V435 | CA28: =$BT28&BP28 -> Tiedot!V437 | CB28: =$BT28&BQ28 -> Tiedot!V441 | CC28: =INDIRECT(BU28) | CD28: =INDIRECT(BV28) | CE28: =INDIRECT(BW28) | CF28: =INDIRECT(BX28) | CG28: =INDIRECT(BY28) | CH28: =INDIRECT(BZ28) | CI28: =INDIRECT(CA28) | CJ28: =INDIRECT(CB28) | CK28: =CK27 -> 9 | CL28: CB | CM28: =INDIRECT(CL28&CK28) -> Tiedot!V80 | CN28: Tiedot!AW | CO28: =$CN28&BJ28 -> Tiedot!AW425 | CP28: =$CN28&BK28 -> Tiedot!AW427 | CQ28: =$CN28&BL28 -> Tiedot!AW429 | CR28: =$CN28&BM28 -> Tiedot!AW431 | CS28: =$CN28&BN28 -> Tiedot!AW433 | CT28: =$CN28&BO28 -> Tiedot!AW435 | CU28: =$CN28&BP28 -> Tiedot!AW437 | CV28: =$CN28&BQ28 -> Tiedot!AW441 | CW28: =INDIRECT(CO28) -> 0 | CX28: =INDIRECT(CP28) -> 0 | CY28: =INDIRECT(CQ28) -> 0 | CZ28: =INDIRECT(CR28) -> 0 | DA28: =INDIRECT(CS28) -> 0 | DB28: =INDIRECT(CT28) -> 0 | DC28: =INDIRECT(CU28) -> 0 | DD28: =INDIRECT(CV28) -> 0 | DE28: =IF(SUM(CW28:DC28)<>0, DD28, "") | DG28: =INDIRECT(DK28) -> Tiedot!AW80 | DI28: CV | DJ28: =DJ27 -> 9 | DK28: =DI28&DJ28 -> CV9 | DM28: =IF(DT28<>0, DT28, "") | DN28: =IF(DS28<>0, DS28, "") | DP28: Tiedot!AU | DQ28: =DP28&BQ28 -> Tiedot!AU441 | DR28: =DP28&(BQ28-1) -> Tiedot!AU440 | DS28: =INDIRECT(DR28) -> 0 | DT28: =INDIRECT(DQ28) -> 0 | DV28: =IF(EA28<>0, EA28, "") | DW28: =IF(ISERROR(EC28),"",EC28) -> 0 | DX28: Tiedot!AO | DY28: Tiedot!AN | DZ28: =DY28&BQ28 -> Tiedot!AN441 | EA28: =INDIRECT(DZ28) -> 0 | EB28: =DX28&BQ28 -> Tiedot!AO441 | EC28: =INDIRECT(EB28) -> 0 | ED28: Tiedot!AH | EE28: =ED28&BQ28 -> Tiedot!AH441 | EF28: =INDIRECT(EE28) -> 0 | EG28: =IF(EF28>0, EF28, "") | EH28: =IF(BH28>0,IF(ISERROR(INDIRECT(EJ28)),"",INDIRECT(EJ28)),"") -> #REF! | EI28: Tiedot!AM | EJ28: =EI28&BQ28 -> Tiedot!AM441 | EL28: =IFERROR(EH28^1.4*AL28/100, "") | EN28: =EN27+19 -> 439
A29: =A28+1 -> 14 | B29: =AU29 -> 0 | C29: =AV29 -> 0 | D29: =AO29 -> 0 | E29: =AP29 -> 0 | F29: =AQ29 -> 0 | G29: =EG29 | R29: =D29+E29+F29 -> 0 | AC29: =A29 -> 14 | AD29: 24 | AE29: =Tiedot!B458 -> 0 | AF29: =Tiedot!C458 -> 0 | AG29: =Tiedot!D458 -> 0 | AH29: =Tiedot!E458 -> 0 | AI29: =Tiedot!F458 -> 0 | AJ29: =Tiedot!G458 -> 0 | AK29: =Tiedot!H458 -> 0 | AL29: =Tiedot!I458 -> 0 | ... AQ29: =Tiedot!N458 -> 0 | AR29: =INDIRECT("Tiedot!N" & EN29)+INDIRECT("Tiedot!AU" & (EN29+2)) -> 0 | AS29: =SUM(AO29:AR29) -> 0 | AT29: =AT28+AS29 -> 0 | AU29: =INT(AL29/60) -> 0 | AV29: =AL29-AU29*60 -> 0 | AW29: =Tiedot!B459 -> 0 | AX29: =Tiedot!C459 -> 0 | AY29: =Tiedot!D459 -> 0 | AZ29: =Tiedot!E459 -> 0 | BA29: =Tiedot!F459 -> 0 | BB29: =Tiedot!G459 -> 0 | BC29: =Tiedot!H459 -> 0 | BD29: =Tiedot!I459 -> 0 | BF29: =Tiedot!P458 -> 0 | BH29: =IF(SUM(Tiedot!#REF!)>0, Tiedot!#REF!, "") -> #REF! | BJ29: =BP29-12 -> 444 | BK29: =BJ29+2 -> 446 | BL29: =BK29+2 -> 448 | BM29: =BL29+2 -> 450 | BN29: =BM29+2 -> 452 | BO29: =BN29+2 -> 454 | BP29: =BQ29-4 -> 456 | BQ29: =BQ28+19 -> 460 | BS29: =IF(SUM(CC29:CI29)>0,CJ29,"") | BT29: Tiedot!V | BU29: =$BT29&BJ29 -> Tiedot!V444 | BV29: =$BT29&BK29 -> Tiedot!V446 | BW29: =$BT29&BL29 -> Tiedot!V448 | BX29: =$BT29&BM29 -> Tiedot!V450 | BY29: =$BT29&BN29 -> Tiedot!V452 | BZ29: =$BT29&BO29 -> Tiedot!V454 | CA29: =$BT29&BP29 -> Tiedot!V456 | CB29: =$BT29&BQ29 -> Tiedot!V460 | CC29: =INDIRECT(BU29) | CD29: =INDIRECT(BV29) | CE29: =INDIRECT(BW29) | CF29: =INDIRECT(BX29) | CG29: =INDIRECT(BY29) | CH29: =INDIRECT(BZ29) | CI29: =INDIRECT(CA29) | CJ29: =INDIRECT(CB29) | CK29: =CK27 -> 9 | CL29: CC | CM29: =INDIRECT(CL29&CK29) | CN29: Tiedot!AW | CO29: =$CN29&BJ29 -> Tiedot!AW444 | CP29: =$CN29&BK29 -> Tiedot!AW446 | CQ29: =$CN29&BL29 -> Tiedot!AW448 | CR29: =$CN29&BM29 -> Tiedot!AW450 | CS29: =$CN29&BN29 -> Tiedot!AW452 | CT29: =$CN29&BO29 -> Tiedot!AW454 | CU29: =$CN29&BP29 -> Tiedot!AW456 | CV29: =$CN29&BQ29 -> Tiedot!AW460 | CW29: =INDIRECT(CO29) -> 0 | CX29: =INDIRECT(CP29) -> 0 | CY29: =INDIRECT(CQ29) -> 0 | CZ29: =INDIRECT(CR29) -> 0 | DA29: =INDIRECT(CS29) -> 0 | DB29: =INDIRECT(CT29) -> 0 | DC29: =INDIRECT(CU29) -> 0 | DD29: =INDIRECT(CV29) -> 0 | DE29: =IF(SUM(CW29:DC29)<>0, DD29, "") | DG29: =INDIRECT(DK29) -> 0 | DI29: CW | DJ29: =DJ27 -> 9 | DK29: =DI29&DJ29 -> CW9 | DM29: =IF(DT29<>0, DT29, "") | DN29: =IF(DS29<>0, DS29, "") | DP29: Tiedot!AU | DQ29: =DP29&BQ29 -> Tiedot!AU460 | DR29: =DP29&(BQ29-1) -> Tiedot!AU459 | DS29: =INDIRECT(DR29) -> 0 | DT29: =INDIRECT(DQ29) -> 0 | DV29: =IF(EA29<>0, EA29, "") | DW29: =IF(ISERROR(EC29),"",EC29) -> 0 | DX29: Tiedot!AO | DY29: Tiedot!AN | DZ29: =DY29&BQ29 -> Tiedot!AN460 | EA29: =INDIRECT(DZ29) -> 0 | EB29: =DX29&BQ29 -> Tiedot!AO460 | EC29: =INDIRECT(EB29) -> 0 | ED29: Tiedot!AH | EE29: =ED29&BQ29 -> Tiedot!AH460 | EF29: =INDIRECT(EE29) -> 0 | EG29: =IF(EF29>0, EF29, "") | EH29: =IF(BH29>0,IF(ISERROR(INDIRECT(EJ29)),"",INDIRECT(EJ29)),"") -> #REF! | EI29: Tiedot!AM | EJ29: =EI29&BQ29 -> Tiedot!AM460 | EL29: =IFERROR(EH29^1.4*AL29/100, "") | EN29: =EN28+19 -> 458
A30: =A29+1 -> 15 | B30: =AU30 -> 0 | C30: =AV30 -> 0 | D30: =AO30 -> 0 | E30: =AP30 -> 0 | F30: =AQ30 -> 0 | G30: =EG30 | R30: =D30+E30+F30 -> 0 | AC30: =A30 -> 15 | AD30: 25 | AE30: =Tiedot!B477 -> 0 | AF30: =Tiedot!C477 -> 0 | AG30: =Tiedot!D477 -> 0 | AH30: =Tiedot!E477 -> 0 | AI30: =Tiedot!F477 -> 0 | AJ30: =Tiedot!G477 -> 0 | AK30: =Tiedot!H477 -> 0 | AL30: =Tiedot!I477 -> 0 | ... AQ30: =Tiedot!N477 -> 0 | AR30: =INDIRECT("Tiedot!N" & EN30)+INDIRECT("Tiedot!AU" & (EN30+2)) -> 0 | AS30: =SUM(AO30:AR30) -> 0 | AT30: =AT29+AS30 -> 0 | AU30: =INT(AL30/60) -> 0 | AV30: =AL30-AU30*60 -> 0 | AW30: =Tiedot!B478 -> 0 | AX30: =Tiedot!C478 -> 0 | AY30: =Tiedot!D478 -> 0 | AZ30: =Tiedot!E478 -> 0 | BA30: =Tiedot!F478 -> 0 | BB30: =Tiedot!G478 -> 0 | BC30: =Tiedot!H478 -> 0 | BD30: =Tiedot!I478 -> 0 | BF30: =Tiedot!P477 -> 0 | BH30: =IF(SUM(Tiedot!#REF!)>0, Tiedot!#REF!, "") -> #REF! | BJ30: =BP30-12 -> 463 | BK30: =BJ30+2 -> 465 | BL30: =BK30+2 -> 467 | BM30: =BL30+2 -> 469 | BN30: =BM30+2 -> 471 | BO30: =BN30+2 -> 473 | BP30: =BQ30-4 -> 475 | BQ30: =BQ29+19 -> 479 | BS30: =IF(SUM(CC30:CI30)>0,CJ30,"") | BT30: Tiedot!V | BU30: =$BT30&BJ30 -> Tiedot!V463 | BV30: =$BT30&BK30 -> Tiedot!V465 | BW30: =$BT30&BL30 -> Tiedot!V467 | BX30: =$BT30&BM30 -> Tiedot!V469 | BY30: =$BT30&BN30 -> Tiedot!V471 | BZ30: =$BT30&BO30 -> Tiedot!V473 | CA30: =$BT30&BP30 -> Tiedot!V475 | CB30: =$BT30&BQ30 -> Tiedot!V479 | CC30: =INDIRECT(BU30) | CD30: =INDIRECT(BV30) | CE30: =INDIRECT(BW30) | CF30: =INDIRECT(BX30) | CG30: =INDIRECT(BY30) | CH30: =INDIRECT(BZ30) | CI30: =INDIRECT(CA30) | CJ30: =INDIRECT(CB30) | CK30: =CK27 -> 9 | CL30: CD | CM30: =INDIRECT(CL30&CK30) | CN30: Tiedot!AW | CO30: =$CN30&BJ30 -> Tiedot!AW463 | CP30: =$CN30&BK30 -> Tiedot!AW465 | CQ30: =$CN30&BL30 -> Tiedot!AW467 | CR30: =$CN30&BM30 -> Tiedot!AW469 | CS30: =$CN30&BN30 -> Tiedot!AW471 | CT30: =$CN30&BO30 -> Tiedot!AW473 | CU30: =$CN30&BP30 -> Tiedot!AW475 | CV30: =$CN30&BQ30 -> Tiedot!AW479 | CW30: =INDIRECT(CO30) -> 0 | CX30: =INDIRECT(CP30) -> 0 | CY30: =INDIRECT(CQ30) -> 0 | CZ30: =INDIRECT(CR30) -> 0 | DA30: =INDIRECT(CS30) -> 0 | DB30: =INDIRECT(CT30) -> 0 | DC30: =INDIRECT(CU30) -> 0 | DD30: =INDIRECT(CV30) -> 0 | DE30: =IF(SUM(CW30:DC30)<>0, DD30, "") | DG30: =INDIRECT(DK30) -> 0 | DI30: CX | DJ30: =DJ27 -> 9 | DK30: =DI30&DJ30 -> CX9 | DM30: =IF(DT30<>0, DT30, "") | DN30: =IF(DS30<>0, DS30, "") | DP30: Tiedot!AU | DQ30: =DP30&BQ30 -> Tiedot!AU479 | DR30: =DP30&(BQ30-1) -> Tiedot!AU478 | DS30: =INDIRECT(DR30) -> 0 | DT30: =INDIRECT(DQ30) -> 0 | DV30: =IF(EA30<>0, EA30, "") | DW30: =IF(ISERROR(EC30),"",EC30) -> 0 | DX30: Tiedot!AO | DY30: Tiedot!AN | DZ30: =DY30&BQ30 -> Tiedot!AN479 | EA30: =INDIRECT(DZ30) -> 0 | EB30: =DX30&BQ30 -> Tiedot!AO479 | EC30: =INDIRECT(EB30) -> 0 | ED30: Tiedot!AH | EE30: =ED30&BQ30 -> Tiedot!AH479 | EF30: =INDIRECT(EE30) -> 0 | EG30: =IF(EF30>0, EF30, "") | EH30: =IF(BH30>0,IF(ISERROR(INDIRECT(EJ30)),"",INDIRECT(EJ30)),"") -> #REF! | EI30: Tiedot!AM | EJ30: =EI30&BQ30 -> Tiedot!AM479 | EL30: =IFERROR(EH30^1.4*AL30/100, "") | EN30: =EN29+19 -> 477
A31: =A30+1 -> 16 | B31: =AU31 -> 0 | C31: =AV31 -> 0 | D31: =AO31 -> 0 | E31: =AP31 -> 0 | F31: =AQ31 -> 0 | G31: =EG31 | R31: =D31+E31+F31 -> 0 | AC31: =A31 -> 16 | AD31: 26 | AE31: =Tiedot!B496 -> 0 | AF31: =Tiedot!C496 -> 0 | AG31: =Tiedot!D496 -> 0 | AH31: =Tiedot!E496 -> 0 | AI31: =Tiedot!F496 -> 0 | AJ31: =Tiedot!G496 -> 0 | AK31: =Tiedot!H496 -> 0 | AL31: =Tiedot!I496 -> 0 | ... AQ31: =Tiedot!N496 -> 0 | AR31: =INDIRECT("Tiedot!N" & EN31)+INDIRECT("Tiedot!AU" & (EN31+2)) -> 0 | AS31: =SUM(AO31:AR31) -> 0 | AT31: =AT30+AS31 -> 0 | AU31: =INT(AL31/60) -> 0 | AV31: =AL31-AU31*60 -> 0 | AW31: =Tiedot!B497 -> 0 | AX31: =Tiedot!C497 -> 0 | AY31: =Tiedot!D497 -> 0 | AZ31: =Tiedot!E497 -> 0 | BA31: =Tiedot!F497 -> 0 | BB31: =Tiedot!G497 -> 0 | BC31: =Tiedot!H497 -> 0 | BD31: =Tiedot!I497 -> 0 | BF31: =Tiedot!P496 -> 0 | BH31: =IF(SUM(Tiedot!#REF!)>0, Tiedot!#REF!, "") -> #REF! | BJ31: =BP31-12 -> 482 | BK31: =BJ31+2 -> 484 | BL31: =BK31+2 -> 486 | BM31: =BL31+2 -> 488 | BN31: =BM31+2 -> 490 | BO31: =BN31+2 -> 492 | BP31: =BQ31-4 -> 494 | BQ31: =BQ30+19 -> 498 | BS31: =IF(SUM(CC31:CI31)>0,CJ31,"") | BT31: Tiedot!V | BU31: =$BT31&BJ31 -> Tiedot!V482 | BV31: =$BT31&BK31 -> Tiedot!V484 | BW31: =$BT31&BL31 -> Tiedot!V486 | BX31: =$BT31&BM31 -> Tiedot!V488 | BY31: =$BT31&BN31 -> Tiedot!V490 | BZ31: =$BT31&BO31 -> Tiedot!V492 | CA31: =$BT31&BP31 -> Tiedot!V494 | CB31: =$BT31&BQ31 -> Tiedot!V498 | CC31: =INDIRECT(BU31) | CD31: =INDIRECT(BV31) | CE31: =INDIRECT(BW31) | CF31: =INDIRECT(BX31) | CG31: =INDIRECT(BY31) | CH31: =INDIRECT(BZ31) | CI31: =INDIRECT(CA31) | CJ31: =INDIRECT(CB31) | CK31: =CK27 -> 9 | CL31: CE | CM31: =INDIRECT(CL31&CK31) | CN31: Tiedot!AW | CO31: =$CN31&BJ31 -> Tiedot!AW482 | CP31: =$CN31&BK31 -> Tiedot!AW484 | CQ31: =$CN31&BL31 -> Tiedot!AW486 | CR31: =$CN31&BM31 -> Tiedot!AW488 | CS31: =$CN31&BN31 -> Tiedot!AW490 | CT31: =$CN31&BO31 -> Tiedot!AW492 | CU31: =$CN31&BP31 -> Tiedot!AW494 | CV31: =$CN31&BQ31 -> Tiedot!AW498 | CW31: =INDIRECT(CO31) -> 0 | CX31: =INDIRECT(CP31) -> 0 | CY31: =INDIRECT(CQ31) -> 0 | CZ31: =INDIRECT(CR31) -> 0 | DA31: =INDIRECT(CS31) -> 0 | DB31: =INDIRECT(CT31) -> 0 | DC31: =INDIRECT(CU31) -> 0 | DD31: =INDIRECT(CV31) -> 0 | DE31: =IF(SUM(CW31:DC31)<>0, DD31, "") | DG31: =INDIRECT(DK31) -> 0 | DI31: CY | DJ31: =DJ27 -> 9 | DK31: =DI31&DJ31 -> CY9 | DM31: =IF(DT31<>0, DT31, "") | DN31: =IF(DS31<>0, DS31, "") | DP31: Tiedot!AU | DQ31: =DP31&BQ31 -> Tiedot!AU498 | DR31: =DP31&(BQ31-1) -> Tiedot!AU497 | DS31: =INDIRECT(DR31) -> 0 | DT31: =INDIRECT(DQ31) -> 0 | DV31: =IF(EA31<>0, EA31, "") | DW31: =IF(ISERROR(EC31),"",EC31) -> 0 | DX31: Tiedot!AO | DY31: Tiedot!AN | DZ31: =DY31&BQ31 -> Tiedot!AN498 | EA31: =INDIRECT(DZ31) -> 0 | EB31: =DX31&BQ31 -> Tiedot!AO498 | EC31: =INDIRECT(EB31) -> 0 | ED31: Tiedot!AH | EE31: =ED31&BQ31 -> Tiedot!AH498 | EF31: =INDIRECT(EE31) -> 0 | EG31: =IF(EF31>0, EF31, "") | EH31: =IF(BH31>0,IF(ISERROR(INDIRECT(EJ31)),"",INDIRECT(EJ31)),"") -> #REF! | EI31: Tiedot!AM | EJ31: =EI31&BQ31 -> Tiedot!AM498 | EL31: =IFERROR(EH31^1.4*AL31/100, "") | EN31: =EN30+19 -> 496
A32: =A31+1 -> 17 | B32: =AU32 -> 0 | C32: =AV32 -> 0 | D32: =AO32 -> 0 | E32: =AP32 -> 0 | F32: =AQ32 -> 0 | G32: =EG32 | R32: =D32+E32+F32 -> 0 | AC32: =A32 -> 17 | AD32: 27 | AE32: =Tiedot!B515 -> 0 | AF32: =Tiedot!C515 -> 0 | AG32: =Tiedot!D515 -> 0 | AH32: =Tiedot!E515 -> 0 | AI32: =Tiedot!F515 -> 0 | AJ32: =Tiedot!G515 -> 0 | AK32: =Tiedot!H515 -> 0 | AL32: =Tiedot!I515 -> 0 | ... AQ32: =Tiedot!N515 -> 0 | AR32: =INDIRECT("Tiedot!N" & EN32)+INDIRECT("Tiedot!AU" & (EN32+2)) -> 0 | AS32: =SUM(AO32:AR32) -> 0 | AT32: =AT31+AS32 -> 0 | AU32: =INT(AL32/60) -> 0 | AV32: =AL32-AU32*60 -> 0 | AW32: =Tiedot!B516 -> 0 | AX32: =Tiedot!C516 -> 0 | AY32: =Tiedot!D516 -> 0 | AZ32: =Tiedot!E516 -> 0 | BA32: =Tiedot!F516 -> 0 | BB32: =Tiedot!G516 -> 0 | BC32: =Tiedot!H516 -> 0 | BD32: =Tiedot!I516 -> 0 | BF32: =Tiedot!P515 -> 0 | BH32: =IF(SUM(Tiedot!#REF!)>0, Tiedot!#REF!, "") -> #REF! | BJ32: =BP32-12 -> 501 | BK32: =BJ32+2 -> 503 | BL32: =BK32+2 -> 505 | BM32: =BL32+2 -> 507 | BN32: =BM32+2 -> 509 | BO32: =BN32+2 -> 511 | BP32: =BQ32-4 -> 513 | BQ32: =BQ31+19 -> 517 | BS32: =IF(SUM(CC32:CI32)>0,CJ32,"") | BT32: Tiedot!V | BU32: =$BT32&BJ32 -> Tiedot!V501 | BV32: =$BT32&BK32 -> Tiedot!V503 | BW32: =$BT32&BL32 -> Tiedot!V505 | BX32: =$BT32&BM32 -> Tiedot!V507 | BY32: =$BT32&BN32 -> Tiedot!V509 | BZ32: =$BT32&BO32 -> Tiedot!V511 | CA32: =$BT32&BP32 -> Tiedot!V513 | CB32: =$BT32&BQ32 -> Tiedot!V517 | CC32: =INDIRECT(BU32) | CD32: =INDIRECT(BV32) | CE32: =INDIRECT(BW32) | CF32: =INDIRECT(BX32) | CG32: =INDIRECT(BY32) | CH32: =INDIRECT(BZ32) | CI32: =INDIRECT(CA32) | CJ32: =INDIRECT(CB32) | CK32: =CK27 -> 9 | CL32: CF | CM32: =INDIRECT(CL32&CK32) | CN32: Tiedot!AW | CO32: =$CN32&BJ32 -> Tiedot!AW501 | CP32: =$CN32&BK32 -> Tiedot!AW503 | CQ32: =$CN32&BL32 -> Tiedot!AW505 | CR32: =$CN32&BM32 -> Tiedot!AW507 | CS32: =$CN32&BN32 -> Tiedot!AW509 | CT32: =$CN32&BO32 -> Tiedot!AW511 | CU32: =$CN32&BP32 -> Tiedot!AW513 | CV32: =$CN32&BQ32 -> Tiedot!AW517 | CW32: =INDIRECT(CO32) -> 0 | CX32: =INDIRECT(CP32) -> 0 | CY32: =INDIRECT(CQ32) -> 0 | CZ32: =INDIRECT(CR32) -> 0 | DA32: =INDIRECT(CS32) -> 0 | DB32: =INDIRECT(CT32) -> 0 | DC32: =INDIRECT(CU32) -> 0 | DD32: =INDIRECT(CV32) -> 0 | DE32: =IF(SUM(CW32:DC32)<>0, DD32, "") | DG32: =INDIRECT(DK32) -> 0 | DI32: CZ | DJ32: =DJ27 -> 9 | DK32: =DI32&DJ32 -> CZ9 | DM32: =IF(DT32<>0, DT32, "") | DN32: =IF(DS32<>0, DS32, "") | DP32: Tiedot!AU | DQ32: =DP32&BQ32 -> Tiedot!AU517 | DR32: =DP32&(BQ32-1) -> Tiedot!AU516 | DS32: =INDIRECT(DR32) -> 0 | DT32: =INDIRECT(DQ32) -> 0 | DV32: =IF(EA32<>0, EA32, "") | DW32: =IF(ISERROR(EC32),"",EC32) -> 0 | DX32: Tiedot!AO | DY32: Tiedot!AN | DZ32: =DY32&BQ32 -> Tiedot!AN517 | EA32: =INDIRECT(DZ32) -> 0 | EB32: =DX32&BQ32 -> Tiedot!AO517 | EC32: =INDIRECT(EB32) -> 0 | ED32: Tiedot!AH | EE32: =ED32&BQ32 -> Tiedot!AH517 | EF32: =INDIRECT(EE32) -> 0 | EG32: =IF(EF32>0, EF32, "") | EH32: =IF(BH32>0,IF(ISERROR(INDIRECT(EJ32)),"",INDIRECT(EJ32)),"") -> #REF! | EI32: Tiedot!AM | EJ32: =EI32&BQ32 -> Tiedot!AM517 | EL32: =IFERROR(EH32^1.4*AL32/100, "") | EN32: =EN31+19 -> 515
A33: =A32+1 -> 18 | B33: =AU33 -> 0 | C33: =AV33 -> 0 | D33: =AO33 -> 0 | E33: =AP33 -> 0 | F33: =AQ33 -> 0 | G33: =EG33 | R33: =D33+E33+F33 -> 0 | AC33: =A33 -> 18 | AD33: 28 | AE33: =Tiedot!B534 -> 0 | AF33: =Tiedot!C534 -> 0 | AG33: =Tiedot!D534 -> 0 | AH33: =Tiedot!E534 -> 0 | AI33: =Tiedot!F534 -> 0 | AJ33: =Tiedot!G534 -> 0 | AK33: =Tiedot!H534 -> 0 | AL33: =Tiedot!I534 -> 0 | ... AQ33: =Tiedot!N534 -> 0 | AR33: =INDIRECT("Tiedot!N" & EN33)+INDIRECT("Tiedot!AU" & (EN33+2)) -> 0 | AS33: =SUM(AO33:AR33) -> 0 | AT33: =AT32+AS33 -> 0 | AU33: =INT(AL33/60) -> 0 | AV33: =AL33-AU33*60 -> 0 | AW33: =Tiedot!B535 -> 0 | AX33: =Tiedot!C535 -> 0 | AY33: =Tiedot!D535 -> 0 | AZ33: =Tiedot!E535 -> 0 | BA33: =Tiedot!F535 -> 0 | BB33: =Tiedot!G535 -> 0 | BC33: =Tiedot!H535 -> 0 | BD33: =Tiedot!I535 -> 0 | BF33: =Tiedot!P534 -> 0 | BH33: =IF(SUM(Tiedot!#REF!)>0, Tiedot!#REF!, "") -> #REF! | BJ33: =BP33-12 -> 520 | BK33: =BJ33+2 -> 522 | BL33: =BK33+2 -> 524 | BM33: =BL33+2 -> 526 | BN33: =BM33+2 -> 528 | BO33: =BN33+2 -> 530 | BP33: =BQ33-4 -> 532 | BQ33: =BQ32+19 -> 536 | BS33: =IF(SUM(CC33:CI33)>0,CJ33,"") | BT33: Tiedot!V | BU33: =$BT33&BJ33 -> Tiedot!V520 | BV33: =$BT33&BK33 -> Tiedot!V522 | BW33: =$BT33&BL33 -> Tiedot!V524 | BX33: =$BT33&BM33 -> Tiedot!V526 | BY33: =$BT33&BN33 -> Tiedot!V528 | BZ33: =$BT33&BO33 -> Tiedot!V530 | CA33: =$BT33&BP33 -> Tiedot!V532 | CB33: =$BT33&BQ33 -> Tiedot!V536 | CC33: =INDIRECT(BU33) | CD33: =INDIRECT(BV33) | CE33: =INDIRECT(BW33) | CF33: =INDIRECT(BX33) | CG33: =INDIRECT(BY33) | CH33: =INDIRECT(BZ33) | CI33: =INDIRECT(CA33) | CJ33: =INDIRECT(CB33) | CK33: =CK27 -> 9 | CL33: CG | CM33: =INDIRECT(CL33&CK33) | CN33: Tiedot!AW | CO33: =$CN33&BJ33 -> Tiedot!AW520 | CP33: =$CN33&BK33 -> Tiedot!AW522 | CQ33: =$CN33&BL33 -> Tiedot!AW524 | CR33: =$CN33&BM33 -> Tiedot!AW526 | CS33: =$CN33&BN33 -> Tiedot!AW528 | CT33: =$CN33&BO33 -> Tiedot!AW530 | CU33: =$CN33&BP33 -> Tiedot!AW532 | CV33: =$CN33&BQ33 -> Tiedot!AW536 | CW33: =INDIRECT(CO33) -> 0 | CX33: =INDIRECT(CP33) -> 0 | CY33: =INDIRECT(CQ33) -> 0 | CZ33: =INDIRECT(CR33) -> 0 | DA33: =INDIRECT(CS33) -> 0 | DB33: =INDIRECT(CT33) -> 0 | DC33: =INDIRECT(CU33) -> 0 | DD33: =INDIRECT(CV33) -> 0 | DE33: =IF(SUM(CW33:DC33)<>0, DD33, "") | DG33: =INDIRECT(DK33) -> 0 | DI33: DA | DJ33: =DJ27 -> 9 | DK33: =DI33&DJ33 -> DA9 | DM33: =IF(DT33<>0, DT33, "") | DN33: =IF(DS33<>0, DS33, "") | DP33: Tiedot!AU | DQ33: =DP33&BQ33 -> Tiedot!AU536 | DR33: =DP33&(BQ33-1) -> Tiedot!AU535 | DS33: =INDIRECT(DR33) -> 0 | DT33: =INDIRECT(DQ33) -> 0 | DV33: =IF(EA33<>0, EA33, "") | DW33: =IF(ISERROR(EC33),"",EC33) -> 0 | DX33: Tiedot!AO | DY33: Tiedot!AN | DZ33: =DY33&BQ33 -> Tiedot!AN536 | EA33: =INDIRECT(DZ33) -> 0 | EB33: =DX33&BQ33 -> Tiedot!AO536 | EC33: =INDIRECT(EB33) -> 0 | ED33: Tiedot!AH | EE33: =ED33&BQ33 -> Tiedot!AH536 | EF33: =INDIRECT(EE33) -> 0 | EG33: =IF(EF33>0, EF33, "") | EH33: =IF(BH33>0,IF(ISERROR(INDIRECT(EJ33)),"",INDIRECT(EJ33)),"") -> #REF! | EI33: Tiedot!AM | EJ33: =EI33&BQ33 -> Tiedot!AM536 | EL33: =IFERROR(EH33^1.4*AL33/100, "") | EN33: =EN32+19 -> 534
A34: =A33+1 -> 19 | B34: =AU34 -> 0 | C34: =AV34 -> 0 | D34: =AO34 -> 0 | E34: =AP34 -> 0 | F34: =AQ34 -> 0 | G34: =EG34 | R34: =D34+E34+F34 -> 0 | AC34: =A34 -> 19 | AD34: 29 | AE34: =Tiedot!B553 -> 0 | AF34: =Tiedot!C553 -> 0 | AG34: =Tiedot!D553 -> 0 | AH34: =Tiedot!E553 -> 0 | AI34: =Tiedot!F553 -> 0 | AJ34: =Tiedot!G553 -> 0 | AK34: =Tiedot!H553 -> 0 | AL34: =Tiedot!I553 -> 0 | ... AQ34: =Tiedot!N553 -> 0 | AR34: =INDIRECT("Tiedot!N" & EN34)+INDIRECT("Tiedot!AU" & (EN34+2)) -> 0 | AS34: =SUM(AO34:AR34) -> 0 | AT34: =AT33+AS34 -> 0 | AU34: =INT(AL34/60) -> 0 | AV34: =AL34-AU34*60 -> 0 | AW34: =Tiedot!B554 -> 0 | AX34: =Tiedot!C554 -> 0 | AY34: =Tiedot!D554 -> 0 | AZ34: =Tiedot!E554 -> 0 | BA34: =Tiedot!F554 -> 0 | BB34: =Tiedot!G554 -> 0 | BC34: =Tiedot!H554 -> 0 | BD34: =Tiedot!I554 -> 0 | BF34: =Tiedot!P553 -> 0 | BH34: =IF(SUM(Tiedot!#REF!)>0, Tiedot!#REF!, "") -> #REF! | BJ34: =BP34-12 -> 539 | BK34: =BJ34+2 -> 541 | BL34: =BK34+2 -> 543 | BM34: =BL34+2 -> 545 | BN34: =BM34+2 -> 547 | BO34: =BN34+2 -> 549 | BP34: =BQ34-4 -> 551 | BQ34: =BQ33+19 -> 555 | BS34: =IF(SUM(CC34:CI34)>0,CJ34,"") | BT34: Tiedot!V | BU34: =$BT34&BJ34 -> Tiedot!V539 | BV34: =$BT34&BK34 -> Tiedot!V541 | BW34: =$BT34&BL34 -> Tiedot!V543 | BX34: =$BT34&BM34 -> Tiedot!V545 | BY34: =$BT34&BN34 -> Tiedot!V547 | BZ34: =$BT34&BO34 -> Tiedot!V549 | CA34: =$BT34&BP34 -> Tiedot!V551 | CB34: =$BT34&BQ34 -> Tiedot!V555 | CC34: =INDIRECT(BU34) | CD34: =INDIRECT(BV34) | CE34: =INDIRECT(BW34) | CF34: =INDIRECT(BX34) | CG34: =INDIRECT(BY34) | CH34: =INDIRECT(BZ34) | CI34: =INDIRECT(CA34) | CJ34: =INDIRECT(CB34) | CK34: =CK27+1 -> 10 | CL34: CA | CM34: =INDIRECT(CL34&CK34) -> Tiedot!V95 | CN34: Tiedot!AW | CO34: =$CN34&BJ34 -> Tiedot!AW539 | CP34: =$CN34&BK34 -> Tiedot!AW541 | CQ34: =$CN34&BL34 -> Tiedot!AW543 | CR34: =$CN34&BM34 -> Tiedot!AW545 | CS34: =$CN34&BN34 -> Tiedot!AW547 | CT34: =$CN34&BO34 -> Tiedot!AW549 | CU34: =$CN34&BP34 -> Tiedot!AW551 | CV34: =$CN34&BQ34 -> Tiedot!AW555 | CW34: =INDIRECT(CO34) -> 0 | CX34: =INDIRECT(CP34) -> 0 | CY34: =INDIRECT(CQ34) -> 0 | CZ34: =INDIRECT(CR34) -> 0 | DA34: =INDIRECT(CS34) -> 0 | DB34: =INDIRECT(CT34) -> 0 | DC34: =INDIRECT(CU34) -> 0 | DD34: =INDIRECT(CV34) -> 0 | DE34: =IF(SUM(CW34:DC34)<>0, DD34, "") | DG34: =INDIRECT(DK34) -> Tiedot!AW95 | DI34: CU | DJ34: =DJ27+1 -> 10 | DK34: =DI34&DJ34 -> CU10 | DM34: =IF(DT34<>0, DT34, "") | DN34: =IF(DS34<>0, DS34, "") | DP34: Tiedot!AU | DQ34: =DP34&BQ34 -> Tiedot!AU555 | DR34: =DP34&(BQ34-1) -> Tiedot!AU554 | DS34: =INDIRECT(DR34) -> 0 | DT34: =INDIRECT(DQ34) -> 0 | DV34: =IF(EA34<>0, EA34, "") | DW34: =IF(ISERROR(EC34),"",EC34) -> 0 | DX34: Tiedot!AO | DY34: Tiedot!AN | DZ34: =DY34&BQ34 -> Tiedot!AN555 | EA34: =INDIRECT(DZ34) -> 0 | EB34: =DX34&BQ34 -> Tiedot!AO555 | EC34: =INDIRECT(EB34) -> 0 | ED34: Tiedot!AH | EE34: =ED34&BQ34 -> Tiedot!AH555 | EF34: =INDIRECT(EE34) -> 0 | EG34: =IF(EF34>0, EF34, "") | EH34: =IF(BH34>0,IF(ISERROR(INDIRECT(EJ34)),"",INDIRECT(EJ34)),"") -> #REF! | EI34: Tiedot!AM | EJ34: =EI34&BQ34 -> Tiedot!AM555 | EL34: =IFERROR(EH34^1.4*AL34/100, "") | EN34: =EN33+19 -> 553
A35: =A34+1 -> 20 | B35: =AU35 -> 0 | C35: =AV35 -> 0 | D35: =AO35 -> 0 | E35: =AP35 -> 0 | F35: =AQ35 -> 0 | G35: =EG35 | R35: =D35+E35+F35 -> 0 | AC35: =A35 -> 20 | AD35: 30 | AE35: =Tiedot!B572 -> 0 | AF35: =Tiedot!C572 -> 0 | AG35: =Tiedot!D572 -> 0 | AH35: =Tiedot!E572 -> 0 | AI35: =Tiedot!F572 -> 0 | AJ35: =Tiedot!G572 -> 0 | AK35: =Tiedot!H572 -> 0 | AL35: =Tiedot!I572 -> 0 | ... AQ35: =Tiedot!N572 -> 0 | AR35: =INDIRECT("Tiedot!N" & EN35)+INDIRECT("Tiedot!AU" & (EN35+2)) -> 0 | AS35: =SUM(AO35:AR35) -> 0 | AT35: =AT34+AS35 -> 0 | AU35: =INT(AL35/60) -> 0 | AV35: =AL35-AU35*60 -> 0 | AW35: =Tiedot!B573 -> 0 | AX35: =Tiedot!C573 -> 0 | AY35: =Tiedot!D573 -> 0 | AZ35: =Tiedot!E573 -> 0 | BA35: =Tiedot!F573 -> 0 | BB35: =Tiedot!G573 -> 0 | BC35: =Tiedot!H573 -> 0 | BD35: =Tiedot!I573 -> 0 | BF35: =Tiedot!P572 -> 0 | BH35: =IF(SUM(Tiedot!#REF!)>0, Tiedot!#REF!, "") -> #REF! | BJ35: =BP35-12 -> 558 | BK35: =BJ35+2 -> 560 | BL35: =BK35+2 -> 562 | BM35: =BL35+2 -> 564 | BN35: =BM35+2 -> 566 | BO35: =BN35+2 -> 568 | BP35: =BQ35-4 -> 570 | BQ35: =BQ34+19 -> 574 | BS35: =IF(SUM(CC35:CI35)>0,CJ35,"") | BT35: Tiedot!V | BU35: =$BT35&BJ35 -> Tiedot!V558 | BV35: =$BT35&BK35 -> Tiedot!V560 | BW35: =$BT35&BL35 -> Tiedot!V562 | BX35: =$BT35&BM35 -> Tiedot!V564 | BY35: =$BT35&BN35 -> Tiedot!V566 | BZ35: =$BT35&BO35 -> Tiedot!V568 | CA35: =$BT35&BP35 -> Tiedot!V570 | CB35: =$BT35&BQ35 -> Tiedot!V574 | CC35: =INDIRECT(BU35) | CD35: =INDIRECT(BV35) | CE35: =INDIRECT(BW35) | CF35: =INDIRECT(BX35) | CG35: =INDIRECT(BY35) | CH35: =INDIRECT(BZ35) | CI35: =INDIRECT(CA35) | CJ35: =INDIRECT(CB35) | CK35: =CK34 -> 10 | CL35: CB | CM35: =INDIRECT(CL35&CK35) -> Tiedot!V99 | CN35: Tiedot!AW | CO35: =$CN35&BJ35 -> Tiedot!AW558 | CP35: =$CN35&BK35 -> Tiedot!AW560 | CQ35: =$CN35&BL35 -> Tiedot!AW562 | CR35: =$CN35&BM35 -> Tiedot!AW564 | CS35: =$CN35&BN35 -> Tiedot!AW566 | CT35: =$CN35&BO35 -> Tiedot!AW568 | CU35: =$CN35&BP35 -> Tiedot!AW570 | CV35: =$CN35&BQ35 -> Tiedot!AW574 | CW35: =INDIRECT(CO35) -> 0 | CX35: =INDIRECT(CP35) -> 0 | CY35: =INDIRECT(CQ35) -> 0 | CZ35: =INDIRECT(CR35) -> 0 | DA35: =INDIRECT(CS35) -> 0 | DB35: =INDIRECT(CT35) -> 0 | DC35: =INDIRECT(CU35) -> 0 | DD35: =INDIRECT(CV35) -> 0 | DE35: =IF(SUM(CW35:DC35)<>0, DD35, "") | DG35: =INDIRECT(DK35) -> Tiedot!AW99 | DI35: CV | DJ35: =DJ34 -> 10 | DK35: =DI35&DJ35 -> CV10 | DM35: =IF(DT35<>0, DT35, "") | DN35: =IF(DS35<>0, DS35, "") | DP35: Tiedot!AU | DQ35: =DP35&BQ35 -> Tiedot!AU574 | DR35: =DP35&(BQ35-1) -> Tiedot!AU573 | DS35: =INDIRECT(DR35) -> 0 | DT35: =INDIRECT(DQ35) -> 0 | DV35: =IF(EA35<>0, EA35, "") | DW35: =IF(ISERROR(EC35),"",EC35) -> 0 | DX35: Tiedot!AO | DY35: Tiedot!AN | DZ35: =DY35&BQ35 -> Tiedot!AN574 | EA35: =INDIRECT(DZ35) -> 0 | EB35: =DX35&BQ35 -> Tiedot!AO574 | EC35: =INDIRECT(EB35) -> 0 | ED35: Tiedot!AH | EE35: =ED35&BQ35 -> Tiedot!AH574 | EF35: =INDIRECT(EE35) -> 0 | EG35: =IF(EF35>0, EF35, "") | EH35: =IF(BH35>0,IF(ISERROR(INDIRECT(EJ35)),"",INDIRECT(EJ35)),"") -> #REF! | EI35: Tiedot!AM | EJ35: =EI35&BQ35 -> Tiedot!AM574 | EL35: =IFERROR(EH35^1.4*AL35/100, "") | EN35: =EN34+19 -> 572
A36: =A35+1 -> 21 | B36: =AU36 -> 0 | C36: =AV36 -> 0 | D36: =AO36 -> 0 | E36: =AP36 -> 0 | F36: =AQ36 -> 0 | G36: =EG36 | R36: =D36+E36+F36 -> 0 | AC36: =A36 -> 21 | AD36: 31 | AE36: =Tiedot!B591 -> 0 | AF36: =Tiedot!C591 -> 0 | AG36: =Tiedot!D591 -> 0 | AH36: =Tiedot!E591 -> 0 | AI36: =Tiedot!F591 -> 0 | AJ36: =Tiedot!G591 -> 0 | AK36: =Tiedot!H591 -> 0 | AL36: =Tiedot!I591 -> 0 | ... AQ36: =Tiedot!N591 -> 0 | AR36: =INDIRECT("Tiedot!N" & EN36)+INDIRECT("Tiedot!AU" & (EN36+2)) -> 0 | AS36: =SUM(AO36:AR36) -> 0 | AT36: =AT35+AS36 -> 0 | AU36: =INT(AL36/60) -> 0 | AV36: =AL36-AU36*60 -> 0 | AW36: =Tiedot!B592 -> 0 | AX36: =Tiedot!C592 -> 0 | AY36: =Tiedot!D592 -> 0 | AZ36: =Tiedot!E592 -> 0 | BA36: =Tiedot!F592 -> 0 | BB36: =Tiedot!G592 -> 0 | BC36: =Tiedot!H592 -> 0 | BD36: =Tiedot!I592 -> 0 | BF36: =Tiedot!P591 -> 0 | BH36: =IF(SUM(Tiedot!#REF!)>0, Tiedot!#REF!, "") -> #REF! | BJ36: =BP36-12 -> 577 | BK36: =BJ36+2 -> 579 | BL36: =BK36+2 -> 581 | BM36: =BL36+2 -> 583 | BN36: =BM36+2 -> 585 | BO36: =BN36+2 -> 587 | BP36: =BQ36-4 -> 589 | BQ36: =BQ35+19 -> 593 | BS36: =IF(SUM(CC36:CI36)>0,CJ36,"") | BT36: Tiedot!V | BU36: =$BT36&BJ36 -> Tiedot!V577 | BV36: =$BT36&BK36 -> Tiedot!V579 | BW36: =$BT36&BL36 -> Tiedot!V581 | BX36: =$BT36&BM36 -> Tiedot!V583 | BY36: =$BT36&BN36 -> Tiedot!V585 | BZ36: =$BT36&BO36 -> Tiedot!V587 | CA36: =$BT36&BP36 -> Tiedot!V589 | CB36: =$BT36&BQ36 -> Tiedot!V593 | CC36: =INDIRECT(BU36) | CD36: =INDIRECT(BV36) | CE36: =INDIRECT(BW36) | CF36: =INDIRECT(BX36) | CG36: =INDIRECT(BY36) | CH36: =INDIRECT(BZ36) | CI36: =INDIRECT(CA36) | CJ36: =INDIRECT(CB36) | CK36: =CK34 -> 10 | CL36: CC | CM36: =INDIRECT(CL36&CK36) | CN36: Tiedot!AW | CO36: =$CN36&BJ36 -> Tiedot!AW577 | CP36: =$CN36&BK36 -> Tiedot!AW579 | CQ36: =$CN36&BL36 -> Tiedot!AW581 | CR36: =$CN36&BM36 -> Tiedot!AW583 | CS36: =$CN36&BN36 -> Tiedot!AW585 | CT36: =$CN36&BO36 -> Tiedot!AW587 | CU36: =$CN36&BP36 -> Tiedot!AW589 | CV36: =$CN36&BQ36 -> Tiedot!AW593 | CW36: =INDIRECT(CO36) -> 0 | CX36: =INDIRECT(CP36) -> 0 | CY36: =INDIRECT(CQ36) -> 0 | CZ36: =INDIRECT(CR36) -> 0 | DA36: =INDIRECT(CS36) -> 0 | DB36: =INDIRECT(CT36) -> 0 | DC36: =INDIRECT(CU36) -> 0 | DD36: =INDIRECT(CV36) -> 0 | DE36: =IF(SUM(CW36:DC36)<>0, DD36, "") | DG36: =INDIRECT(DK36) -> 0 | DI36: CW | DJ36: =DJ34 -> 10 | DK36: =DI36&DJ36 -> CW10 | DM36: =IF(DT36<>0, DT36, "") | DN36: =IF(DS36<>0, DS36, "") | DP36: Tiedot!AU | DQ36: =DP36&BQ36 -> Tiedot!AU593 | DR36: =DP36&(BQ36-1) -> Tiedot!AU592 | DS36: =INDIRECT(DR36) -> 0 | DT36: =INDIRECT(DQ36) -> 0 | DV36: =IF(EA36<>0, EA36, "") | DW36: =IF(ISERROR(EC36),"",EC36) -> 0 | DX36: Tiedot!AO | DY36: Tiedot!AN | DZ36: =DY36&BQ36 -> Tiedot!AN593 | EA36: =INDIRECT(DZ36) -> 0 | EB36: =DX36&BQ36 -> Tiedot!AO593 | EC36: =INDIRECT(EB36) -> 0 | ED36: Tiedot!AH | EE36: =ED36&BQ36 -> Tiedot!AH593 | EF36: =INDIRECT(EE36) -> 0 | EG36: =IF(EF36>0, EF36, "") | EH36: =IF(BH36>0,IF(ISERROR(INDIRECT(EJ36)),"",INDIRECT(EJ36)),"") -> #REF! | EI36: Tiedot!AM | EJ36: =EI36&BQ36 -> Tiedot!AM593 | EL36: =IFERROR(EH36^1.4*AL36/100, "") | EN36: =EN35+19 -> 591
A37: =A36+1 -> 22 | B37: =AU37 -> 0 | C37: =AV37 -> 0 | D37: =AO37 -> 0 | E37: =AP37 -> 0 | F37: =AQ37 -> 0 | G37: =EG37 | R37: =D37+E37+F37 -> 0 | AC37: =A37 -> 22 | AD37: 32 | AE37: =Tiedot!B610 -> 0 | AF37: =Tiedot!C610 -> 0 | AG37: =Tiedot!D610 -> 0 | AH37: =Tiedot!E610 -> 0 | AI37: =Tiedot!F610 -> 0 | AJ37: =Tiedot!G610 -> 0 | AK37: =Tiedot!H610 -> 0 | AL37: =Tiedot!I610 -> 0 | ... AQ37: =Tiedot!N610 -> 0 | AR37: =INDIRECT("Tiedot!N" & EN37)+INDIRECT("Tiedot!AU" & (EN37+2)) -> 0 | AS37: =SUM(AO37:AR37) -> 0 | AT37: =AT36+AS37 -> 0 | AU37: =INT(AL37/60) -> 0 | AV37: =AL37-AU37*60 -> 0 | AW37: =Tiedot!B611 -> 0 | AX37: =Tiedot!C611 -> 0 | AY37: =Tiedot!D611 -> 0 | AZ37: =Tiedot!E611 -> 0 | BA37: =Tiedot!F611 -> 0 | BB37: =Tiedot!G611 -> 0 | BC37: =Tiedot!H611 -> 0 | BD37: =Tiedot!I611 -> 0 | BF37: =Tiedot!P610 -> 0 | BH37: =IF(SUM(Tiedot!#REF!)>0, Tiedot!#REF!, "") -> #REF! | BJ37: =BP37-12 -> 596 | BK37: =BJ37+2 -> 598 | BL37: =BK37+2 -> 600 | BM37: =BL37+2 -> 602 | BN37: =BM37+2 -> 604 | BO37: =BN37+2 -> 606 | BP37: =BQ37-4 -> 608 | BQ37: =BQ36+19 -> 612 | BS37: =IF(SUM(CC37:CI37)>0,CJ37,"") | BT37: Tiedot!V | BU37: =$BT37&BJ37 -> Tiedot!V596 | BV37: =$BT37&BK37 -> Tiedot!V598 | BW37: =$BT37&BL37 -> Tiedot!V600 | BX37: =$BT37&BM37 -> Tiedot!V602 | BY37: =$BT37&BN37 -> Tiedot!V604 | BZ37: =$BT37&BO37 -> Tiedot!V606 | CA37: =$BT37&BP37 -> Tiedot!V608 | CB37: =$BT37&BQ37 -> Tiedot!V612 | CC37: =INDIRECT(BU37) | CD37: =INDIRECT(BV37) | CE37: =INDIRECT(BW37) | CF37: =INDIRECT(BX37) | CG37: =INDIRECT(BY37) | CH37: =INDIRECT(BZ37) | CI37: =INDIRECT(CA37) | CJ37: =INDIRECT(CB37) | CK37: =CK34 -> 10 | CL37: CD | CM37: =INDIRECT(CL37&CK37) | CN37: Tiedot!AW | CO37: =$CN37&BJ37 -> Tiedot!AW596 | CP37: =$CN37&BK37 -> Tiedot!AW598 | CQ37: =$CN37&BL37 -> Tiedot!AW600 | CR37: =$CN37&BM37 -> Tiedot!AW602 | CS37: =$CN37&BN37 -> Tiedot!AW604 | CT37: =$CN37&BO37 -> Tiedot!AW606 | CU37: =$CN37&BP37 -> Tiedot!AW608 | CV37: =$CN37&BQ37 -> Tiedot!AW612 | CW37: =INDIRECT(CO37) -> 0 | CX37: =INDIRECT(CP37) -> 0 | CY37: =INDIRECT(CQ37) -> 0 | CZ37: =INDIRECT(CR37) -> 0 | DA37: =INDIRECT(CS37) -> 0 | DB37: =INDIRECT(CT37) -> 0 | DC37: =INDIRECT(CU37) -> 0 | DD37: =INDIRECT(CV37) -> 0 | DE37: =IF(SUM(CW37:DC37)<>0, DD37, "") | DG37: =INDIRECT(DK37) -> 0 | DI37: CX | DJ37: =DJ34 -> 10 | DK37: =DI37&DJ37 -> CX10 | DM37: =IF(DT37<>0, DT37, "") | DN37: =IF(DS37<>0, DS37, "") | DP37: Tiedot!AU | DQ37: =DP37&BQ37 -> Tiedot!AU612 | DR37: =DP37&(BQ37-1) -> Tiedot!AU611 | DS37: =INDIRECT(DR37) -> 0 | DT37: =INDIRECT(DQ37) -> 0 | DV37: =IF(EA37<>0, EA37, "") | DW37: =IF(ISERROR(EC37),"",EC37) -> 0 | DX37: Tiedot!AO | DY37: Tiedot!AN | DZ37: =DY37&BQ37 -> Tiedot!AN612 | EA37: =INDIRECT(DZ37) -> 0 | EB37: =DX37&BQ37 -> Tiedot!AO612 | EC37: =INDIRECT(EB37) -> 0 | ED37: Tiedot!AH | EE37: =ED37&BQ37 -> Tiedot!AH612 | EF37: =INDIRECT(EE37) -> 0 | EG37: =IF(EF37>0, EF37, "") | EH37: =IF(BH37>0,IF(ISERROR(INDIRECT(EJ37)),"",INDIRECT(EJ37)),"") -> #REF! | EI37: Tiedot!AM | EJ37: =EI37&BQ37 -> Tiedot!AM612 | EL37: =IFERROR(EH37^1.4*AL37/100, "") | EN37: =EN36+19 -> 610
A38: =A37+1 -> 23 | B38: =AU38 -> 0 | C38: =AV38 -> 0 | D38: =AO38 -> 0 | E38: =AP38 -> 0 | F38: =AQ38 -> 0 | G38: =EG38 | R38: =D38+E38+F38 -> 0 | AC38: =A38 -> 23 | AD38: 33 | AE38: =Tiedot!B629 -> 0 | AF38: =Tiedot!C629 -> 0 | AG38: =Tiedot!D629 -> 0 | AH38: =Tiedot!E629 -> 0 | AI38: =Tiedot!F629 -> 0 | AJ38: =Tiedot!G629 -> 0 | AK38: =Tiedot!H629 -> 0 | AL38: =Tiedot!I629 -> 0 | ... AQ38: =Tiedot!N629 -> 0 | AR38: =INDIRECT("Tiedot!N" & EN38)+INDIRECT("Tiedot!AU" & (EN38+2)) -> 0 | AS38: =SUM(AO38:AR38) -> 0 | AT38: =AT37+AS38 -> 0 | AU38: =INT(AL38/60) -> 0 | AV38: =AL38-AU38*60 -> 0 | AW38: =Tiedot!B630 -> 0 | AX38: =Tiedot!C630 -> 0 | AY38: =Tiedot!D630 -> 0 | AZ38: =Tiedot!E630 -> 0 | BA38: =Tiedot!F630 -> 0 | BB38: =Tiedot!G630 -> 0 | BC38: =Tiedot!H630 -> 0 | BD38: =Tiedot!I630 -> 0 | BF38: =Tiedot!P629 -> 0 | BH38: =IF(SUM(Tiedot!#REF!)>0, Tiedot!#REF!, "") -> #REF! | BJ38: =BP38-12 -> 615 | BK38: =BJ38+2 -> 617 | BL38: =BK38+2 -> 619 | BM38: =BL38+2 -> 621 | BN38: =BM38+2 -> 623 | BO38: =BN38+2 -> 625 | BP38: =BQ38-4 -> 627 | BQ38: =BQ37+19 -> 631 | BS38: =IF(SUM(CC38:CI38)>0,CJ38,"") | BT38: Tiedot!V | BU38: =$BT38&BJ38 -> Tiedot!V615 | BV38: =$BT38&BK38 -> Tiedot!V617 | BW38: =$BT38&BL38 -> Tiedot!V619 | BX38: =$BT38&BM38 -> Tiedot!V621 | BY38: =$BT38&BN38 -> Tiedot!V623 | BZ38: =$BT38&BO38 -> Tiedot!V625 | CA38: =$BT38&BP38 -> Tiedot!V627 | CB38: =$BT38&BQ38 -> Tiedot!V631 | CC38: =INDIRECT(BU38) | CD38: =INDIRECT(BV38) | CE38: =INDIRECT(BW38) | CF38: =INDIRECT(BX38) | CG38: =INDIRECT(BY38) | CH38: =INDIRECT(BZ38) | CI38: =INDIRECT(CA38) | CJ38: =INDIRECT(CB38) | CK38: =CK34 -> 10 | CL38: CE | CM38: =INDIRECT(CL38&CK38) | CN38: Tiedot!AW | CO38: =$CN38&BJ38 -> Tiedot!AW615 | CP38: =$CN38&BK38 -> Tiedot!AW617 | CQ38: =$CN38&BL38 -> Tiedot!AW619 | CR38: =$CN38&BM38 -> Tiedot!AW621 | CS38: =$CN38&BN38 -> Tiedot!AW623 | CT38: =$CN38&BO38 -> Tiedot!AW625 | CU38: =$CN38&BP38 -> Tiedot!AW627 | CV38: =$CN38&BQ38 -> Tiedot!AW631 | CW38: =INDIRECT(CO38) -> 0 | CX38: =INDIRECT(CP38) -> 0 | CY38: =INDIRECT(CQ38) -> 0 | CZ38: =INDIRECT(CR38) -> 0 | DA38: =INDIRECT(CS38) -> 0 | DB38: =INDIRECT(CT38) -> 0 | DC38: =INDIRECT(CU38) -> 0 | DD38: =INDIRECT(CV38) -> 0 | DE38: =IF(SUM(CW38:DC38)<>0, DD38, "") | DG38: =INDIRECT(DK38) -> 0 | DI38: CY | DJ38: =DJ34 -> 10 | DK38: =DI38&DJ38 -> CY10 | DM38: =IF(DT38<>0, DT38, "") | DN38: =IF(DS38<>0, DS38, "") | DP38: Tiedot!AU | DQ38: =DP38&BQ38 -> Tiedot!AU631 | DR38: =DP38&(BQ38-1) -> Tiedot!AU630 | DS38: =INDIRECT(DR38) -> 0 | DT38: =INDIRECT(DQ38) -> 0 | DV38: =IF(EA38<>0, EA38, "") | DW38: =IF(ISERROR(EC38),"",EC38) -> 0 | DX38: Tiedot!AO | DY38: Tiedot!AN | DZ38: =DY38&BQ38 -> Tiedot!AN631 | EA38: =INDIRECT(DZ38) -> 0 | EB38: =DX38&BQ38 -> Tiedot!AO631 | EC38: =INDIRECT(EB38) -> 0 | ED38: Tiedot!AH | EE38: =ED38&BQ38 -> Tiedot!AH631 | EF38: =INDIRECT(EE38) -> 0 | EG38: =IF(EF38>0, EF38, "") | EH38: =IF(BH38>0,IF(ISERROR(INDIRECT(EJ38)),"",INDIRECT(EJ38)),"") -> #REF! | EI38: Tiedot!AM | EJ38: =EI38&BQ38 -> Tiedot!AM631 | EL38: =IFERROR(EH38^1.4*AL38/100, "") | EN38: =EN37+19 -> 629
A39: =A38+1 -> 24 | B39: =AU39 -> 0 | C39: =AV39 -> 0 | D39: =AO39 -> 0 | E39: =AP39 -> 0 | F39: =AQ39 -> 0 | G39: =EG39 | R39: =D39+E39+F39 -> 0 | AC39: =A39 -> 24 | AD39: 34 | AE39: =Tiedot!B648 -> 0 | AF39: =Tiedot!C648 -> 0 | AG39: =Tiedot!D648 -> 0 | AH39: =Tiedot!E648 -> 0 | AI39: =Tiedot!F648 -> 0 | AJ39: =Tiedot!G648 -> 0 | AK39: =Tiedot!H648 -> 0 | AL39: =Tiedot!I648 -> 0 | ... AQ39: =Tiedot!N648 -> 0 | AR39: =INDIRECT("Tiedot!N" & EN39)+INDIRECT("Tiedot!AU" & (EN39+2)) -> 0 | AS39: =SUM(AO39:AR39) -> 0 | AT39: =AT38+AS39 -> 0 | AU39: =INT(AL39/60) -> 0 | AV39: =AL39-AU39*60 -> 0 | AW39: =Tiedot!B649 -> 0 | AX39: =Tiedot!C649 -> 0 | AY39: =Tiedot!D649 -> 0 | AZ39: =Tiedot!E649 -> 0 | BA39: =Tiedot!F649 -> 0 | BB39: =Tiedot!G649 -> 0 | BC39: =Tiedot!H649 -> 0 | BD39: =Tiedot!I649 -> 0 | BF39: =Tiedot!P648 -> 0 | BH39: =IF(SUM(Tiedot!#REF!)>0, Tiedot!#REF!, "") -> #REF! | BJ39: =BP39-12 -> 634 | BK39: =BJ39+2 -> 636 | BL39: =BK39+2 -> 638 | BM39: =BL39+2 -> 640 | BN39: =BM39+2 -> 642 | BO39: =BN39+2 -> 644 | BP39: =BQ39-4 -> 646 | BQ39: =BQ38+19 -> 650 | BS39: =IF(SUM(CC39:CI39)>0,CJ39,"") | BT39: Tiedot!V | BU39: =$BT39&BJ39 -> Tiedot!V634 | BV39: =$BT39&BK39 -> Tiedot!V636 | BW39: =$BT39&BL39 -> Tiedot!V638 | BX39: =$BT39&BM39 -> Tiedot!V640 | BY39: =$BT39&BN39 -> Tiedot!V642 | BZ39: =$BT39&BO39 -> Tiedot!V644 | CA39: =$BT39&BP39 -> Tiedot!V646 | CB39: =$BT39&BQ39 -> Tiedot!V650 | CC39: =INDIRECT(BU39) | CD39: =INDIRECT(BV39) | CE39: =INDIRECT(BW39) | CF39: =INDIRECT(BX39) | CG39: =INDIRECT(BY39) | CH39: =INDIRECT(BZ39) | CI39: =INDIRECT(CA39) | CJ39: =INDIRECT(CB39) | CK39: =CK34 -> 10 | CL39: CF | CM39: =INDIRECT(CL39&CK39) | CN39: Tiedot!AW | CO39: =$CN39&BJ39 -> Tiedot!AW634 | CP39: =$CN39&BK39 -> Tiedot!AW636 | CQ39: =$CN39&BL39 -> Tiedot!AW638 | CR39: =$CN39&BM39 -> Tiedot!AW640 | CS39: =$CN39&BN39 -> Tiedot!AW642 | CT39: =$CN39&BO39 -> Tiedot!AW644 | CU39: =$CN39&BP39 -> Tiedot!AW646 | CV39: =$CN39&BQ39 -> Tiedot!AW650 | CW39: =INDIRECT(CO39) -> 0 | CX39: =INDIRECT(CP39) -> 0 | CY39: =INDIRECT(CQ39) -> 0 | CZ39: =INDIRECT(CR39) -> 0 | DA39: =INDIRECT(CS39) -> 0 | DB39: =INDIRECT(CT39) -> 0 | DC39: =INDIRECT(CU39) -> 0 | DD39: =INDIRECT(CV39) -> 0 | DE39: =IF(SUM(CW39:DC39)<>0, DD39, "") | DG39: =INDIRECT(DK39) -> 0 | DI39: CZ | DJ39: =DJ34 -> 10 | DK39: =DI39&DJ39 -> CZ10 | DM39: =IF(DT39<>0, DT39, "") | DN39: =IF(DS39<>0, DS39, "") | DP39: Tiedot!AU | DQ39: =DP39&BQ39 -> Tiedot!AU650 | DR39: =DP39&(BQ39-1) -> Tiedot!AU649 | DS39: =INDIRECT(DR39) -> 0 | DT39: =INDIRECT(DQ39) -> 0 | DV39: =IF(EA39<>0, EA39, "") | DW39: =IF(ISERROR(EC39),"",EC39) -> 0 | DX39: Tiedot!AO | DY39: Tiedot!AN | DZ39: =DY39&BQ39 -> Tiedot!AN650 | EA39: =INDIRECT(DZ39) -> 0 | EB39: =DX39&BQ39 -> Tiedot!AO650 | EC39: =INDIRECT(EB39) -> 0 | ED39: Tiedot!AH | EE39: =ED39&BQ39 -> Tiedot!AH650 | EF39: =INDIRECT(EE39) -> 0 | EG39: =IF(EF39>0, EF39, "") | EH39: =IF(BH39>0,IF(ISERROR(INDIRECT(EJ39)),"",INDIRECT(EJ39)),"") -> #REF! | EI39: Tiedot!AM | EJ39: =EI39&BQ39 -> Tiedot!AM650 | EL39: =IFERROR(EH39^1.4*AL39/100, "") | EN39: =EN38+19 -> 648
A40: =A39+1 -> 25 | B40: =AU40 -> 0 | C40: =AV40 -> 0 | D40: =AO40 -> 0 | E40: =AP40 -> 0 | F40: =AQ40 -> 0 | G40: =EG40 | R40: =D40+E40+F40 -> 0 | AC40: =A40 -> 25 | AD40: 35 | AE40: =Tiedot!B667 -> 0 | AF40: =Tiedot!C667 -> 0 | AG40: =Tiedot!D667 -> 0 | AH40: =Tiedot!E667 -> 0 | AI40: =Tiedot!F667 -> 0 | AJ40: =Tiedot!G667 -> 0 | AK40: =Tiedot!H667 -> 0 | AL40: =Tiedot!I667 -> 0 | ... AQ40: =Tiedot!N667 -> 0 | AR40: =INDIRECT("Tiedot!N" & EN40)+INDIRECT("Tiedot!AU" & (EN40+2)) -> 0 | AS40: =SUM(AO40:AR40) -> 0 | AT40: =AT39+AS40 -> 0 | AU40: =INT(AL40/60) -> 0 | AV40: =AL40-AU40*60 -> 0 | AW40: =Tiedot!B668 -> 0 | AX40: =Tiedot!C668 -> 0 | AY40: =Tiedot!D668 -> 0 | AZ40: =Tiedot!E668 -> 0 | BA40: =Tiedot!F668 -> 0 | BB40: =Tiedot!G668 -> 0 | BC40: =Tiedot!H668 -> 0 | BD40: =Tiedot!I668 -> 0 | BF40: =Tiedot!P667 -> 0 | BH40: =IF(SUM(Tiedot!#REF!)>0, Tiedot!#REF!, "") -> #REF! | BJ40: =BP40-12 -> 653 | BK40: =BJ40+2 -> 655 | BL40: =BK40+2 -> 657 | BM40: =BL40+2 -> 659 | BN40: =BM40+2 -> 661 | BO40: =BN40+2 -> 663 | BP40: =BQ40-4 -> 665 | BQ40: =BQ39+19 -> 669 | BS40: =IF(SUM(CC40:CI40)>0,CJ40,"") | BT40: Tiedot!V | BU40: =$BT40&BJ40 -> Tiedot!V653 | BV40: =$BT40&BK40 -> Tiedot!V655 | BW40: =$BT40&BL40 -> Tiedot!V657 | BX40: =$BT40&BM40 -> Tiedot!V659 | BY40: =$BT40&BN40 -> Tiedot!V661 | BZ40: =$BT40&BO40 -> Tiedot!V663 | CA40: =$BT40&BP40 -> Tiedot!V665 | CB40: =$BT40&BQ40 -> Tiedot!V669 | CC40: =INDIRECT(BU40) | CD40: =INDIRECT(BV40) | CE40: =INDIRECT(BW40) | CF40: =INDIRECT(BX40) | CG40: =INDIRECT(BY40) | CH40: =INDIRECT(BZ40) | CI40: =INDIRECT(CA40) | CJ40: =INDIRECT(CB40) | CK40: =CK34 -> 10 | CL40: CG | CM40: =INDIRECT(CL40&CK40) | CN40: Tiedot!AW | CO40: =$CN40&BJ40 -> Tiedot!AW653 | CP40: =$CN40&BK40 -> Tiedot!AW655 | CQ40: =$CN40&BL40 -> Tiedot!AW657 | CR40: =$CN40&BM40 -> Tiedot!AW659 | CS40: =$CN40&BN40 -> Tiedot!AW661 | CT40: =$CN40&BO40 -> Tiedot!AW663 | CU40: =$CN40&BP40 -> Tiedot!AW665 | CV40: =$CN40&BQ40 -> Tiedot!AW669 | CW40: =INDIRECT(CO40) -> 0 | CX40: =INDIRECT(CP40) -> 0 | CY40: =INDIRECT(CQ40) -> 0 | CZ40: =INDIRECT(CR40) -> 0 | DA40: =INDIRECT(CS40) -> 0 | DB40: =INDIRECT(CT40) -> 0 | DC40: =INDIRECT(CU40) -> 0 | DD40: =INDIRECT(CV40) -> 0 | DE40: =IF(SUM(CW40:DC40)<>0, DD40, "") | DG40: =INDIRECT(DK40) -> 0 | DI40: DA | DJ40: =DJ34 -> 10 | DK40: =DI40&DJ40 -> DA10 | DM40: =IF(DT40<>0, DT40, "") | DN40: =IF(DS40<>0, DS40, "") | DP40: Tiedot!AU | DQ40: =DP40&BQ40 -> Tiedot!AU669 | DR40: =DP40&(BQ40-1) -> Tiedot!AU668 | DS40: =INDIRECT(DR40) -> 0 | DT40: =INDIRECT(DQ40) -> 0 | DV40: =IF(EA40<>0, EA40, "") | DW40: =IF(ISERROR(EC40),"",EC40) -> 0 | DX40: Tiedot!AO | DY40: Tiedot!AN | DZ40: =DY40&BQ40 -> Tiedot!AN669 | EA40: =INDIRECT(DZ40) -> 0 | EB40: =DX40&BQ40 -> Tiedot!AO669 | EC40: =INDIRECT(EB40) -> 0 | ED40: Tiedot!AH | EE40: =ED40&BQ40 -> Tiedot!AH669 | EF40: =INDIRECT(EE40) -> 0 | EG40: =IF(EF40>0, EF40, "") | EH40: =IF(BH40>0,IF(ISERROR(INDIRECT(EJ40)),"",INDIRECT(EJ40)),"") -> #REF! | EI40: Tiedot!AM | EJ40: =EI40&BQ40 -> Tiedot!AM669 | EL40: =IFERROR(EH40^1.4*AL40/100, "") | EN40: =EN39+19 -> 667
A41: =A40+1 -> 26 | B41: =AU41 -> 0 | C41: =AV41 -> 0 | D41: =AO41 -> 0 | E41: =AP41 -> 0 | F41: =AQ41 -> 0 | G41: =EG41 | R41: =D41+E41+F41 -> 0 | AC41: =A41 -> 26 | AD41: 36 | AE41: =Tiedot!B686 -> 0 | AF41: =Tiedot!C686 -> 0 | AG41: =Tiedot!D686 -> 0 | AH41: =Tiedot!E686 -> 0 | AI41: =Tiedot!F686 -> 0 | AJ41: =Tiedot!G686 -> 0 | AK41: =Tiedot!H686 -> 0 | AL41: =Tiedot!I686 -> 0 | ... AQ41: =Tiedot!N686 -> 0 | AR41: =INDIRECT("Tiedot!N" & EN41)+INDIRECT("Tiedot!AU" & (EN41+2)) -> 0 | AS41: =SUM(AO41:AR41) -> 0 | AT41: =AT40+AS41 -> 0 | AU41: =INT(AL41/60) -> 0 | AV41: =AL41-AU41*60 -> 0 | AW41: =Tiedot!B687 -> 0 | AX41: =Tiedot!C687 -> 0 | AY41: =Tiedot!D687 -> 0 | AZ41: =Tiedot!E687 -> 0 | BA41: =Tiedot!F687 -> 0 | BB41: =Tiedot!G687 -> 0 | BC41: =Tiedot!H687 -> 0 | BD41: =Tiedot!I687 -> 0 | BF41: =Tiedot!P686 -> 0 | BH41: =IF(SUM(Tiedot!#REF!)>0, Tiedot!#REF!, "") -> #REF! | BJ41: =BP41-12 -> 672 | BK41: =BJ41+2 -> 674 | BL41: =BK41+2 -> 676 | BM41: =BL41+2 -> 678 | BN41: =BM41+2 -> 680 | BO41: =BN41+2 -> 682 | BP41: =BQ41-4 -> 684 | BQ41: =BQ40+19 -> 688 | BS41: =IF(SUM(CC41:CI41)>0,CJ41,"") | BT41: Tiedot!V | BU41: =$BT41&BJ41 -> Tiedot!V672 | BV41: =$BT41&BK41 -> Tiedot!V674 | BW41: =$BT41&BL41 -> Tiedot!V676 | BX41: =$BT41&BM41 -> Tiedot!V678 | BY41: =$BT41&BN41 -> Tiedot!V680 | BZ41: =$BT41&BO41 -> Tiedot!V682 | CA41: =$BT41&BP41 -> Tiedot!V684 | CB41: =$BT41&BQ41 -> Tiedot!V688 | CC41: =INDIRECT(BU41) | CD41: =INDIRECT(BV41) | CE41: =INDIRECT(BW41) | CF41: =INDIRECT(BX41) | CG41: =INDIRECT(BY41) | CH41: =INDIRECT(BZ41) | CI41: =INDIRECT(CA41) | CJ41: =INDIRECT(CB41) | CK41: =CK34+1 -> 11 | CL41: CA | CM41: =INDIRECT(CL41&CK41) -> Tiedot!V114 | CN41: Tiedot!AW | CO41: =$CN41&BJ41 -> Tiedot!AW672 | CP41: =$CN41&BK41 -> Tiedot!AW674 | CQ41: =$CN41&BL41 -> Tiedot!AW676 | CR41: =$CN41&BM41 -> Tiedot!AW678 | CS41: =$CN41&BN41 -> Tiedot!AW680 | CT41: =$CN41&BO41 -> Tiedot!AW682 | CU41: =$CN41&BP41 -> Tiedot!AW684 | CV41: =$CN41&BQ41 -> Tiedot!AW688 | CW41: =INDIRECT(CO41) -> 0 | CX41: =INDIRECT(CP41) -> 0 | CY41: =INDIRECT(CQ41) -> 0 | CZ41: =INDIRECT(CR41) -> 0 | DA41: =INDIRECT(CS41) -> 0 | DB41: =INDIRECT(CT41) -> 0 | DC41: =INDIRECT(CU41) -> 0 | DD41: =INDIRECT(CV41) -> 0 | DE41: =IF(SUM(CW41:DC41)<>0, DD41, "") | DG41: =INDIRECT(DK41) -> Tiedot!AW114 | DI41: CU | DJ41: =DJ34+1 -> 11 | DK41: =DI41&DJ41 -> CU11 | DM41: =IF(DT41<>0, DT41, "") | DN41: =IF(DS41<>0, DS41, "") | DP41: Tiedot!AU | DQ41: =DP41&BQ41 -> Tiedot!AU688 | DR41: =DP41&(BQ41-1) -> Tiedot!AU687 | DS41: =INDIRECT(DR41) -> 0 | DT41: =INDIRECT(DQ41) -> 0 | DV41: =IF(EA41<>0, EA41, "") | DW41: =IF(ISERROR(EC41),"",EC41) -> 0 | DX41: Tiedot!AO | DY41: Tiedot!AN | DZ41: =DY41&BQ41 -> Tiedot!AN688 | EA41: =INDIRECT(DZ41) -> 0 | EB41: =DX41&BQ41 -> Tiedot!AO688 | EC41: =INDIRECT(EB41) -> 0 | ED41: Tiedot!AH | EE41: =ED41&BQ41 -> Tiedot!AH688 | EF41: =INDIRECT(EE41) -> 0 | EG41: =IF(EF41>0, EF41, "") | EH41: =IF(BH41>0,IF(ISERROR(INDIRECT(EJ41)),"",INDIRECT(EJ41)),"") -> #REF! | EI41: Tiedot!AM | EJ41: =EI41&BQ41 -> Tiedot!AM688 | EL41: =IFERROR(EH41^1.4*AL41/100, "") | EN41: =EN40+19 -> 686
A42: =A41+1 -> 27 | B42: =AU42 -> 0 | C42: =AV42 -> 0 | D42: =AO42 -> 0 | E42: =AP42 -> 0 | F42: =AQ42 -> 0 | G42: =EG42 | R42: =D42+E42+F42 -> 0 | AC42: =A42 -> 27 | AD42: 37 | AE42: =Tiedot!B705 -> 0 | AF42: =Tiedot!C705 -> 0 | AG42: =Tiedot!D705 -> 0 | AH42: =Tiedot!E705 -> 0 | AI42: =Tiedot!F705 -> 0 | AJ42: =Tiedot!G705 -> 0 | AK42: =Tiedot!H705 -> 0 | AL42: =Tiedot!I705 -> 0 | ... AQ42: =Tiedot!N705 -> 0 | AR42: =INDIRECT("Tiedot!N" & EN42)+INDIRECT("Tiedot!AU" & (EN42+2)) -> 0 | AS42: =SUM(AO42:AR42) -> 0 | AT42: =AT41+AS42 -> 0 | AU42: =INT(AL42/60) -> 0 | AV42: =AL42-AU42*60 -> 0 | AW42: =Tiedot!B706 -> 0 | AX42: =Tiedot!C706 -> 0 | AY42: =Tiedot!D706 -> 0 | AZ42: =Tiedot!E706 -> 0 | BA42: =Tiedot!F706 -> 0 | BB42: =Tiedot!G706 -> 0 | BC42: =Tiedot!H706 -> 0 | BD42: =Tiedot!I706 -> 0 | BF42: =Tiedot!P705 -> 0 | BH42: =IF(SUM(Tiedot!#REF!)>0, Tiedot!#REF!, "") -> #REF! | BJ42: =BP42-12 -> 691 | BK42: =BJ42+2 -> 693 | BL42: =BK42+2 -> 695 | BM42: =BL42+2 -> 697 | BN42: =BM42+2 -> 699 | BO42: =BN42+2 -> 701 | BP42: =BQ42-4 -> 703 | BQ42: =BQ41+19 -> 707 | BS42: =IF(SUM(CC42:CI42)>0,CJ42,"") | BT42: Tiedot!V | BU42: =$BT42&BJ42 -> Tiedot!V691 | BV42: =$BT42&BK42 -> Tiedot!V693 | BW42: =$BT42&BL42 -> Tiedot!V695 | BX42: =$BT42&BM42 -> Tiedot!V697 | BY42: =$BT42&BN42 -> Tiedot!V699 | BZ42: =$BT42&BO42 -> Tiedot!V701 | CA42: =$BT42&BP42 -> Tiedot!V703 | CB42: =$BT42&BQ42 -> Tiedot!V707 | CC42: =INDIRECT(BU42) | CD42: =INDIRECT(BV42) | CE42: =INDIRECT(BW42) | CF42: =INDIRECT(BX42) | CG42: =INDIRECT(BY42) | CH42: =INDIRECT(BZ42) | CI42: =INDIRECT(CA42) | CJ42: =INDIRECT(CB42) | CK42: =CK41 -> 11 | CL42: CB | CM42: =INDIRECT(CL42&CK42) -> Tiedot!V118 | CN42: Tiedot!AW | CO42: =$CN42&BJ42 -> Tiedot!AW691 | CP42: =$CN42&BK42 -> Tiedot!AW693 | CQ42: =$CN42&BL42 -> Tiedot!AW695 | CR42: =$CN42&BM42 -> Tiedot!AW697 | CS42: =$CN42&BN42 -> Tiedot!AW699 | CT42: =$CN42&BO42 -> Tiedot!AW701 | CU42: =$CN42&BP42 -> Tiedot!AW703 | CV42: =$CN42&BQ42 -> Tiedot!AW707 | CW42: =INDIRECT(CO42) -> 0 | CX42: =INDIRECT(CP42) -> 0 | CY42: =INDIRECT(CQ42) -> 0 | CZ42: =INDIRECT(CR42) -> 0 | DA42: =INDIRECT(CS42) -> 0 | DB42: =INDIRECT(CT42) -> 0 | DC42: =INDIRECT(CU42) -> 0 | DD42: =INDIRECT(CV42) -> 0 | DE42: =IF(SUM(CW42:DC42)<>0, DD42, "") | DF42: Joulu | DG42: =INDIRECT(DK42) -> Tiedot!AW118 | DI42: CV | DJ42: =DJ41 -> 11 | DK42: =DI42&DJ42 -> CV11 | DM42: =IF(DT42<>0, DT42, "") | DN42: =IF(DS42<>0, DS42, "") | DP42: Tiedot!AU | DQ42: =DP42&BQ42 -> Tiedot!AU707 | DR42: =DP42&(BQ42-1) -> Tiedot!AU706 | DS42: =INDIRECT(DR42) -> 0 | DT42: =INDIRECT(DQ42) -> 0 | DV42: =IF(EA42<>0, EA42, "") | DW42: =IF(ISERROR(EC42),"",EC42) -> 0 | DX42: Tiedot!AO | DY42: Tiedot!AN | DZ42: =DY42&BQ42 -> Tiedot!AN707 | EA42: =INDIRECT(DZ42) -> 0 | EB42: =DX42&BQ42 -> Tiedot!AO707 | EC42: =INDIRECT(EB42) -> 0 | ED42: Tiedot!AH | EE42: =ED42&BQ42 -> Tiedot!AH707 | EF42: =INDIRECT(EE42) -> 0 | EG42: =IF(EF42>0, EF42, "") | EH42: =IF(BH42>0,IF(ISERROR(INDIRECT(EJ42)),"",INDIRECT(EJ42)),"") -> #REF! | EI42: Tiedot!AM | EJ42: =EI42&BQ42 -> Tiedot!AM707 | EL42: =IFERROR(EH42^1.4*AL42/100, "") | EN42: =EN41+19 -> 705
A43: =A42+1 -> 28 | B43: =AU43 -> 0 | C43: =AV43 -> 0 | D43: =AO43 -> 0 | E43: =AP43 -> 0 | F43: =AQ43 -> 0 | G43: =EG43 | R43: =D43+E43+F43 -> 0 | AC43: =A43 -> 28 | AD43: 38 | AE43: =Tiedot!B724 -> 0 | AF43: =Tiedot!C724 -> 0 | AG43: =Tiedot!D724 -> 0 | AH43: =Tiedot!E724 -> 0 | AI43: =Tiedot!F724 -> 0 | AJ43: =Tiedot!G724 -> 0 | AK43: =Tiedot!H724 -> 0 | AL43: =Tiedot!I724 -> 0 | ... AQ43: =Tiedot!N724 -> 0 | AR43: =INDIRECT("Tiedot!N" & EN43)+INDIRECT("Tiedot!AU" & (EN43+2)) -> 0 | AS43: =SUM(AO43:AR43) -> 0 | AT43: =AT42+AS43 -> 0 | AU43: =INT(AL43/60) -> 0 | AV43: =AL43-AU43*60 -> 0 | AW43: =Tiedot!B725 -> 0 | AX43: =Tiedot!C725 -> 0 | AY43: =Tiedot!D725 -> 0 | AZ43: =Tiedot!E725 -> 0 | BA43: =Tiedot!F725 -> 0 | BB43: =Tiedot!G725 -> 0 | BC43: =Tiedot!H725 -> 0 | BD43: =Tiedot!I725 -> 0 | BF43: =Tiedot!P724 -> 0 | BH43: =IF(SUM(Tiedot!#REF!)>0, Tiedot!#REF!, "") -> #REF! | BJ43: =BP43-12 -> 710 | BK43: =BJ43+2 -> 712 | BL43: =BK43+2 -> 714 | BM43: =BL43+2 -> 716 | BN43: =BM43+2 -> 718 | BO43: =BN43+2 -> 720 | BP43: =BQ43-4 -> 722 | BQ43: =BQ42+19 -> 726 | BS43: =IF(SUM(CC43:CI43)>0,CJ43,"") | BT43: Tiedot!V | BU43: =$BT43&BJ43 -> Tiedot!V710 | BV43: =$BT43&BK43 -> Tiedot!V712 | BW43: =$BT43&BL43 -> Tiedot!V714 | BX43: =$BT43&BM43 -> Tiedot!V716 | BY43: =$BT43&BN43 -> Tiedot!V718 | BZ43: =$BT43&BO43 -> Tiedot!V720 | CA43: =$BT43&BP43 -> Tiedot!V722 | CB43: =$BT43&BQ43 -> Tiedot!V726 | CC43: =INDIRECT(BU43) | CD43: =INDIRECT(BV43) | CE43: =INDIRECT(BW43) | CF43: =INDIRECT(BX43) | CG43: =INDIRECT(BY43) | CH43: =INDIRECT(BZ43) | CI43: =INDIRECT(CA43) | CJ43: =INDIRECT(CB43) | CK43: =CK41 -> 11 | CL43: CC | CM43: =INDIRECT(CL43&CK43) | CN43: Tiedot!AW | CO43: =$CN43&BJ43 -> Tiedot!AW710 | CP43: =$CN43&BK43 -> Tiedot!AW712 | CQ43: =$CN43&BL43 -> Tiedot!AW714 | CR43: =$CN43&BM43 -> Tiedot!AW716 | CS43: =$CN43&BN43 -> Tiedot!AW718 | CT43: =$CN43&BO43 -> Tiedot!AW720 | CU43: =$CN43&BP43 -> Tiedot!AW722 | CV43: =$CN43&BQ43 -> Tiedot!AW726 | CW43: =INDIRECT(CO43) -> 0 | CX43: =INDIRECT(CP43) -> 0 | CY43: =INDIRECT(CQ43) -> 0 | CZ43: =INDIRECT(CR43) -> 0 | DA43: =INDIRECT(CS43) -> 0 | DB43: =INDIRECT(CT43) -> 0 | DC43: =INDIRECT(CU43) -> 0 | DD43: =INDIRECT(CV43) -> 0 | DE43: =IF(SUM(CW43:DC43)<>0, DD43, "") | DG43: =INDIRECT(DK43) -> 0 | DI43: CW | DJ43: =DJ41 -> 11 | DK43: =DI43&DJ43 -> CW11 | DM43: =IF(DT43<>0, DT43, "") | DN43: =IF(DS43<>0, DS43, "") | DP43: Tiedot!AU | DQ43: =DP43&BQ43 -> Tiedot!AU726 | DR43: =DP43&(BQ43-1) -> Tiedot!AU725 | DS43: =INDIRECT(DR43) -> 0 | DT43: =INDIRECT(DQ43) -> 0 | DV43: =IF(EA43<>0, EA43, "") | DW43: =IF(ISERROR(EC43),"",EC43) -> 0 | DX43: Tiedot!AO | DY43: Tiedot!AN | DZ43: =DY43&BQ43 -> Tiedot!AN726 | EA43: =INDIRECT(DZ43) -> 0 | EB43: =DX43&BQ43 -> Tiedot!AO726 | EC43: =INDIRECT(EB43) -> 0 | ED43: Tiedot!AH | EE43: =ED43&BQ43 -> Tiedot!AH726 | EF43: =INDIRECT(EE43) -> 0 | EG43: =IF(EF43>0, EF43, "") | EH43: =IF(BH43>0,IF(ISERROR(INDIRECT(EJ43)),"",INDIRECT(EJ43)),"") -> #REF! | EI43: Tiedot!AM | EJ43: =EI43&BQ43 -> Tiedot!AM726 | EL43: =IFERROR(EH43^1.4*AL43/100, "") | EN43: =EN42+19 -> 724
A44: =A43+1 -> 29 | B44: =AU44 -> 0 | C44: =AV44 -> 0 | D44: =AO44 -> 0 | E44: =AP44 -> 0 | F44: =AQ44 -> 0 | G44: =EG44 | R44: =D44+E44+F44 -> 0 | AC44: =A44 -> 29 | AD44: 39 | AE44: =Tiedot!B743 -> 0 | AF44: =Tiedot!C743 -> 0 | AG44: =Tiedot!D743 -> 0 | AH44: =Tiedot!E743 -> 0 | AI44: =Tiedot!F743 -> 0 | AJ44: =Tiedot!G743 -> 0 | AK44: =Tiedot!H743 -> 0 | AL44: =Tiedot!I743 -> 0 | ... AQ44: =Tiedot!N743 -> 0 | AR44: =INDIRECT("Tiedot!N" & EN44)+INDIRECT("Tiedot!AU" & (EN44+2)) -> 0 | AS44: =SUM(AO44:AR44) -> 0 | AT44: =AT43+AS44 -> 0 | AU44: =INT(AL44/60) -> 0 | AV44: =AL44-AU44*60 -> 0 | AW44: =Tiedot!B744 -> 0 | AX44: =Tiedot!C744 -> 0 | AY44: =Tiedot!D744 -> 0 | AZ44: =Tiedot!E744 -> 0 | BA44: =Tiedot!F744 -> 0 | BB44: =Tiedot!G744 -> 0 | BC44: =Tiedot!H744 -> 0 | BD44: =Tiedot!I744 -> 0 | BF44: =Tiedot!P743 -> 0 | BH44: =IF(SUM(Tiedot!#REF!)>0, Tiedot!#REF!, "") -> #REF! | BJ44: =BP44-12 -> 729 | BK44: =BJ44+2 -> 731 | BL44: =BK44+2 -> 733 | BM44: =BL44+2 -> 735 | BN44: =BM44+2 -> 737 | BO44: =BN44+2 -> 739 | BP44: =BQ44-4 -> 741 | BQ44: =BQ43+19 -> 745 | BS44: =IF(SUM(CC44:CI44)>0,CJ44,"") | BT44: Tiedot!V | BU44: =$BT44&BJ44 -> Tiedot!V729 | BV44: =$BT44&BK44 -> Tiedot!V731 | BW44: =$BT44&BL44 -> Tiedot!V733 | BX44: =$BT44&BM44 -> Tiedot!V735 | BY44: =$BT44&BN44 -> Tiedot!V737 | BZ44: =$BT44&BO44 -> Tiedot!V739 | CA44: =$BT44&BP44 -> Tiedot!V741 | CB44: =$BT44&BQ44 -> Tiedot!V745 | CC44: =INDIRECT(BU44) | CD44: =INDIRECT(BV44) | CE44: =INDIRECT(BW44) | CF44: =INDIRECT(BX44) | CG44: =INDIRECT(BY44) | CH44: =INDIRECT(BZ44) | CI44: =INDIRECT(CA44) | CJ44: =INDIRECT(CB44) | CK44: =CK41 -> 11 | CL44: CD | CM44: =INDIRECT(CL44&CK44) | CN44: Tiedot!AW | CO44: =$CN44&BJ44 -> Tiedot!AW729 | CP44: =$CN44&BK44 -> Tiedot!AW731 | CQ44: =$CN44&BL44 -> Tiedot!AW733 | CR44: =$CN44&BM44 -> Tiedot!AW735 | CS44: =$CN44&BN44 -> Tiedot!AW737 | CT44: =$CN44&BO44 -> Tiedot!AW739 | CU44: =$CN44&BP44 -> Tiedot!AW741 | CV44: =$CN44&BQ44 -> Tiedot!AW745 | CW44: =INDIRECT(CO44) -> 0 | CX44: =INDIRECT(CP44) -> 0 | CY44: =INDIRECT(CQ44) -> 0 | CZ44: =INDIRECT(CR44) -> 0 | DA44: =INDIRECT(CS44) -> 0 | DB44: =INDIRECT(CT44) -> 0 | DC44: =INDIRECT(CU44) -> 0 | DD44: =INDIRECT(CV44) -> 0 | DE44: =IF(SUM(CW44:DC44)<>0, DD44, "") | DG44: =INDIRECT(DK44) -> 0 | DI44: CX | DJ44: =DJ41 -> 11 | DK44: =DI44&DJ44 -> CX11 | DM44: =IF(DT44<>0, DT44, "") | DN44: =IF(DS44<>0, DS44, "") | DP44: Tiedot!AU | DQ44: =DP44&BQ44 -> Tiedot!AU745 | DR44: =DP44&(BQ44-1) -> Tiedot!AU744 | DS44: =INDIRECT(DR44) -> 0 | DT44: =INDIRECT(DQ44) -> 0 | DV44: =IF(EA44<>0, EA44, "") | DW44: =IF(ISERROR(EC44),"",EC44) -> 0 | DX44: Tiedot!AO | DY44: Tiedot!AN | DZ44: =DY44&BQ44 -> Tiedot!AN745 | EA44: =INDIRECT(DZ44) -> 0 | EB44: =DX44&BQ44 -> Tiedot!AO745 | EC44: =INDIRECT(EB44) -> 0 | ED44: Tiedot!AH | EE44: =ED44&BQ44 -> Tiedot!AH745 | EF44: =INDIRECT(EE44) -> 0 | EG44: =IF(EF44>0, EF44, "") | EH44: =IF(BH44>0,IF(ISERROR(INDIRECT(EJ44)),"",INDIRECT(EJ44)),"") -> #REF! | EI44: Tiedot!AM | EJ44: =EI44&BQ44 -> Tiedot!AM745 | EL44: =IFERROR(EH44^1.4*AL44/100, "") | EN44: =EN43+19 -> 743
A45: =A44+1 -> 30 | B45: =AU45 -> 0 | C45: =AV45 -> 0 | D45: =AO45 -> 0 | E45: =AP45 -> 0 | F45: =AQ45 -> 0 | G45: =EG45 | R45: =D45+E45+F45 -> 0 | AC45: =A45 -> 30 | AD45: 40 | AE45: =Tiedot!B762 -> 0 | AF45: =Tiedot!C762 -> 0 | AG45: =Tiedot!D762 -> 0 | AH45: =Tiedot!E762 -> 0 | AI45: =Tiedot!F762 -> 0 | AJ45: =Tiedot!G762 -> 0 | AK45: =Tiedot!H762 -> 0 | AL45: =Tiedot!I762 -> 0 | ... AQ45: =Tiedot!N762 -> 0 | AR45: =INDIRECT("Tiedot!N" & EN45)+INDIRECT("Tiedot!AU" & (EN45+2)) -> 0 | AS45: =SUM(AO45:AR45) -> 0 | AT45: =AT44+AS45 -> 0 | AU45: =INT(AL45/60) -> 0 | AV45: =AL45-AU45*60 -> 0 | AW45: =Tiedot!B763 -> 0 | AX45: =Tiedot!C763 -> 0 | AY45: =Tiedot!D763 -> 0 | AZ45: =Tiedot!E763 -> 0 | BA45: =Tiedot!F763 -> 0 | BB45: =Tiedot!G763 -> 0 | BC45: =Tiedot!H763 -> 0 | BD45: =Tiedot!I763 -> 0 | BF45: =Tiedot!P762 -> 0 | BH45: =IF(SUM(Tiedot!#REF!)>0, Tiedot!#REF!, "") -> #REF! | BJ45: =BP45-12 -> 748 | BK45: =BJ45+2 -> 750 | BL45: =BK45+2 -> 752 | BM45: =BL45+2 -> 754 | BN45: =BM45+2 -> 756 | BO45: =BN45+2 -> 758 | BP45: =BQ45-4 -> 760 | BQ45: =BQ44+19 -> 764 | BS45: =IF(SUM(CC45:CI45)>0,CJ45,"") | BT45: Tiedot!V | BU45: =$BT45&BJ45 -> Tiedot!V748 | BV45: =$BT45&BK45 -> Tiedot!V750 | BW45: =$BT45&BL45 -> Tiedot!V752 | BX45: =$BT45&BM45 -> Tiedot!V754 | BY45: =$BT45&BN45 -> Tiedot!V756 | BZ45: =$BT45&BO45 -> Tiedot!V758 | CA45: =$BT45&BP45 -> Tiedot!V760 | CB45: =$BT45&BQ45 -> Tiedot!V764 | CC45: =INDIRECT(BU45) | CD45: =INDIRECT(BV45) | CE45: =INDIRECT(BW45) | CF45: =INDIRECT(BX45) | CG45: =INDIRECT(BY45) | CH45: =INDIRECT(BZ45) | CI45: =INDIRECT(CA45) | CJ45: =INDIRECT(CB45) | CK45: =CK41 -> 11 | CL45: CE | CM45: =INDIRECT(CL45&CK45) | CN45: Tiedot!AW | CO45: =$CN45&BJ45 -> Tiedot!AW748 | CP45: =$CN45&BK45 -> Tiedot!AW750 | CQ45: =$CN45&BL45 -> Tiedot!AW752 | CR45: =$CN45&BM45 -> Tiedot!AW754 | CS45: =$CN45&BN45 -> Tiedot!AW756 | CT45: =$CN45&BO45 -> Tiedot!AW758 | CU45: =$CN45&BP45 -> Tiedot!AW760 | CV45: =$CN45&BQ45 -> Tiedot!AW764 | CW45: =INDIRECT(CO45) -> 0 | CX45: =INDIRECT(CP45) -> 0 | CY45: =INDIRECT(CQ45) -> 0 | CZ45: =INDIRECT(CR45) -> 0 | DA45: =INDIRECT(CS45) -> 0 | DB45: =INDIRECT(CT45) -> 0 | DC45: =INDIRECT(CU45) -> 0 | DD45: =INDIRECT(CV45) -> 0 | DE45: =IF(SUM(CW45:DC45)<>0, DD45, "") | DG45: =INDIRECT(DK45) -> 0 | DI45: CY | DJ45: =DJ41 -> 11 | DK45: =DI45&DJ45 -> CY11 | DM45: =IF(DT45<>0, DT45, "") | DN45: =IF(DS45<>0, DS45, "") | DP45: Tiedot!AU | DQ45: =DP45&BQ45 -> Tiedot!AU764 | DR45: =DP45&(BQ45-1) -> Tiedot!AU763 | DS45: =INDIRECT(DR45) -> 0 | DT45: =INDIRECT(DQ45) -> 0 | DV45: =IF(EA45<>0, EA45, "") | DW45: =IF(ISERROR(EC45),"",EC45) -> 0 | DX45: Tiedot!AO | DY45: Tiedot!AN | DZ45: =DY45&BQ45 -> Tiedot!AN764 | EA45: =INDIRECT(DZ45) -> 0 | EB45: =DX45&BQ45 -> Tiedot!AO764 | EC45: =INDIRECT(EB45) -> 0 | ED45: Tiedot!AH | EE45: =ED45&BQ45 -> Tiedot!AH764 | EF45: =INDIRECT(EE45) -> 0 | EG45: =IF(EF45>0, EF45, "") | EH45: =IF(BH45>0,IF(ISERROR(INDIRECT(EJ45)),"",INDIRECT(EJ45)),"") -> #REF! | EI45: Tiedot!AM | EJ45: =EI45&BQ45 -> Tiedot!AM764 | EL45: =IFERROR(EH45^1.4*AL45/100, "") | EN45: =EN44+19 -> 762
A46: =A45+1 -> 31 | B46: =AU46 -> 0 | C46: =AV46 -> 0 | D46: =AO46 -> 0 | E46: =AP46 -> 0 | F46: =AQ46 -> 0 | G46: =EG46 | R46: =D46+E46+F46 -> 0 | AC46: =A46 -> 31 | AD46: 41 | AE46: =Tiedot!B781 -> 0 | AF46: =Tiedot!C781 -> 0 | AG46: =Tiedot!D781 -> 0 | AH46: =Tiedot!E781 -> 0 | AI46: =Tiedot!F781 -> 0 | AJ46: =Tiedot!G781 -> 0 | AK46: =Tiedot!H781 -> 0 | AL46: =Tiedot!I781 -> 0 | ... AQ46: =Tiedot!N781 -> 0 | AR46: =INDIRECT("Tiedot!N" & EN46)+INDIRECT("Tiedot!AU" & (EN46+2)) -> 0 | AS46: =SUM(AO46:AR46) -> 0 | AT46: =AT45+AS46 -> 0 | AU46: =INT(AL46/60) -> 0 | AV46: =AL46-AU46*60 -> 0 | AW46: =Tiedot!B782 -> 0 | AX46: =Tiedot!C782 -> 0 | AY46: =Tiedot!D782 -> 0 | AZ46: =Tiedot!E782 -> 0 | BA46: =Tiedot!F782 -> 0 | BB46: =Tiedot!G782 -> 0 | BC46: =Tiedot!H782 -> 0 | BD46: =Tiedot!I782 -> 0 | BF46: =Tiedot!P781 -> 0 | BH46: =IF(SUM(Tiedot!#REF!)>0, Tiedot!#REF!, "") -> #REF! | BJ46: =BP46-12 -> 767 | BK46: =BJ46+2 -> 769 | BL46: =BK46+2 -> 771 | BM46: =BL46+2 -> 773 | BN46: =BM46+2 -> 775 | BO46: =BN46+2 -> 777 | BP46: =BQ46-4 -> 779 | BQ46: =BQ45+19 -> 783 | BS46: =IF(SUM(CC46:CI46)>0,CJ46,"") | BT46: Tiedot!V | BU46: =$BT46&BJ46 -> Tiedot!V767 | BV46: =$BT46&BK46 -> Tiedot!V769 | BW46: =$BT46&BL46 -> Tiedot!V771 | BX46: =$BT46&BM46 -> Tiedot!V773 | BY46: =$BT46&BN46 -> Tiedot!V775 | BZ46: =$BT46&BO46 -> Tiedot!V777 | CA46: =$BT46&BP46 -> Tiedot!V779 | CB46: =$BT46&BQ46 -> Tiedot!V783 | CC46: =INDIRECT(BU46) | CD46: =INDIRECT(BV46) | CE46: =INDIRECT(BW46) | CF46: =INDIRECT(BX46) | CG46: =INDIRECT(BY46) | CH46: =INDIRECT(BZ46) | CI46: =INDIRECT(CA46) | CJ46: =INDIRECT(CB46) | CK46: =CK41 -> 11 | CL46: CF | CM46: =INDIRECT(CL46&CK46) | CN46: Tiedot!AW | CO46: =$CN46&BJ46 -> Tiedot!AW767 | CP46: =$CN46&BK46 -> Tiedot!AW769 | CQ46: =$CN46&BL46 -> Tiedot!AW771 | CR46: =$CN46&BM46 -> Tiedot!AW773 | CS46: =$CN46&BN46 -> Tiedot!AW775 | CT46: =$CN46&BO46 -> Tiedot!AW777 | CU46: =$CN46&BP46 -> Tiedot!AW779 | CV46: =$CN46&BQ46 -> Tiedot!AW783 | CW46: =INDIRECT(CO46) -> 0 | CX46: =INDIRECT(CP46) -> 0 | CY46: =INDIRECT(CQ46) -> 0 | CZ46: =INDIRECT(CR46) -> 0 | DA46: =INDIRECT(CS46) -> 0 | DB46: =INDIRECT(CT46) -> 0 | DC46: =INDIRECT(CU46) -> 0 | DD46: =INDIRECT(CV46) -> 0 | DE46: =IF(SUM(CW46:DC46)<>0, DD46, "") | DG46: =INDIRECT(DK46) -> 0 | DI46: CZ | DJ46: =DJ41 -> 11 | DK46: =DI46&DJ46 -> CZ11 | DM46: =IF(DT46<>0, DT46, "") | DN46: =IF(DS46<>0, DS46, "") | DP46: Tiedot!AU | DQ46: =DP46&BQ46 -> Tiedot!AU783 | DR46: =DP46&(BQ46-1) -> Tiedot!AU782 | DS46: =INDIRECT(DR46) -> 0 | DT46: =INDIRECT(DQ46) -> 0 | DV46: =IF(EA46<>0, EA46, "") | DW46: =IF(ISERROR(EC46),"",EC46) -> 0 | DX46: Tiedot!AO | DY46: Tiedot!AN | DZ46: =DY46&BQ46 -> Tiedot!AN783 | EA46: =INDIRECT(DZ46) -> 0 | EB46: =DX46&BQ46 -> Tiedot!AO783 | EC46: =INDIRECT(EB46) -> 0 | ED46: Tiedot!AH | EE46: =ED46&BQ46 -> Tiedot!AH783 | EF46: =INDIRECT(EE46) -> 0 | EG46: =IF(EF46>0, EF46, "") | EH46: =IF(BH46>0,IF(ISERROR(INDIRECT(EJ46)),"",INDIRECT(EJ46)),"") -> #REF! | EI46: Tiedot!AM | EJ46: =EI46&BQ46 -> Tiedot!AM783 | EL46: =IFERROR(EH46^1.4*AL46/100, "") | EN46: =EN45+19 -> 781
A47: =A46+1 -> 32 | B47: =AU47 -> 0 | C47: =AV47 -> 0 | D47: =AO47 -> 0 | E47: =AP47 -> 0 | F47: =AQ47 -> 0 | G47: =EG47 | R47: =D47+E47+F47 -> 0 | AC47: =A47 -> 32 | AD47: 42 | AE47: =Tiedot!B800 -> 0 | AF47: =Tiedot!C800 -> 0 | AG47: =Tiedot!D800 -> 0 | AH47: =Tiedot!E800 -> 0 | AI47: =Tiedot!F800 -> 0 | AJ47: =Tiedot!G800 -> 0 | AK47: =Tiedot!H800 -> 0 | AL47: =Tiedot!I800 -> 0 | ... AQ47: =Tiedot!N800 -> 0 | AR47: =INDIRECT("Tiedot!N" & EN47)+INDIRECT("Tiedot!AU" & (EN47+2)) -> 0 | AS47: =SUM(AO47:AR47) -> 0 | AT47: =AT46+AS47 -> 0 | AU47: =INT(AL47/60) -> 0 | AV47: =AL47-AU47*60 -> 0 | AW47: =Tiedot!B801 -> 0 | AX47: =Tiedot!C801 -> 0 | AY47: =Tiedot!D801 -> 0 | AZ47: =Tiedot!E801 -> 0 | BA47: =Tiedot!F801 -> 0 | BB47: =Tiedot!G801 -> 0 | BC47: =Tiedot!H801 -> 0 | BD47: =Tiedot!I801 -> 0 | BF47: =Tiedot!P800 -> 0 | BH47: =IF(SUM(Tiedot!#REF!)>0, Tiedot!#REF!, "") -> #REF! | BJ47: =BP47-12 -> 786 | BK47: =BJ47+2 -> 788 | BL47: =BK47+2 -> 790 | BM47: =BL47+2 -> 792 | BN47: =BM47+2 -> 794 | BO47: =BN47+2 -> 796 | BP47: =BQ47-4 -> 798 | BQ47: =BQ46+19 -> 802 | BS47: =IF(SUM(CC47:CI47)>0,CJ47,"") | BT47: Tiedot!V | BU47: =$BT47&BJ47 -> Tiedot!V786 | BV47: =$BT47&BK47 -> Tiedot!V788 | BW47: =$BT47&BL47 -> Tiedot!V790 | BX47: =$BT47&BM47 -> Tiedot!V792 | BY47: =$BT47&BN47 -> Tiedot!V794 | BZ47: =$BT47&BO47 -> Tiedot!V796 | CA47: =$BT47&BP47 -> Tiedot!V798 | CB47: =$BT47&BQ47 -> Tiedot!V802 | CC47: =INDIRECT(BU47) | CD47: =INDIRECT(BV47) | CE47: =INDIRECT(BW47) | CF47: =INDIRECT(BX47) | CG47: =INDIRECT(BY47) | CH47: =INDIRECT(BZ47) | CI47: =INDIRECT(CA47) | CJ47: =INDIRECT(CB47) | CK47: =CK41 -> 11 | CL47: CG | CM47: =INDIRECT(CL47&CK47) | CN47: Tiedot!AW | CO47: =$CN47&BJ47 -> Tiedot!AW786 | CP47: =$CN47&BK47 -> Tiedot!AW788 | CQ47: =$CN47&BL47 -> Tiedot!AW790 | CR47: =$CN47&BM47 -> Tiedot!AW792 | CS47: =$CN47&BN47 -> Tiedot!AW794 | CT47: =$CN47&BO47 -> Tiedot!AW796 | CU47: =$CN47&BP47 -> Tiedot!AW798 | CV47: =$CN47&BQ47 -> Tiedot!AW802 | CW47: =INDIRECT(CO47) -> 0 | CX47: =INDIRECT(CP47) -> 0 | CY47: =INDIRECT(CQ47) -> 0 | CZ47: =INDIRECT(CR47) -> 0 | DA47: =INDIRECT(CS47) -> 0 | DB47: =INDIRECT(CT47) -> 0 | DC47: =INDIRECT(CU47) -> 0 | DD47: =INDIRECT(CV47) -> 0 | DE47: =IF(SUM(CW47:DC47)<>0, DD47, "") | DG47: =INDIRECT(DK47) -> 0 | DI47: DA | DJ47: =DJ41 -> 11 | DK47: =DI47&DJ47 -> DA11 | DM47: =IF(DT47<>0, DT47, "") | DN47: =IF(DS47<>0, DS47, "") | DP47: Tiedot!AU | DQ47: =DP47&BQ47 -> Tiedot!AU802 | DR47: =DP47&(BQ47-1) -> Tiedot!AU801 | DS47: =INDIRECT(DR47) -> 0 | DT47: =INDIRECT(DQ47) -> 0 | DV47: =IF(EA47<>0, EA47, "") | DW47: =IF(ISERROR(EC47),"",EC47) -> 0 | DX47: Tiedot!AO | DY47: Tiedot!AN | DZ47: =DY47&BQ47 -> Tiedot!AN802 | EA47: =INDIRECT(DZ47) -> 0 | EB47: =DX47&BQ47 -> Tiedot!AO802 | EC47: =INDIRECT(EB47) -> 0 | ED47: Tiedot!AH | EE47: =ED47&BQ47 -> Tiedot!AH802 | EF47: =INDIRECT(EE47) -> 0 | EG47: =IF(EF47>0, EF47, "") | EH47: =IF(BH47>0,IF(ISERROR(INDIRECT(EJ47)),"",INDIRECT(EJ47)),"") -> #REF! | EI47: Tiedot!AM | EJ47: =EI47&BQ47 -> Tiedot!AM802 | EL47: =IFERROR(EH47^1.4*AL47/100, "") | EN47: =EN46+19 -> 800
A48: =A47+1 -> 33 | B48: =AU48 -> 0 | C48: =AV48 -> 0 | D48: =AO48 -> 0 | E48: =AP48 -> 0 | F48: =AQ48 -> 0 | G48: =EG48 | R48: =D48+E48+F48 -> 0 | AC48: =A48 -> 33 | AD48: 43 | AE48: =Tiedot!B819 -> 0 | AF48: =Tiedot!C819 -> 0 | AG48: =Tiedot!D819 -> 0 | AH48: =Tiedot!E819 -> 0 | AI48: =Tiedot!F819 -> 0 | AJ48: =Tiedot!G819 -> 0 | AK48: =Tiedot!H819 -> 0 | AL48: =Tiedot!I819 -> 0 | ... AQ48: =Tiedot!N819 -> 0 | AR48: =INDIRECT("Tiedot!N" & EN48)+INDIRECT("Tiedot!AU" & (EN48+2)) -> 0 | AS48: =SUM(AO48:AR48) -> 0 | AT48: =AT47+AS48 -> 0 | AU48: =INT(AL48/60) -> 0 | AV48: =AL48-AU48*60 -> 0 | AW48: =Tiedot!B820 -> 0 | AX48: =Tiedot!C820 -> 0 | AY48: =Tiedot!D820 -> 0 | AZ48: =Tiedot!E820 -> 0 | BA48: =Tiedot!F820 -> 0 | BB48: =Tiedot!G820 -> 0 | BC48: =Tiedot!H820 -> 0 | BD48: =Tiedot!I820 -> 0 | BF48: =Tiedot!P819 -> 0 | BH48: =IF(SUM(Tiedot!#REF!)>0, Tiedot!#REF!, "") -> #REF! | BJ48: =BP48-12 -> 805 | BK48: =BJ48+2 -> 807 | BL48: =BK48+2 -> 809 | BM48: =BL48+2 -> 811 | BN48: =BM48+2 -> 813 | BO48: =BN48+2 -> 815 | BP48: =BQ48-4 -> 817 | BQ48: =BQ47+19 -> 821 | BS48: =IF(SUM(CC48:CI48)>0,CJ48,"") | BT48: Tiedot!V | BU48: =$BT48&BJ48 -> Tiedot!V805 | BV48: =$BT48&BK48 -> Tiedot!V807 | BW48: =$BT48&BL48 -> Tiedot!V809 | BX48: =$BT48&BM48 -> Tiedot!V811 | BY48: =$BT48&BN48 -> Tiedot!V813 | BZ48: =$BT48&BO48 -> Tiedot!V815 | CA48: =$BT48&BP48 -> Tiedot!V817 | CB48: =$BT48&BQ48 -> Tiedot!V821 | CC48: =INDIRECT(BU48) | CD48: =INDIRECT(BV48) | CE48: =INDIRECT(BW48) | CF48: =INDIRECT(BX48) | CG48: =INDIRECT(BY48) | CH48: =INDIRECT(BZ48) | CI48: =INDIRECT(CA48) | CJ48: =INDIRECT(CB48) | CK48: =CK41+1 -> 12 | CL48: CA | CM48: =INDIRECT(CL48&CK48) -> Tiedot!V133 | CN48: Tiedot!AW | CO48: =$CN48&BJ48 -> Tiedot!AW805 | CP48: =$CN48&BK48 -> Tiedot!AW807 | CQ48: =$CN48&BL48 -> Tiedot!AW809 | CR48: =$CN48&BM48 -> Tiedot!AW811 | CS48: =$CN48&BN48 -> Tiedot!AW813 | CT48: =$CN48&BO48 -> Tiedot!AW815 | CU48: =$CN48&BP48 -> Tiedot!AW817 | CV48: =$CN48&BQ48 -> Tiedot!AW821 | CW48: =INDIRECT(CO48) -> 0 | CX48: =INDIRECT(CP48) -> 0 | CY48: =INDIRECT(CQ48) -> 0 | CZ48: =INDIRECT(CR48) -> 0 | DA48: =INDIRECT(CS48) -> 0 | DB48: =INDIRECT(CT48) -> 0 | DC48: =INDIRECT(CU48) -> 0 | DD48: =INDIRECT(CV48) -> 0 | DE48: =IF(SUM(CW48:DC48)<>0, DD48, "") | DG48: =INDIRECT(DK48) -> Tiedot!AW133 | DI48: CU | DJ48: =DJ41+1 -> 12 | DK48: =DI48&DJ48 -> CU12 | DM48: =IF(DT48<>0, DT48, "") | DN48: =IF(DS48<>0, DS48, "") | DP48: Tiedot!AU | DQ48: =DP48&BQ48 -> Tiedot!AU821 | DR48: =DP48&(BQ48-1) -> Tiedot!AU820 | DS48: =INDIRECT(DR48) -> 0 | DT48: =INDIRECT(DQ48) -> 0 | DV48: =IF(EA48<>0, EA48, "") | DW48: =IF(ISERROR(EC48),"",EC48) -> 0 | DX48: Tiedot!AO | DY48: Tiedot!AN | DZ48: =DY48&BQ48 -> Tiedot!AN821 | EA48: =INDIRECT(DZ48) -> 0 | EB48: =DX48&BQ48 -> Tiedot!AO821 | EC48: =INDIRECT(EB48) -> 0 | ED48: Tiedot!AH | EE48: =ED48&BQ48 -> Tiedot!AH821 | EF48: =INDIRECT(EE48) -> 0 | EG48: =IF(EF48>0, EF48, "") | EH48: =IF(BH48>0,IF(ISERROR(INDIRECT(EJ48)),"",INDIRECT(EJ48)),"") -> #REF! | EI48: Tiedot!AM | EJ48: =EI48&BQ48 -> Tiedot!AM821 | EL48: =IFERROR(EH48^1.4*AL48/100, "") | EN48: =EN47+19 -> 819
A49: =A48+1 -> 34 | B49: =AU49 -> 0 | C49: =AV49 -> 0 | D49: =AO49 -> 0 | E49: =AP49 -> 0 | F49: =AQ49 -> 0 | G49: =EG49 | R49: =D49+E49+F49 -> 0 | AC49: =A49 -> 34 | AD49: 44 | AE49: =Tiedot!B838 -> 0 | AF49: =Tiedot!C838 -> 0 | AG49: =Tiedot!D838 -> 0 | AH49: =Tiedot!E838 -> 0 | AI49: =Tiedot!F838 -> 0 | AJ49: =Tiedot!G838 -> 0 | AK49: =Tiedot!H838 -> 0 | AL49: =Tiedot!I838 -> 0 | ... AQ49: =Tiedot!N838 -> 0 | AR49: =INDIRECT("Tiedot!N" & EN49)+INDIRECT("Tiedot!AU" & (EN49+2)) -> 0 | AS49: =SUM(AO49:AR49) -> 0 | AT49: =AT48+AS49 -> 0 | AU49: =INT(AL49/60) -> 0 | AV49: =AL49-AU49*60 -> 0 | AW49: =Tiedot!B839 -> 0 | AX49: =Tiedot!C839 -> 0 | AY49: =Tiedot!D839 -> 0 | AZ49: =Tiedot!E839 -> 0 | BA49: =Tiedot!F839 -> 0 | BB49: =Tiedot!G839 -> 0 | BC49: =Tiedot!H839 -> 0 | BD49: =Tiedot!I839 -> 0 | BF49: =Tiedot!P838 -> 0 | BH49: =IF(SUM(Tiedot!#REF!)>0, Tiedot!#REF!, "") -> #REF! | BJ49: =BP49-12 -> 824 | BK49: =BJ49+2 -> 826 | BL49: =BK49+2 -> 828 | BM49: =BL49+2 -> 830 | BN49: =BM49+2 -> 832 | BO49: =BN49+2 -> 834 | BP49: =BQ49-4 -> 836 | BQ49: =BQ48+19 -> 840 | BS49: =IF(SUM(CC49:CI49)>0,CJ49,"") | BT49: Tiedot!V | BU49: =$BT49&BJ49 -> Tiedot!V824 | BV49: =$BT49&BK49 -> Tiedot!V826 | BW49: =$BT49&BL49 -> Tiedot!V828 | BX49: =$BT49&BM49 -> Tiedot!V830 | BY49: =$BT49&BN49 -> Tiedot!V832 | BZ49: =$BT49&BO49 -> Tiedot!V834 | CA49: =$BT49&BP49 -> Tiedot!V836 | CB49: =$BT49&BQ49 -> Tiedot!V840 | CC49: =INDIRECT(BU49) | CD49: =INDIRECT(BV49) | CE49: =INDIRECT(BW49) | CF49: =INDIRECT(BX49) | CG49: =INDIRECT(BY49) | CH49: =INDIRECT(BZ49) | CI49: =INDIRECT(CA49) | CJ49: =INDIRECT(CB49) | CK49: =CK48 -> 12 | CL49: CB | CM49: =INDIRECT(CL49&CK49) -> Tiedot!V137 | CN49: Tiedot!AW | CO49: =$CN49&BJ49 -> Tiedot!AW824 | CP49: =$CN49&BK49 -> Tiedot!AW826 | CQ49: =$CN49&BL49 -> Tiedot!AW828 | CR49: =$CN49&BM49 -> Tiedot!AW830 | CS49: =$CN49&BN49 -> Tiedot!AW832 | CT49: =$CN49&BO49 -> Tiedot!AW834 | CU49: =$CN49&BP49 -> Tiedot!AW836 | CV49: =$CN49&BQ49 -> Tiedot!AW840 | CW49: =INDIRECT(CO49) -> 0 | CX49: =INDIRECT(CP49) -> 0 | CY49: =INDIRECT(CQ49) -> 0 | CZ49: =INDIRECT(CR49) -> 0 | DA49: =INDIRECT(CS49) -> 0 | DB49: =INDIRECT(CT49) -> 0 | DC49: =INDIRECT(CU49) -> 0 | DD49: =INDIRECT(CV49) -> 0 | DE49: =IF(SUM(CW49:DC49)<>0, DD49, "") | DG49: =INDIRECT(DK49) -> Tiedot!AW137 | DI49: CV | DJ49: =DJ48 -> 12 | DK49: =DI49&DJ49 -> CV12 | DM49: =IF(DT49<>0, DT49, "") | DN49: =IF(DS49<>0, DS49, "") | DP49: Tiedot!AU | DQ49: =DP49&BQ49 -> Tiedot!AU840 | DR49: =DP49&(BQ49-1) -> Tiedot!AU839 | DS49: =INDIRECT(DR49) -> 0 | DT49: =INDIRECT(DQ49) -> 0 | DV49: =IF(EA49<>0, EA49, "") | DW49: =IF(ISERROR(EC49),"",EC49) -> 0 | DX49: Tiedot!AO | DY49: Tiedot!AN | DZ49: =DY49&BQ49 -> Tiedot!AN840 | EA49: =INDIRECT(DZ49) -> 0 | EB49: =DX49&BQ49 -> Tiedot!AO840 | EC49: =INDIRECT(EB49) -> 0 | ED49: Tiedot!AH | EE49: =ED49&BQ49 -> Tiedot!AH840 | EF49: =INDIRECT(EE49) -> 0 | EG49: =IF(EF49>0, EF49, "") | EH49: =IF(BH49>0,IF(ISERROR(INDIRECT(EJ49)),"",INDIRECT(EJ49)),"") -> #REF! | EI49: Tiedot!AM | EJ49: =EI49&BQ49 -> Tiedot!AM840 | EL49: =IFERROR(EH49^1.4*AL49/100, "") | EN49: =EN48+19 -> 838
A50: =A49+1 -> 35 | B50: =AU50 -> 0 | C50: =AV50 -> 0 | D50: =AO50 -> 0 | E50: =AP50 -> 0 | F50: =AQ50 -> 0 | G50: =EG50 | R50: =D50+E50+F50 -> 0 | AC50: =A50 -> 35 | AD50: 45 | AE50: =Tiedot!B857 -> 0 | AF50: =Tiedot!C857 -> 0 | AG50: =Tiedot!D857 -> 0 | AH50: =Tiedot!E857 -> 0 | AI50: =Tiedot!F857 -> 0 | AJ50: =Tiedot!G857 -> 0 | AK50: =Tiedot!H857 -> 0 | AL50: =Tiedot!I857 -> 0 | ... AQ50: =Tiedot!N857 -> 0 | AR50: =INDIRECT("Tiedot!N" & EN50)+INDIRECT("Tiedot!AU" & (EN50+2)) -> 0 | AS50: =SUM(AO50:AR50) -> 0 | AT50: =AT49+AS50 -> 0 | AU50: =INT(AL50/60) -> 0 | AV50: =AL50-AU50*60 -> 0 | AW50: =Tiedot!B858 -> 0 | AX50: =Tiedot!C858 -> 0 | AY50: =Tiedot!D858 -> 0 | AZ50: =Tiedot!E858 -> 0 | BA50: =Tiedot!F858 -> 0 | BB50: =Tiedot!G858 -> 0 | BC50: =Tiedot!H858 -> 0 | BD50: =Tiedot!I858 -> 0 | BF50: =Tiedot!P857 -> 0 | BH50: =IF(SUM(Tiedot!#REF!)>0, Tiedot!#REF!, "") -> #REF! | BJ50: =BP50-12 -> 843 | BK50: =BJ50+2 -> 845 | BL50: =BK50+2 -> 847 | BM50: =BL50+2 -> 849 | BN50: =BM50+2 -> 851 | BO50: =BN50+2 -> 853 | BP50: =BQ50-4 -> 855 | BQ50: =BQ49+19 -> 859 | BS50: =IF(SUM(CC50:CI50)>0,CJ50,"") | BT50: Tiedot!V | BU50: =$BT50&BJ50 -> Tiedot!V843 | BV50: =$BT50&BK50 -> Tiedot!V845 | BW50: =$BT50&BL50 -> Tiedot!V847 | BX50: =$BT50&BM50 -> Tiedot!V849 | BY50: =$BT50&BN50 -> Tiedot!V851 | BZ50: =$BT50&BO50 -> Tiedot!V853 | CA50: =$BT50&BP50 -> Tiedot!V855 | CB50: =$BT50&BQ50 -> Tiedot!V859 | CC50: =INDIRECT(BU50) | CD50: =INDIRECT(BV50) | CE50: =INDIRECT(BW50) | CF50: =INDIRECT(BX50) | CG50: =INDIRECT(BY50) | CH50: =INDIRECT(BZ50) | CI50: =INDIRECT(CA50) | CJ50: =INDIRECT(CB50) | CK50: =CK48 -> 12 | CL50: CC | CM50: =INDIRECT(CL50&CK50) | CN50: Tiedot!AW | CO50: =$CN50&BJ50 -> Tiedot!AW843 | CP50: =$CN50&BK50 -> Tiedot!AW845 | CQ50: =$CN50&BL50 -> Tiedot!AW847 | CR50: =$CN50&BM50 -> Tiedot!AW849 | CS50: =$CN50&BN50 -> Tiedot!AW851 | CT50: =$CN50&BO50 -> Tiedot!AW853 | CU50: =$CN50&BP50 -> Tiedot!AW855 | CV50: =$CN50&BQ50 -> Tiedot!AW859 | CW50: =INDIRECT(CO50) -> 0 | CX50: =INDIRECT(CP50) -> 0 | CY50: =INDIRECT(CQ50) -> 0 | CZ50: =INDIRECT(CR50) -> 0 | DA50: =INDIRECT(CS50) -> 0 | DB50: =INDIRECT(CT50) -> 0 | DC50: =INDIRECT(CU50) -> 0 | DD50: =INDIRECT(CV50) -> 0 | DE50: =IF(SUM(CW50:DC50)<>0, DD50, "") | DG50: =INDIRECT(DK50) -> 0 | DI50: CW | DJ50: =DJ48 -> 12 | DK50: =DI50&DJ50 -> CW12 | DM50: =IF(DT50<>0, DT50, "") | DN50: =IF(DS50<>0, DS50, "") | DP50: Tiedot!AU | DQ50: =DP50&BQ50 -> Tiedot!AU859 | DR50: =DP50&(BQ50-1) -> Tiedot!AU858 | DS50: =INDIRECT(DR50) -> 0 | DT50: =INDIRECT(DQ50) -> 0 | DV50: =IF(EA50<>0, EA50, "") | DW50: =IF(ISERROR(EC50),"",EC50) -> 0 | DX50: Tiedot!AO | DY50: Tiedot!AN | DZ50: =DY50&BQ50 -> Tiedot!AN859 | EA50: =INDIRECT(DZ50) -> 0 | EB50: =DX50&BQ50 -> Tiedot!AO859 | EC50: =INDIRECT(EB50) -> 0 | ED50: Tiedot!AH | EE50: =ED50&BQ50 -> Tiedot!AH859 | EF50: =INDIRECT(EE50) -> 0 | EG50: =IF(EF50>0, EF50, "") | EH50: =IF(BH50>0,IF(ISERROR(INDIRECT(EJ50)),"",INDIRECT(EJ50)),"") -> #REF! | EI50: Tiedot!AM | EJ50: =EI50&BQ50 -> Tiedot!AM859 | EL50: =IFERROR(EH50^1.4*AL50/100, "") | EN50: =EN49+19 -> 857
A51: =A50+1 -> 36 | B51: =AU51 -> 0 | C51: =AV51 -> 0 | D51: =AO51 -> 0 | E51: =AP51 -> 0 | F51: =AQ51 -> 0 | G51: =EG51 | R51: =D51+E51+F51 -> 0 | AC51: =A51 -> 36 | AD51: 46 | AE51: =Tiedot!B876 -> 0 | AF51: =Tiedot!C876 -> 0 | AG51: =Tiedot!D876 -> 0 | AH51: =Tiedot!E876 -> 0 | AI51: =Tiedot!F876 -> 0 | AJ51: =Tiedot!G876 -> 0 | AK51: =Tiedot!H876 -> 0 | AL51: =Tiedot!I876 -> 0 | ... AQ51: =Tiedot!N876 -> 0 | AR51: =INDIRECT("Tiedot!N" & EN51)+INDIRECT("Tiedot!AU" & (EN51+2)) -> 0 | AS51: =SUM(AO51:AR51) -> 0 | AT51: =AT50+AS51 -> 0 | AU51: =INT(AL51/60) -> 0 | AV51: =AL51-AU51*60 -> 0 | AW51: =Tiedot!B877 -> 0 | AX51: =Tiedot!C877 -> 0 | AY51: =Tiedot!D877 -> 0 | AZ51: =Tiedot!E877 -> 0 | BA51: =Tiedot!F877 -> 0 | BB51: =Tiedot!G877 -> 0 | BC51: =Tiedot!H877 -> 0 | BD51: =Tiedot!I877 -> 0 | BF51: =Tiedot!P876 -> 0 | BH51: =IF(SUM(Tiedot!#REF!)>0, Tiedot!#REF!, "") -> #REF! | BJ51: =BP51-12 -> 862 | BK51: =BJ51+2 -> 864 | BL51: =BK51+2 -> 866 | BM51: =BL51+2 -> 868 | BN51: =BM51+2 -> 870 | BO51: =BN51+2 -> 872 | BP51: =BQ51-4 -> 874 | BQ51: =BQ50+19 -> 878 | BS51: =IF(SUM(CC51:CI51)>0,CJ51,"") | BT51: Tiedot!V | BU51: =$BT51&BJ51 -> Tiedot!V862 | BV51: =$BT51&BK51 -> Tiedot!V864 | BW51: =$BT51&BL51 -> Tiedot!V866 | BX51: =$BT51&BM51 -> Tiedot!V868 | BY51: =$BT51&BN51 -> Tiedot!V870 | BZ51: =$BT51&BO51 -> Tiedot!V872 | CA51: =$BT51&BP51 -> Tiedot!V874 | CB51: =$BT51&BQ51 -> Tiedot!V878 | CC51: =INDIRECT(BU51) | CD51: =INDIRECT(BV51) | CE51: =INDIRECT(BW51) | CF51: =INDIRECT(BX51) | CG51: =INDIRECT(BY51) | CH51: =INDIRECT(BZ51) | CI51: =INDIRECT(CA51) | CJ51: =INDIRECT(CB51) | CK51: =CK48 -> 12 | CL51: CD | CM51: =INDIRECT(CL51&CK51) | CN51: Tiedot!AW | CO51: =$CN51&BJ51 -> Tiedot!AW862 | CP51: =$CN51&BK51 -> Tiedot!AW864 | CQ51: =$CN51&BL51 -> Tiedot!AW866 | CR51: =$CN51&BM51 -> Tiedot!AW868 | CS51: =$CN51&BN51 -> Tiedot!AW870 | CT51: =$CN51&BO51 -> Tiedot!AW872 | CU51: =$CN51&BP51 -> Tiedot!AW874 | CV51: =$CN51&BQ51 -> Tiedot!AW878 | CW51: =INDIRECT(CO51) -> 0 | CX51: =INDIRECT(CP51) -> 0 | CY51: =INDIRECT(CQ51) -> 0 | CZ51: =INDIRECT(CR51) -> 0 | DA51: =INDIRECT(CS51) -> 0 | DB51: =INDIRECT(CT51) -> 0 | DC51: =INDIRECT(CU51) -> 0 | DD51: =INDIRECT(CV51) -> 0 | DE51: =IF(SUM(CW51:DC51)<>0, DD51, "") | DG51: =INDIRECT(DK51) -> 0 | DI51: CX | DJ51: =DJ48 -> 12 | DK51: =DI51&DJ51 -> CX12 | DM51: =IF(DT51<>0, DT51, "") | DN51: =IF(DS51<>0, DS51, "") | DP51: Tiedot!AU | DQ51: =DP51&BQ51 -> Tiedot!AU878 | DR51: =DP51&(BQ51-1) -> Tiedot!AU877 | DS51: =INDIRECT(DR51) -> 0 | DT51: =INDIRECT(DQ51) -> 0 | DV51: =IF(EA51<>0, EA51, "") | DW51: =IF(ISERROR(EC51),"",EC51) -> 0 | DX51: Tiedot!AO | DY51: Tiedot!AN | DZ51: =DY51&BQ51 -> Tiedot!AN878 | EA51: =INDIRECT(DZ51) -> 0 | EB51: =DX51&BQ51 -> Tiedot!AO878 | EC51: =INDIRECT(EB51) -> 0 | ED51: Tiedot!AH | EE51: =ED51&BQ51 -> Tiedot!AH878 | EF51: =INDIRECT(EE51) -> 0 | EG51: =IF(EF51>0, EF51, "") | EH51: =IF(BH51>0,IF(ISERROR(INDIRECT(EJ51)),"",INDIRECT(EJ51)),"") -> #REF! | EI51: Tiedot!AM | EJ51: =EI51&BQ51 -> Tiedot!AM878 | EL51: =IFERROR(EH51^1.4*AL51/100, "") | EN51: =EN50+19 -> 876
A52: =A51+1 -> 37 | B52: =AU52 -> 0 | C52: =AV52 -> 0 | D52: =AO52 -> 0 | E52: =AP52 -> 0 | F52: =AQ52 -> 0 | G52: =EG52 | R52: =D52+E52+F52 -> 0 | AC52: =A52 -> 37 | AD52: 47 | AE52: =Tiedot!B895 -> 0 | AF52: =Tiedot!C895 -> 0 | AG52: =Tiedot!D895 -> 0 | AH52: =Tiedot!E895 -> 0 | AI52: =Tiedot!F895 -> 0 | AJ52: =Tiedot!G895 -> 0 | AK52: =Tiedot!H895 -> 0 | AL52: =Tiedot!I895 -> 0 | ... AQ52: =Tiedot!N895 -> 0 | AR52: =INDIRECT("Tiedot!N" & EN52)+INDIRECT("Tiedot!AU" & (EN52+2)) -> 0 | AS52: =SUM(AO52:AR52) -> 0 | AT52: =AT51+AS52 -> 0 | AU52: =INT(AL52/60) -> 0 | AV52: =AL52-AU52*60 -> 0 | AW52: =Tiedot!B896 -> 0 | AX52: =Tiedot!C896 -> 0 | AY52: =Tiedot!D896 -> 0 | AZ52: =Tiedot!E896 -> 0 | BA52: =Tiedot!F896 -> 0 | BB52: =Tiedot!G896 -> 0 | BC52: =Tiedot!H896 -> 0 | BD52: =Tiedot!I896 -> 0 | BF52: =Tiedot!P895 -> 0 | BH52: =IF(SUM(Tiedot!#REF!)>0, Tiedot!#REF!, "") -> #REF! | BJ52: =BP52-12 -> 881 | BK52: =BJ52+2 -> 883 | BL52: =BK52+2 -> 885 | BM52: =BL52+2 -> 887 | BN52: =BM52+2 -> 889 | BO52: =BN52+2 -> 891 | BP52: =BQ52-4 -> 893 | BQ52: =BQ51+19 -> 897 | BS52: =IF(SUM(CC52:CI52)>0,CJ52,"") | BT52: Tiedot!V | BU52: =$BT52&BJ52 -> Tiedot!V881 | BV52: =$BT52&BK52 -> Tiedot!V883 | BW52: =$BT52&BL52 -> Tiedot!V885 | BX52: =$BT52&BM52 -> Tiedot!V887 | BY52: =$BT52&BN52 -> Tiedot!V889 | BZ52: =$BT52&BO52 -> Tiedot!V891 | CA52: =$BT52&BP52 -> Tiedot!V893 | CB52: =$BT52&BQ52 -> Tiedot!V897 | CC52: =INDIRECT(BU52) | CD52: =INDIRECT(BV52) | CE52: =INDIRECT(BW52) | CF52: =INDIRECT(BX52) | CG52: =INDIRECT(BY52) | CH52: =INDIRECT(BZ52) | CI52: =INDIRECT(CA52) | CJ52: =INDIRECT(CB52) | CK52: =CK48 -> 12 | CL52: CE | CM52: =INDIRECT(CL52&CK52) | CN52: Tiedot!AW | CO52: =$CN52&BJ52 -> Tiedot!AW881 | CP52: =$CN52&BK52 -> Tiedot!AW883 | CQ52: =$CN52&BL52 -> Tiedot!AW885 | CR52: =$CN52&BM52 -> Tiedot!AW887 | CS52: =$CN52&BN52 -> Tiedot!AW889 | CT52: =$CN52&BO52 -> Tiedot!AW891 | CU52: =$CN52&BP52 -> Tiedot!AW893 | CV52: =$CN52&BQ52 -> Tiedot!AW897 | CW52: =INDIRECT(CO52) -> 0 | CX52: =INDIRECT(CP52) -> 0 | CY52: =INDIRECT(CQ52) -> 0 | CZ52: =INDIRECT(CR52) -> 0 | DA52: =INDIRECT(CS52) -> 0 | DB52: =INDIRECT(CT52) -> 0 | DC52: =INDIRECT(CU52) -> 0 | DD52: =INDIRECT(CV52) -> 0 | DE52: =IF(SUM(CW52:DC52)<>0, DD52, "") | DG52: =INDIRECT(DK52) -> 0 | DI52: CY | DJ52: =DJ48 -> 12 | DK52: =DI52&DJ52 -> CY12 | DM52: =IF(DT52<>0, DT52, "") | DN52: =IF(DS52<>0, DS52, "") | DP52: Tiedot!AU | DQ52: =DP52&BQ52 -> Tiedot!AU897 | DR52: =DP52&(BQ52-1) -> Tiedot!AU896 | DS52: =INDIRECT(DR52) -> 0 | DT52: =INDIRECT(DQ52) -> 0 | DV52: =IF(EA52<>0, EA52, "") | DW52: =IF(ISERROR(EC52),"",EC52) -> 0 | DX52: Tiedot!AO | DY52: Tiedot!AN | DZ52: =DY52&BQ52 -> Tiedot!AN897 | EA52: =INDIRECT(DZ52) -> 0 | EB52: =DX52&BQ52 -> Tiedot!AO897 | EC52: =INDIRECT(EB52) -> 0 | ED52: Tiedot!AH | EE52: =ED52&BQ52 -> Tiedot!AH897 | EF52: =INDIRECT(EE52) -> 0 | EG52: =IF(EF52>0, EF52, "") | EH52: =IF(BH52>0,IF(ISERROR(INDIRECT(EJ52)),"",INDIRECT(EJ52)),"") -> #REF! | EI52: Tiedot!AM | EJ52: =EI52&BQ52 -> Tiedot!AM897 | EL52: =IFERROR(EH52^1.4*AL52/100, "") | EN52: =EN51+19 -> 895
A53: =A52+1 -> 38 | B53: =AU53 -> 0 | C53: =AV53 -> 0 | D53: =AO53 -> 0 | E53: =AP53 -> 0 | F53: =AQ53 -> 0 | G53: =EG53 | R53: =D53+E53+F53 -> 0 | AC53: =A53 -> 38 | AD53: 48 | AE53: =Tiedot!B914 -> 0 | AF53: =Tiedot!C914 -> 0 | AG53: =Tiedot!D914 -> 0 | AH53: =Tiedot!E914 -> 0 | AI53: =Tiedot!F914 -> 0 | AJ53: =Tiedot!G914 -> 0 | AK53: =Tiedot!H914 -> 0 | AL53: =Tiedot!I914 -> 0 | ... AQ53: =Tiedot!N914 -> 0 | AR53: =INDIRECT("Tiedot!N" & EN53)+INDIRECT("Tiedot!AU" & (EN53+2)) -> 0 | AS53: =SUM(AO53:AR53) -> 0 | AT53: =AT52+AS53 -> 0 | AU53: =INT(AL53/60) -> 0 | AV53: =AL53-AU53*60 -> 0 | AW53: =Tiedot!B915 -> 0 | AX53: =Tiedot!C915 -> 0 | AY53: =Tiedot!D915 -> 0 | AZ53: =Tiedot!E915 -> 0 | BA53: =Tiedot!F915 -> 0 | BB53: =Tiedot!G915 -> 0 | BC53: =Tiedot!H915 -> 0 | BD53: =Tiedot!I915 -> 0 | BF53: =Tiedot!P914 -> 0 | BH53: =IF(SUM(Tiedot!#REF!)>0, Tiedot!#REF!, "") -> #REF! | BJ53: =BP53-12 -> 900 | BK53: =BJ53+2 -> 902 | BL53: =BK53+2 -> 904 | BM53: =BL53+2 -> 906 | BN53: =BM53+2 -> 908 | BO53: =BN53+2 -> 910 | BP53: =BQ53-4 -> 912 | BQ53: =BQ52+19 -> 916 | BS53: =IF(SUM(CC53:CI53)>0,CJ53,"") | BT53: Tiedot!V | BU53: =$BT53&BJ53 -> Tiedot!V900 | BV53: =$BT53&BK53 -> Tiedot!V902 | BW53: =$BT53&BL53 -> Tiedot!V904 | BX53: =$BT53&BM53 -> Tiedot!V906 | BY53: =$BT53&BN53 -> Tiedot!V908 | BZ53: =$BT53&BO53 -> Tiedot!V910 | CA53: =$BT53&BP53 -> Tiedot!V912 | CB53: =$BT53&BQ53 -> Tiedot!V916 | CC53: =INDIRECT(BU53) | CD53: =INDIRECT(BV53) | CE53: =INDIRECT(BW53) | CF53: =INDIRECT(BX53) | CG53: =INDIRECT(BY53) | CH53: =INDIRECT(BZ53) | CI53: =INDIRECT(CA53) | CJ53: =INDIRECT(CB53) | CK53: =CK48 -> 12 | CL53: CF | CM53: =INDIRECT(CL53&CK53) | CN53: Tiedot!AW | CO53: =$CN53&BJ53 -> Tiedot!AW900 | CP53: =$CN53&BK53 -> Tiedot!AW902 | CQ53: =$CN53&BL53 -> Tiedot!AW904 | CR53: =$CN53&BM53 -> Tiedot!AW906 | CS53: =$CN53&BN53 -> Tiedot!AW908 | CT53: =$CN53&BO53 -> Tiedot!AW910 | CU53: =$CN53&BP53 -> Tiedot!AW912 | CV53: =$CN53&BQ53 -> Tiedot!AW916 | CW53: =INDIRECT(CO53) -> 0 | CX53: =INDIRECT(CP53) -> 0 | CY53: =INDIRECT(CQ53) -> 0 | CZ53: =INDIRECT(CR53) -> 0 | DA53: =INDIRECT(CS53) -> 0 | DB53: =INDIRECT(CT53) -> 0 | DC53: =INDIRECT(CU53) -> 0 | DD53: =INDIRECT(CV53) -> 0 | DE53: =IF(SUM(CW53:DC53)<>0, DD53, "") | DG53: =INDIRECT(DK53) -> 0 | DI53: CZ | DJ53: =DJ48 -> 12 | DK53: =DI53&DJ53 -> CZ12 | DM53: =IF(DT53<>0, DT53, "") | DN53: =IF(DS53<>0, DS53, "") | DP53: Tiedot!AU | DQ53: =DP53&BQ53 -> Tiedot!AU916 | DR53: =DP53&(BQ53-1) -> Tiedot!AU915 | DS53: =INDIRECT(DR53) -> 0 | DT53: =INDIRECT(DQ53) -> 0 | DV53: =IF(EA53<>0, EA53, "") | DW53: =IF(ISERROR(EC53),"",EC53) -> 0 | DX53: Tiedot!AO | DY53: Tiedot!AN | DZ53: =DY53&BQ53 -> Tiedot!AN916 | EA53: =INDIRECT(DZ53) -> 0 | EB53: =DX53&BQ53 -> Tiedot!AO916 | EC53: =INDIRECT(EB53) -> 0 | ED53: Tiedot!AH | EE53: =ED53&BQ53 -> Tiedot!AH916 | EF53: =INDIRECT(EE53) -> 0 | EG53: =IF(EF53>0, EF53, "") | EH53: =IF(BH53>0,IF(ISERROR(INDIRECT(EJ53)),"",INDIRECT(EJ53)),"") -> #REF! | EI53: Tiedot!AM | EJ53: =EI53&BQ53 -> Tiedot!AM916 | EL53: =IFERROR(EH53^1.4*AL53/100, "") | EN53: =EN52+19 -> 914
A54: =A53+1 -> 39 | B54: =AU54 -> 0 | C54: =AV54 -> 0 | D54: =AO54 -> 0 | E54: =AP54 -> 0 | F54: =AQ54 -> 0 | G54: =EG54 | R54: =D54+E54+F54 -> 0 | AC54: =A54 -> 39 | AD54: 49 | AE54: =Tiedot!B933 -> 0 | AF54: =Tiedot!C933 -> 0 | AG54: =Tiedot!D933 -> 0 | AH54: =Tiedot!E933 -> 0 | AI54: =Tiedot!F933 -> 0 | AJ54: =Tiedot!G933 -> 0 | AK54: =Tiedot!H933 -> 0 | AL54: =Tiedot!I933 -> 0 | ... AQ54: =Tiedot!N933 -> 0 | AR54: =INDIRECT("Tiedot!N" & EN54)+INDIRECT("Tiedot!AU" & (EN54+2)) -> 0 | AS54: =SUM(AO54:AR54) -> 0 | AT54: =AT53+AS54 -> 0 | AU54: =INT(AL54/60) -> 0 | AV54: =AL54-AU54*60 -> 0 | AW54: =Tiedot!B934 -> 0 | AX54: =Tiedot!C934 -> 0 | AY54: =Tiedot!D934 -> 0 | AZ54: =Tiedot!E934 -> 0 | BA54: =Tiedot!F934 -> 0 | BB54: =Tiedot!G934 -> 0 | BC54: =Tiedot!H934 -> 0 | BD54: =Tiedot!I934 -> 0 | BF54: =Tiedot!P933 -> 0 | BH54: =IF(SUM(Tiedot!#REF!)>0, Tiedot!#REF!, "") -> #REF! | BJ54: =BP54-12 -> 919 | BK54: =BJ54+2 -> 921 | BL54: =BK54+2 -> 923 | BM54: =BL54+2 -> 925 | BN54: =BM54+2 -> 927 | BO54: =BN54+2 -> 929 | BP54: =BQ54-4 -> 931 | BQ54: =BQ53+19 -> 935 | BS54: =IF(SUM(CC54:CI54)>0,CJ54,"") | BT54: Tiedot!V | BU54: =$BT54&BJ54 -> Tiedot!V919 | BV54: =$BT54&BK54 -> Tiedot!V921 | BW54: =$BT54&BL54 -> Tiedot!V923 | BX54: =$BT54&BM54 -> Tiedot!V925 | BY54: =$BT54&BN54 -> Tiedot!V927 | BZ54: =$BT54&BO54 -> Tiedot!V929 | CA54: =$BT54&BP54 -> Tiedot!V931 | CB54: =$BT54&BQ54 -> Tiedot!V935 | CC54: =INDIRECT(BU54) | CD54: =INDIRECT(BV54) | CE54: =INDIRECT(BW54) | CF54: =INDIRECT(BX54) | CG54: =INDIRECT(BY54) | CH54: =INDIRECT(BZ54) | CI54: =INDIRECT(CA54) | CJ54: =INDIRECT(CB54) | CK54: =CK48 -> 12 | CL54: CG | CM54: =INDIRECT(CL54&CK54) | CN54: Tiedot!AW | CO54: =$CN54&BJ54 -> Tiedot!AW919 | CP54: =$CN54&BK54 -> Tiedot!AW921 | CQ54: =$CN54&BL54 -> Tiedot!AW923 | CR54: =$CN54&BM54 -> Tiedot!AW925 | CS54: =$CN54&BN54 -> Tiedot!AW927 | CT54: =$CN54&BO54 -> Tiedot!AW929 | CU54: =$CN54&BP54 -> Tiedot!AW931 | CV54: =$CN54&BQ54 -> Tiedot!AW935 | CW54: =INDIRECT(CO54) -> 0 | CX54: =INDIRECT(CP54) -> 0 | CY54: =INDIRECT(CQ54) -> 0 | CZ54: =INDIRECT(CR54) -> 0 | DA54: =INDIRECT(CS54) -> 0 | DB54: =INDIRECT(CT54) -> 0 | DC54: =INDIRECT(CU54) -> 0 | DD54: =INDIRECT(CV54) -> 0 | DE54: =IF(SUM(CW54:DC54)<>0, DD54, "") | DG54: =INDIRECT(DK54) -> 0 | DI54: DA | DJ54: =DJ48 -> 12 | DK54: =DI54&DJ54 -> DA12 | DM54: =IF(DT54<>0, DT54, "") | DN54: =IF(DS54<>0, DS54, "") | DP54: Tiedot!AU | DQ54: =DP54&BQ54 -> Tiedot!AU935 | DR54: =DP54&(BQ54-1) -> Tiedot!AU934 | DS54: =INDIRECT(DR54) -> 0 | DT54: =INDIRECT(DQ54) -> 0 | DV54: =IF(EA54<>0, EA54, "") | DW54: =IF(ISERROR(EC54),"",EC54) -> 0 | DX54: Tiedot!AO | DY54: Tiedot!AN | DZ54: =DY54&BQ54 -> Tiedot!AN935 | EA54: =INDIRECT(DZ54) -> 0 | EB54: =DX54&BQ54 -> Tiedot!AO935 | EC54: =INDIRECT(EB54) -> 0 | ED54: Tiedot!AH | EE54: =ED54&BQ54 -> Tiedot!AH935 | EF54: =INDIRECT(EE54) -> 0 | EG54: =IF(EF54>0, EF54, "") | EH54: =IF(BH54>0,IF(ISERROR(INDIRECT(EJ54)),"",INDIRECT(EJ54)),"") -> #REF! | EI54: Tiedot!AM | EJ54: =EI54&BQ54 -> Tiedot!AM935 | EL54: =IFERROR(EH54^1.4*AL54/100, "") | EN54: =EN53+19 -> 933
A55: =A54+1 -> 40 | B55: =AU55 -> 0 | C55: =AV55 -> 0 | D55: =AO55 -> 0 | E55: =AP55 -> 0 | F55: =AQ55 -> 0 | G55: =EG55 | R55: =D55+E55+F55 -> 0 | AC55: =A55 -> 40 | AD55: 50 | AE55: =Tiedot!B952 -> 0 | AF55: =Tiedot!C952 -> 0 | AG55: =Tiedot!D952 -> 0 | AH55: =Tiedot!E952 -> 0 | AI55: =Tiedot!F952 -> 0 | AJ55: =Tiedot!G952 -> 0 | AK55: =Tiedot!H952 -> 0 | AL55: =Tiedot!I952 -> 0 | ... AQ55: =Tiedot!N952 -> 0 | AR55: =INDIRECT("Tiedot!N" & EN55)+INDIRECT("Tiedot!AU" & (EN55+2)) -> 0 | AS55: =SUM(AO55:AR55) -> 0 | AT55: =AT54+AS55 -> 0 | AU55: =INT(AL55/60) -> 0 | AV55: =AL55-AU55*60 -> 0 | AW55: =Tiedot!B953 -> 0 | AX55: =Tiedot!C953 -> 0 | AY55: =Tiedot!D953 -> 0 | AZ55: =Tiedot!E953 -> 0 | BA55: =Tiedot!F953 -> 0 | BB55: =Tiedot!G953 -> 0 | BC55: =Tiedot!H953 -> 0 | BD55: =Tiedot!I953 -> 0 | BF55: =Tiedot!P952 -> 0 | BH55: =IF(SUM(Tiedot!#REF!)>0, Tiedot!#REF!, "") -> #REF! | BJ55: =BP55-12 -> 938 | BK55: =BJ55+2 -> 940 | BL55: =BK55+2 -> 942 | BM55: =BL55+2 -> 944 | BN55: =BM55+2 -> 946 | BO55: =BN55+2 -> 948 | BP55: =BQ55-4 -> 950 | BQ55: =BQ54+19 -> 954 | BS55: =IF(SUM(CC55:CI55)>0,CJ55,"") | BT55: Tiedot!V | BU55: =$BT55&BJ55 -> Tiedot!V938 | BV55: =$BT55&BK55 -> Tiedot!V940 | BW55: =$BT55&BL55 -> Tiedot!V942 | BX55: =$BT55&BM55 -> Tiedot!V944 | BY55: =$BT55&BN55 -> Tiedot!V946 | BZ55: =$BT55&BO55 -> Tiedot!V948 | CA55: =$BT55&BP55 -> Tiedot!V950 | CB55: =$BT55&BQ55 -> Tiedot!V954 | CC55: =INDIRECT(BU55) | CD55: =INDIRECT(BV55) | CE55: =INDIRECT(BW55) | CF55: =INDIRECT(BX55) | CG55: =INDIRECT(BY55) | CH55: =INDIRECT(BZ55) | CI55: =INDIRECT(CA55) | CJ55: =INDIRECT(CB55) | CK55: =CK48+1 -> 13 | CL55: CA | CM55: =INDIRECT(CL55&CK55) -> Tiedot!V152 | CN55: Tiedot!AW | CO55: =$CN55&BJ55 -> Tiedot!AW938 | CP55: =$CN55&BK55 -> Tiedot!AW940 | CQ55: =$CN55&BL55 -> Tiedot!AW942 | CR55: =$CN55&BM55 -> Tiedot!AW944 | CS55: =$CN55&BN55 -> Tiedot!AW946 | CT55: =$CN55&BO55 -> Tiedot!AW948 | CU55: =$CN55&BP55 -> Tiedot!AW950 | CV55: =$CN55&BQ55 -> Tiedot!AW954 | CW55: =INDIRECT(CO55) -> 0 | CX55: =INDIRECT(CP55) -> 0 | CY55: =INDIRECT(CQ55) -> 0 | CZ55: =INDIRECT(CR55) -> 0 | DA55: =INDIRECT(CS55) -> 0 | DB55: =INDIRECT(CT55) -> 0 | DC55: =INDIRECT(CU55) -> 0 | DD55: =INDIRECT(CV55) -> 0 | DE55: =IF(SUM(CW55:DC55)<>0, DD55, "") | DG55: =INDIRECT(DK55) -> Tiedot!AW152 | DI55: CU | DJ55: =DJ48+1 -> 13 | DK55: =DI55&DJ55 -> CU13 | DM55: =IF(DT55<>0, DT55, "") | DN55: =IF(DS55<>0, DS55, "") | DP55: Tiedot!AU | DQ55: =DP55&BQ55 -> Tiedot!AU954 | DR55: =DP55&(BQ55-1) -> Tiedot!AU953 | DS55: =INDIRECT(DR55) -> 0 | DT55: =INDIRECT(DQ55) -> 0 | DV55: =IF(EA55<>0, EA55, "") | DW55: =IF(ISERROR(EC55),"",EC55) -> 0 | DX55: Tiedot!AO | DY55: Tiedot!AN | DZ55: =DY55&BQ55 -> Tiedot!AN954 | EA55: =INDIRECT(DZ55) -> 0 | EB55: =DX55&BQ55 -> Tiedot!AO954 | EC55: =INDIRECT(EB55) -> 0 | ED55: Tiedot!AH | EE55: =ED55&BQ55 -> Tiedot!AH954 | EF55: =INDIRECT(EE55) -> 0 | EG55: =IF(EF55>0, EF55, "") | EH55: =IF(BH55>0,IF(ISERROR(INDIRECT(EJ55)),"",INDIRECT(EJ55)),"") -> #REF! | EI55: Tiedot!AM | EJ55: =EI55&BQ55 -> Tiedot!AM954 | EL55: =IFERROR(EH55^1.4*AL55/100, "") | EN55: =EN54+19 -> 952
A56: =A55+1 -> 41 | B56: =AU56 -> 0 | C56: =AV56 -> 0 | D56: =AO56 -> 0 | E56: =AP56 -> 0 | F56: =AQ56 -> 0 | G56: =EG56 | R56: =D56+E56+F56 -> 0 | AC56: =A56 -> 41 | AD56: 51 | AE56: =Tiedot!B971 -> 0 | AF56: =Tiedot!C971 -> 0 | AG56: =Tiedot!D971 -> 0 | AH56: =Tiedot!E971 -> 0 | AI56: =Tiedot!F971 -> 0 | AJ56: =Tiedot!G971 -> 0 | AK56: =Tiedot!H971 -> 0 | AL56: =Tiedot!I971 -> 0 | ... AQ56: =Tiedot!N971 -> 0 | AR56: =INDIRECT("Tiedot!N" & EN56)+INDIRECT("Tiedot!AU" & (EN56+2)) -> 0 | AS56: =SUM(AO56:AR56) -> 0 | AT56: =AT55+AS56 -> 0 | AU56: =INT(AL56/60) -> 0 | AV56: =AL56-AU56*60 -> 0 | AW56: =Tiedot!B972 -> 0 | AX56: =Tiedot!C972 -> 0 | AY56: =Tiedot!D972 -> 0 | AZ56: =Tiedot!E972 -> 0 | BA56: =Tiedot!F972 -> 0 | BB56: =Tiedot!G972 -> 0 | BC56: =Tiedot!H972 -> 0 | BD56: =Tiedot!I972 -> 0 | BF56: =Tiedot!P971 -> 0 | BH56: =IF(SUM(Tiedot!#REF!)>0, Tiedot!#REF!, "") -> #REF! | BJ56: =BP56-12 -> 957 | BK56: =BJ56+2 -> 959 | BL56: =BK56+2 -> 961 | BM56: =BL56+2 -> 963 | BN56: =BM56+2 -> 965 | BO56: =BN56+2 -> 967 | BP56: =BQ56-4 -> 969 | BQ56: =BQ55+19 -> 973 | BS56: =IF(SUM(CC56:CI56)>0,CJ56,"") | BT56: Tiedot!V | BU56: =$BT56&BJ56 -> Tiedot!V957 | BV56: =$BT56&BK56 -> Tiedot!V959 | BW56: =$BT56&BL56 -> Tiedot!V961 | BX56: =$BT56&BM56 -> Tiedot!V963 | BY56: =$BT56&BN56 -> Tiedot!V965 | BZ56: =$BT56&BO56 -> Tiedot!V967 | CA56: =$BT56&BP56 -> Tiedot!V969 | CB56: =$BT56&BQ56 -> Tiedot!V973 | CC56: =INDIRECT(BU56) | CD56: =INDIRECT(BV56) | CE56: =INDIRECT(BW56) | CF56: =INDIRECT(BX56) | CG56: =INDIRECT(BY56) | CH56: =INDIRECT(BZ56) | CI56: =INDIRECT(CA56) | CJ56: =INDIRECT(CB56) | CK56: =CK55 -> 13 | CL56: CB | CM56: =INDIRECT(CL56&CK56) -> Tiedot!V156 | CN56: Tiedot!AW | CO56: =$CN56&BJ56 -> Tiedot!AW957 | CP56: =$CN56&BK56 -> Tiedot!AW959 | CQ56: =$CN56&BL56 -> Tiedot!AW961 | CR56: =$CN56&BM56 -> Tiedot!AW963 | CS56: =$CN56&BN56 -> Tiedot!AW965 | CT56: =$CN56&BO56 -> Tiedot!AW967 | CU56: =$CN56&BP56 -> Tiedot!AW969 | CV56: =$CN56&BQ56 -> Tiedot!AW973 | CW56: =INDIRECT(CO56) -> 0 | CX56: =INDIRECT(CP56) -> 0 | CY56: =INDIRECT(CQ56) -> 0 | CZ56: =INDIRECT(CR56) -> 0 | DA56: =INDIRECT(CS56) -> 0 | DB56: =INDIRECT(CT56) -> 0 | DC56: =INDIRECT(CU56) -> 0 | DD56: =INDIRECT(CV56) -> 0 | DE56: =IF(SUM(CW56:DC56)<>0, DD56, "") | DG56: =INDIRECT(DK56) -> Tiedot!AW156 | DI56: CV | DJ56: =DJ55 -> 13 | DK56: =DI56&DJ56 -> CV13 | DM56: =IF(DT56<>0, DT56, "") | DN56: =IF(DS56<>0, DS56, "") | DP56: Tiedot!AU | DQ56: =DP56&BQ56 -> Tiedot!AU973 | DR56: =DP56&(BQ56-1) -> Tiedot!AU972 | DS56: =INDIRECT(DR56) -> 0 | DT56: =INDIRECT(DQ56) -> 0 | DV56: =IF(EA56<>0, EA56, "") | DW56: =IF(ISERROR(EC56),"",EC56) -> 0 | DX56: Tiedot!AO | DY56: Tiedot!AN | DZ56: =DY56&BQ56 -> Tiedot!AN973 | EA56: =INDIRECT(DZ56) -> 0 | EB56: =DX56&BQ56 -> Tiedot!AO973 | EC56: =INDIRECT(EB56) -> 0 | ED56: Tiedot!AH | EE56: =ED56&BQ56 -> Tiedot!AH973 | EF56: =INDIRECT(EE56) -> 0 | EG56: =IF(EF56>0, EF56, "") | EH56: =IF(BH56>0,IF(ISERROR(INDIRECT(EJ56)),"",INDIRECT(EJ56)),"") -> #REF! | EI56: Tiedot!AM | EJ56: =EI56&BQ56 -> Tiedot!AM973 | EL56: =IFERROR(EH56^1.4*AL56/100, "") | EN56: =EN55+19 -> 971
A57: =A56+1 -> 42 | B57: =AU57 -> 0 | C57: =AV57 -> 0 | D57: =AO57 -> 0 | E57: =AP57 -> 0 | F57: =AQ57 -> 0 | G57: =EG57 | R57: =D57+E57+F57 -> 0 | AC57: =A57 -> 42 | AD57: 52 | AE57: =Tiedot!B990 -> 0 | AF57: =Tiedot!C990 -> 0 | AG57: =Tiedot!D990 -> 0 | AH57: =Tiedot!E990 -> 0 | AI57: =Tiedot!F990 -> 0 | AJ57: =Tiedot!G990 -> 0 | AK57: =Tiedot!H990 -> 0 | AL57: =Tiedot!I990 -> 0 | ... AQ57: =Tiedot!N990 -> 0 | AR57: =INDIRECT("Tiedot!N" & EN57)+INDIRECT("Tiedot!AU" & (EN57+2)) -> 0 | AS57: =SUM(AO57:AR57) -> 0 | AT57: =AT56+AS57 -> 0 | AU57: =INT(AL57/60) -> 0 | AV57: =AL57-AU57*60 -> 0 | AW57: =Tiedot!B991 -> 0 | AX57: =Tiedot!C991 -> 0 | AY57: =Tiedot!D991 -> 0 | AZ57: =Tiedot!E991 -> 0 | BA57: =Tiedot!F991 -> 0 | BB57: =Tiedot!G991 -> 0 | BC57: =Tiedot!H991 -> 0 | BD57: =Tiedot!I991 -> 0 | BF57: =Tiedot!P990 -> 0 | BH57: =IF(SUM(Tiedot!#REF!)>0, Tiedot!#REF!, "") -> #REF! | BJ57: =BP57-12 -> 976 | BK57: =BJ57+2 -> 978 | BL57: =BK57+2 -> 980 | BM57: =BL57+2 -> 982 | BN57: =BM57+2 -> 984 | BO57: =BN57+2 -> 986 | BP57: =BQ57-4 -> 988 | BQ57: =BQ56+19 -> 992 | BS57: =IF(SUM(CC57:CI57)>0,CJ57,"") | BT57: Tiedot!V | BU57: =$BT57&BJ57 -> Tiedot!V976 | BV57: =$BT57&BK57 -> Tiedot!V978 | BW57: =$BT57&BL57 -> Tiedot!V980 | BX57: =$BT57&BM57 -> Tiedot!V982 | BY57: =$BT57&BN57 -> Tiedot!V984 | BZ57: =$BT57&BO57 -> Tiedot!V986 | CA57: =$BT57&BP57 -> Tiedot!V988 | CB57: =$BT57&BQ57 -> Tiedot!V992 | CC57: =INDIRECT(BU57) | CD57: =INDIRECT(BV57) | CE57: =INDIRECT(BW57) | CF57: =INDIRECT(BX57) | CG57: =INDIRECT(BY57) | CH57: =INDIRECT(BZ57) | CI57: =INDIRECT(CA57) | CJ57: =INDIRECT(CB57) | CK57: =CK55 -> 13 | CL57: CC | CM57: =INDIRECT(CL57&CK57) | CN57: Tiedot!AW | CO57: =$CN57&BJ57 -> Tiedot!AW976 | CP57: =$CN57&BK57 -> Tiedot!AW978 | CQ57: =$CN57&BL57 -> Tiedot!AW980 | CR57: =$CN57&BM57 -> Tiedot!AW982 | CS57: =$CN57&BN57 -> Tiedot!AW984 | CT57: =$CN57&BO57 -> Tiedot!AW986 | CU57: =$CN57&BP57 -> Tiedot!AW988 | CV57: =$CN57&BQ57 -> Tiedot!AW992 | CW57: =INDIRECT(CO57) -> 0 | CX57: =INDIRECT(CP57) -> 0 | CY57: =INDIRECT(CQ57) -> 0 | CZ57: =INDIRECT(CR57) -> 0 | DA57: =INDIRECT(CS57) -> 0 | DB57: =INDIRECT(CT57) -> 0 | DC57: =INDIRECT(CU57) -> 0 | DD57: =INDIRECT(CV57) -> 0 | DE57: =IF(SUM(CW57:DC57)<>0, DD57, "") | DG57: =INDIRECT(DK57) -> 0 | DI57: CW | DJ57: =DJ55 -> 13 | DK57: =DI57&DJ57 -> CW13 | DM57: =IF(DT57<>0, DT57, "") | DN57: =IF(DS57<>0, DS57, "") | DP57: Tiedot!AU | DQ57: =DP57&BQ57 -> Tiedot!AU992 | DR57: =DP57&(BQ57-1) -> Tiedot!AU991 | DS57: =INDIRECT(DR57) -> 0 | DT57: =INDIRECT(DQ57) -> 0 | DV57: =IF(EA57<>0, EA57, "") | DW57: =IF(ISERROR(EC57),"",EC57) -> 0 | DX57: Tiedot!AO | DY57: Tiedot!AN | DZ57: =DY57&BQ57 -> Tiedot!AN992 | EA57: =INDIRECT(DZ57) -> 0 | EB57: =DX57&BQ57 -> Tiedot!AO992 | EC57: =INDIRECT(EB57) -> 0 | ED57: Tiedot!AH | EE57: =ED57&BQ57 -> Tiedot!AH992 | EF57: =INDIRECT(EE57) -> 0 | EG57: =IF(EF57>0, EF57, "") | EH57: =IF(BH57>0,IF(ISERROR(INDIRECT(EJ57)),"",INDIRECT(EJ57)),"") -> #REF! | EI57: Tiedot!AM | EJ57: =EI57&BQ57 -> Tiedot!AM992 | EL57: =IFERROR(EH57^1.4*AL57/100, "") | EN57: =EN56+19 -> 990
A58: Yht. | B58: =AU58 -> 0 | C58: =AV58 -> 0 | D58: =AO58 -> 0 | E58: =AP58 -> 0 | F58: =AQ58 -> 0 | G58: =SUM(G6:G57) -> 0 | AD58: yht | AE58: =SUM(AE6:AE57) -> 0 | AF58: =SUM(AF6:AF57) -> 0 | AG58: =SUM(AG6:AG57) -> 0 | AH58: =SUM(AH6:AH57) -> 0 | AI58: =SUM(AI6:AI57) -> 0 | AJ58: =SUM(AJ6:AJ57) -> 0 | AK58: =SUM(AK6:AK57) -> 0 | AL58: =SUM(AL6:AL57) -> 0 | AM58: =IF(SUM(AM6:AM57)>0, AVERAGE(AM6:AM57), "") | AN58: =IF(SUM(AN6:AN57)>0, AVERAGE(AN6:AN57), "") | AO58: =SUM(AO6:AO57) -> 0 | AP58: =SUM(AP6:AP57) -> 0 | AQ58: =SUM(AQ6:AQ57) -> 0 | AR58: =SUM(AR6:AR57) -> 0 | AS58: =SUM(AO58:AR58) -> 0 | AU58: =INT(AL58/60) -> 0 | AV58: =AL58-AU58*60 -> 0 | AW58: =SUM(AW6:AW57) -> 0 | AX58: =SUM(AX6:AX57) -> 0 | AY58: =SUM(AY6:AY57) -> 0 | AZ58: =SUM(AZ6:AZ57) -> 0 | BA58: =SUM(BA6:BA57) -> 0 | BB58: =SUM(BB6:BB57) -> 0 | BC58: =SUM(BC6:BC57) -> 0 | BD58: =SUM(BD6:BD57) -> 0 | BF58: =SUM(BF6:BF57) -> 0 | BH58: =AVERAGE(BH6:BH57) -> #REF! | BS58: =AVERAGE(BS6:BS57) -> #DIV/0! | CK58: =CK55 -> 13 | CL58: CD | CM58: =INDIRECT(CL58&CK58) | DE58: =AVERAGE(DE6:DE57) -> #DIV/0! | DG58: =INDIRECT(DK58) -> 0 | DI58: CX | DJ58: =DJ55 -> 13 | DK58: =DI58&DJ58 -> CX13 | DM58: =SUM(DM6:DM57) -> 0 | DN58: =SUM(DN6:DN57) -> 0 | DV58: =SUM(DV6:DV57) -> 0 | DW58: =SUM(DW6:DW57) -> 0 | EG58: =SUM(EG6:EG57) -> 0 | EH58: =AVERAGE(EH6:EH57) -> #REF!
AD59: h | AE59: =INT(AE58/60) -> 0 | AF59: =INT(AF58/60) -> 0 | AG59: =INT(AG58/60) -> 0 | AH59: =INT(AH58/60) -> 0 | AI59: =INT(AI58/60) -> 0 | AJ59: =INT(AJ58/60) -> 0 | AK59: =INT(AK58/60) -> 0 | AL59: =INT(AL58/60) -> 0 | BH59: =SUM(BH6:BH57)/51 -> #REF! | CK59: =CK55 -> 13 | CL59: CE | CM59: =INDIRECT(CL59&CK59) | DG59: =INDIRECT(DK59) -> 0 | DI59: CY | DJ59: =DJ55 -> 13 | DK59: =DI59&DJ59 -> CY13 | DM59: =AVERAGE(DM6:DM57) -> #DIV/0! | DN59: =AVERAGE(DN6:DN57) -> #DIV/0! | DV59: =AVERAGE(DV6:DV57) -> #DIV/0! | DW59: =AVERAGE(DW6:DW57) -> 0 | EG59: =AVERAGE(EG6:EG57) -> #DIV/0!
CK60: =CK55 -> 13 | CL60: CF | CM60: =INDIRECT(CL60&CK60) | DG60: =INDIRECT(DK60) -> 0 | DI60: CZ | DJ60: =DJ55 -> 13 | DK60: =DI60&DJ60 -> CZ13
CK61: =CK55 -> 13 | CL61: CG | CM61: =INDIRECT(CL61&CK61) | DG61: =INDIRECT(DK61) -> 0 | DI61: DA | DJ61: =DJ55 -> 13 | DK61: =DI61&DJ61 -> DA13
AD62: min | AE62: =AE58-AE59*60 -> 0 | AF62: =AF58-AF59*60 -> 0 | AG62: =AG58-AG59*60 -> 0 | AH62: =AH58-AH59*60 -> 0 | AI62: =AI58-AI59*60 -> 0 | AJ62: =AJ58-AJ59*60 -> 0 | AK62: =AK58-AK59*60 -> 0 | AL62: =AL58-AL59*60 -> 0 | CK62: =CK55+1 -> 14 | CL62: CA | CM62: =INDIRECT(CL62&CK62) -> Tiedot!V171 | DG62: =INDIRECT(DK62) -> Tiedot!AW171 | DI62: CU | DJ62: =DJ55+1 -> 14 | DK62: =DI62&DJ62 -> CU14
CK63: =CK62 -> 14 | CL63: CB | CM63: =INDIRECT(CL63&CK63) -> Tiedot!V175 | DG63: =INDIRECT(DK63) -> Tiedot!AW175 | DI63: CV | DJ63: =DJ62 -> 14 | DK63: =DI63&DJ63 -> CV14
M64: Vuoden yhteenveto | T64: Keskimääräinen päivä | AD64: Harjoitusajat | AW64: kerrat | CK64: =CK62 -> 14 | CL64: CC | CM64: =INDIRECT(CL64&CK64) | DG64: =INDIRECT(DK64) -> 0 | DI64: CW | DJ64: =DJ62 -> 14 | DK64: =DI64&DJ64 -> CW14
N65: h | O65: min | P65: kerrat | Q65: km | AD65: no | AE65: 1 | AF65: 2 | AG65: 3 | AH65: 4 | AI65: 5 | AJ65: 6 | AK65: 7 | AL65: yht | AM65: LS | AN65: KS | AO65: =Start!D27 -> Ju | AP65: =Start!E27 -> Hi | AQ65: =Start!F27 -> Su | AR65: Py | AS65: Yht, km | AT65: Km, kum. | AU65: h | AV65: min | AW65: 1 | AX65: 2 | AY65: 3 | AZ65: 4 | BA65: 5 | BB65: 6 | BC65: 7 | BD65: kerrat yht. | CK65: =CK62 -> 14 | CL65: CD | CM65: =INDIRECT(CL65&CK65) | DG65: =INDIRECT(DK65) -> 0 | DI65: CX | DJ65: =DJ62 -> 14 | DK65: =DI65&DJ65 -> CX14
A66: 1 | B66: =Start!B19 -> Peruskestävyys | M66: 1 | N66: =AE59 -> 0 | O66: =AE62 -> 0 | P66: =AW58 -> 0 | T66: =N75 -> 0 | U66: =O75 -> min/pv | CK66: =CK62 -> 14 | CL66: CE | CM66: =INDIRECT(CL66&CK66) | DG66: =INDIRECT(DK66) -> 0 | DI66: CY | DJ66: =DJ62 -> 14 | DK66: =DI66&DJ66 -> CY14
A67: 2 | B67: =Start!B20 -> Vauhtikestävyys | M67: 2 | N67: =AF59 -> 0 | O67: =AF62 -> 0 | P67: =AX58 -> 0 | T67: =P75 -> 0 | U67: =Q75 -> km/pv | CK67: =CK62 -> 14 | CL67: CF | CM67: =INDIRECT(CL67&CK67) | DG67: =INDIRECT(DK67) -> 0 | DI67: CZ | DJ67: =DJ62 -> 14 | DK67: =DI67&DJ67 -> CZ14
A68: 3 | B68: =Start!B21 -> Maksimikestävyys | M68: 3 | N68: =AG59 -> 0 | O68: =AG62 -> 0 | P68: =AY58 -> 0 | T68: =BS58 -> #DIV/0! | U68: h unta | CK68: =CK62 -> 14 | CL68: CG | CM68: =INDIRECT(CL68&CK68) | DG68: =INDIRECT(DK68) -> 0 | DI68: DA | DJ68: =DJ62 -> 14 | DK68: =DI68&DJ68 -> DA14
A69: 4 | B69: =Start!B22 -> Lihaskunto/aerobiset voimaharjoitteet | M69: 4 | N69: =AH59 -> 0 | O69: =AH62 -> 0 | P69: =AZ58 -> 0 | CK69: =CK62+1 -> 15 | CL69: CA | CM69: =INDIRECT(CL69&CK69) -> Tiedot!V190 | DG69: =INDIRECT(DK69) -> Tiedot!AW190 | DI69: CU | DJ69: =DJ62+1 -> 15 | DK69: =DI69&DJ69 -> CU15
A70: 5 | B70: =Start!B23 -> maksimisyke- ja anaerobiset voimaharjoitteet | M70: 5 | N70: =AI59 -> 0 | O70: =AI62 -> 0 | P70: =BA58 -> 0 | AE70: Keskiarvolaskenta: | CK70: =CK69 -> 15 | CL70: CB | CM70: =INDIRECT(CL70&CK70) -> Tiedot!V194 | DG70: =INDIRECT(DK70) -> Tiedot!AW194 | DI70: CV | DJ70: =DJ69 -> 15 | DK70: =DI70&DJ70 -> CV15
A71: 6 | B71: =Start!B24 -> Liikkuvuus- ja koordinaatio | M71: 6 | N71: =AJ59 -> 0 | O71: =AJ62 -> 0 | P71: =BB58 -> 0 | AE71: tänään | AF71: =NOW() -> 42672.411 | CK71: =CK69 -> 15 | CL71: CC | CM71: =INDIRECT(CL71&CK71) | DG71: =INDIRECT(DK71) -> 0 | DI71: CW | DJ71: =DJ69 -> 15 | DK71: =DI71&DJ71 -> CW15
A72: 7 | B72: Pelit | M72: 7 | N72: =AK59 -> 0 | O72: =AK62 -> 0 | P72: =BC58 -> 0
M73: Yht | N73: =AL59 -> 0 | O73: =AL62 -> 0 | P73: =SUM(P66:P71) -> 0 | Q73: =AS58 -> 0 | AE73: alku | AF73: =Tiedot!A8 -> 42660 | CK73: =CK69 -> 15 | CL73: CD | CM73: =INDIRECT(CL73&CK73) | DG73: =INDIRECT(DK73) -> 0 | DI73: CX | DJ73: =DJ69 -> 15 | DK73: =DI73&DJ73 -> CX15
M74: Keskiarvot: | AE74: päiviä | AF74: =AF71-AF73 -> 12.41092 | CK74: =CK69 -> 15 | CL74: CE | CM74: =INDIRECT(CL74&CK74) | DG74: =INDIRECT(DK74) -> 0 | DI74: CY | DJ74: =DJ69 -> 15 | DK74: =DI74&DJ74 -> CY15
M75: Päivä | N75: =AF76 -> 0 | O75: min/pv | P75: =AF77 -> 0 | Q75: km/pv | AE75: vko | AF75: =AF74/7 -> 1.7729885 | CK75: =CK69 -> 15 | CL75: CF | CM75: =INDIRECT(CL75&CK75) | DF75: Tammi | DG75: =INDIRECT(DK75) -> 0 | DI75: CZ | DJ75: =DJ69 -> 15 | DK75: =DI75&DJ75 -> CZ15
M76: Lenkit (1,2,3) | N76: =(AE58+AF58+AG58)/(P66+P67+P68) -> #DIV/0! | O76: min /krt | P76: =Q73/(P66+P67+P68) -> #DIV/0! | Q76: km/krt | AE76: kesk. | AF76: =AL58/AF74 -> 0 | AG76: min/pv | CK76: =CK69 -> 15 | CL76: CG | CM76: =INDIRECT(CL76&CK76) | DG76: =INDIRECT(DK76) -> 0 | DI76: DA | DJ76: =DJ69 -> 15 | DK76: =DI76&DJ76 -> DA15
M77: Kaikki harj. | N77: =AL58/G58 -> #DIV/0! | O77: min /krt | P77: =Q73/G58 -> #DIV/0! | Q77: km/krt | AF77: =AS58/AF74 -> 0 | AG77: km/pv | CK77: =CK69+1 -> 16 | CL77: CA | CM77: =INDIRECT(CL77&CK77) -> Tiedot!V209 | DG77: =INDIRECT(DK77) -> Tiedot!AW209 | DI77: CU | DJ77: =DJ69+1 -> 16 | DK77: =DI77&DJ77 -> CU16
M78: Vuosiennuste | N78: =AF79 -> 0 | O78: h/a | P78: =AF80 -> 0 | Q78: km/a | CK78: =CK77 -> 16 | CL78: CB | CM78: =INDIRECT(CL78&CK78) -> Tiedot!V213 | DG78: =INDIRECT(DK78) -> Tiedot!AW213 | DI78: CV | DJ78: =DJ77 -> 16 | DK78: =DI78&DJ78 -> CV16
P79: =P78-W70 -> 0 | Q79: km/a ilman pyöräilyä | AE79: vuosienn. | AF79: =365*AF76/60 -> 0 | AG79: h/a | CK79: =CK77 -> 16 | CL79: CC | CM79: =INDIRECT(CL79&CK79) | DG79: =INDIRECT(DK79) -> 0 | DI79: CW | DJ79: =DJ77 -> 16 | DK79: =DI79&DJ79 -> CW16
AF80: =365*AF77 -> 0 | AG80: km/a | CK80: =CK77 -> 16 | CL80: CD | CM80: =INDIRECT(CL80&CK80) | DG80: =INDIRECT(DK80) -> 0 | DI80: CX | DJ80: =DJ77 -> 16 | DK80: =DI80&DJ80 -> CX16
CK81: =CK77 -> 16 | CL81: CE | CM81: =INDIRECT(CL81&CK81) | DG81: =INDIRECT(DK81) -> 0 | DI81: CY | DJ81: =DJ77 -> 16 | DK81: =DI81&DJ81 -> CY16
CK82: =CK77 -> 16 | CL82: CF | CM82: =INDIRECT(CL82&CK82) | DG82: =INDIRECT(DK82) -> 0 | DI82: CZ | DJ82: =DJ77 -> 16 | DK82: =DI82&DJ82 -> CZ16
CK83: =CK77 -> 16 | CL83: CG | CM83: =INDIRECT(CL83&CK83) | DG83: =INDIRECT(DK83) -> 0 | DI83: DA | DJ83: =DJ77 -> 16 | DK83: =DI83&DJ83 -> DA16
CK84: =CK77+1 -> 17 | CL84: CA | CM84: =INDIRECT(CL84&CK84) -> Tiedot!V228 | DG84: =INDIRECT(DK84) -> Tiedot!AW228 | DI84: CU | DJ84: =DJ77+1 -> 17 | DK84: =DI84&DJ84 -> CU17
CK85: =CK84 -> 17 | CL85: CB | CM85: =INDIRECT(CL85&CK85) -> Tiedot!V232 | DG85: =INDIRECT(DK85) -> Tiedot!AW232 | DI85: CV | DJ85: =DJ84 -> 17 | DK85: =DI85&DJ85 -> CV17
CK86: =CK84 -> 17 | CL86: CC | CM86: =INDIRECT(CL86&CK86) | DG86: =INDIRECT(DK86) -> 0 | DI86: CW | DJ86: =DJ84 -> 17 | DK86: =DI86&DJ86 -> CW17
CK87: =CK84 -> 17 | CL87: CD | CM87: =INDIRECT(CL87&CK87) | DG87: =INDIRECT(DK87) -> 0 | DI87: CX | DJ87: =DJ84 -> 17 | DK87: =DI87&DJ87 -> CX17
CK88: =CK84 -> 17 | CL88: CE | CM88: =INDIRECT(CL88&CK88) | DG88: =INDIRECT(DK88) -> 0 | DI88: CY | DJ88: =DJ84 -> 17 | DK88: =DI88&DJ88 -> CY17
CK89: =CK84 -> 17 | CL89: CF | CM89: =INDIRECT(CL89&CK89) | DG89: =INDIRECT(DK89) -> 0 | DI89: CZ | DJ89: =DJ84 -> 17 | DK89: =DI89&DJ89 -> CZ17
CK90: =CK84 -> 17 | CL90: CG | CM90: =INDIRECT(CL90&CK90) | DG90: =INDIRECT(DK90) -> 0 | DI90: DA | DJ90: =DJ84 -> 17 | DK90: =DI90&DJ90 -> DA17
CK91: =CK84+1 -> 18 | CL91: CA | CM91: =INDIRECT(CL91&CK91) -> Tiedot!V247 | DG91: =INDIRECT(DK91) -> Tiedot!AW247 | DI91: CU | DJ91: =DJ84+1 -> 18 | DK91: =DI91&DJ91 -> CU18
CK92: =CK91 -> 18 | CL92: CB | CM92: =INDIRECT(CL92&CK92) -> Tiedot!V251 | DG92: =INDIRECT(DK92) -> Tiedot!AW251 | DI92: CV | DJ92: =DJ91 -> 18 | DK92: =DI92&DJ92 -> CV18
CK93: =CK91 -> 18 | CL93: CC | CM93: =INDIRECT(CL93&CK93) | DG93: =INDIRECT(DK93) -> 0 | DI93: CW | DJ93: =DJ91 -> 18 | DK93: =DI93&DJ93 -> CW18
CK94: =CK91 -> 18 | CL94: CD | CM94: =INDIRECT(CL94&CK94) | DG94: =INDIRECT(DK94) -> 0 | DI94: CX | DJ94: =DJ91 -> 18 | DK94: =DI94&DJ94 -> CX18
CK95: =CK91 -> 18 | CL95: CE | CM95: =INDIRECT(CL95&CK95) | DG95: =INDIRECT(DK95) -> 0 | DI95: CY | DJ95: =DJ91 -> 18 | DK95: =DI95&DJ95 -> CY18
CK96: =CK91 -> 18 | CL96: CF | CM96: =INDIRECT(CL96&CK96) | DG96: =INDIRECT(DK96) -> 0 | DI96: CZ | DJ96: =DJ91 -> 18 | DK96: =DI96&DJ96 -> CZ18
CK97: =CK91 -> 18 | CL97: CG | CM97: =INDIRECT(CL97&CK97) | DG97: =INDIRECT(DK97) -> 0 | DI97: DA | DJ97: =DJ91 -> 18 | DK97: =DI97&DJ97 -> DA18
CK98: =CK91+1 -> 19 | CL98: CA | CM98: =INDIRECT(CL98&CK98) -> Tiedot!V266 | DG98: =INDIRECT(DK98) -> Tiedot!AW266 | DI98: CU | DJ98: =DJ91+1 -> 19 | DK98: =DI98&DJ98 -> CU19
CK99: =CK98 -> 19 | CL99: CB | CM99: =INDIRECT(CL99&CK99) -> Tiedot!V270 | DG99: =INDIRECT(DK99) -> Tiedot!AW270 | DI99: CV | DJ99: =DJ98 -> 19 | DK99: =DI99&DJ99 -> CV19
CK100: =CK98 -> 19 | CL100: CC | CM100: =INDIRECT(CL100&CK100) | DG100: =INDIRECT(DK100) -> 0 | DI100: CW | DJ100: =DJ98 -> 19 | DK100: =DI100&DJ100 -> CW19
...

Sheet Kilpailupäiväkirja
A1: KILPAILUPÄIVÄKIRJA | D1: =Start!H10 -> 2017 | G1: Tampereen Pyrintö
A2: =Start!B15 -> N.N.
A4: No | B4: pvm | C4: Kisan nimi | D4: Kisajärjestäjä | E4: Matka | F4: Voittajanaika | G4: Oma aika | H4: km-vauhti | I4: Sijoitus | J4: Rastivälit | K4: Mittakaava | L4: Virh lkm | M4: Virheet | N4: Virheet/km | O4: Fiilis (1-10) | P4: Kommentit
A5: 1 | B5: 1.1. | C5: Esimerkki | D5: TP | E5: 5 | F5: 1.0416667 | G5: 1.1666667 | H5: =IF(COUNTA(G5)=0,0,G5/E5) -> 0.23333333 | I5: 2 | J5: 4 | K5: 1:10000 | L5: 3 | M5: 0.083333333 | N5: =IF(COUNTA(M5)=0,0,M5/E5) -> 0.016666667 | O5: 7 | P5: lisää omat kommentit
A6: 2 | H6: =IF(COUNTA(G6)=0,0,G6/E6) -> 0 | N6: =IF(COUNTA(M6)=0,0,M6/E6) -> 0
A7: 3 | H7: =IF(COUNTA(G7)=0,0,G7/E7) -> 0 | N7: =IF(COUNTA(M7)=0,0,M7/E7) -> 0
A8: 4 | H8: =IF(COUNTA(G8)=0,0,G8/E8) -> 0 | N8: =IF(COUNTA(M8)=0,0,M8/E8) -> 0
A9: 5 | H9: =IF(COUNTA(G9)=0,0,G9/E9) -> 0 | N9: =IF(COUNTA(M9)=0,0,M9/E9) -> 0
A10: 6 | H10: =IF(COUNTA(G10)=0,0,G10/E10) -> 0 | N10: =IF(COUNTA(M10)=0,0,M10/E10) -> 0
A11: 7 | H11: =IF(COUNTA(G11)=0,0,G11/E11) -> 0 | N11: =IF(COUNTA(M11)=0,0,M11/E11) -> 0
A12: 8 | H12: =IF(COUNTA(G12)=0,0,G12/E12) -> 0 | N12: =IF(COUNTA(M12)=0,0,M12/E12) -> 0
A13: 9 | H13: =IF(COUNTA(G13)=0,0,G13/E13) -> 0 | N13: =IF(COUNTA(M13)=0,0,M13/E13) -> 0
A14: 10 | H14: =IF(COUNTA(G14)=0,0,G14/E14) -> 0 | N14: =IF(COUNTA(M14)=0,0,M14/E14) -> 0
A15: 11 | H15: =IF(COUNTA(G15)=0,0,G15/E15) -> 0 | N15: =IF(COUNTA(M15)=0,0,M15/E15) -> 0
A16: 12 | H16: =IF(COUNTA(G16)=0,0,G16/E16) -> 0 | N16: =IF(COUNTA(M16)=0,0,M16/E16) -> 0
A17: 13 | H17: =IF(COUNTA(G17)=0,0,G17/E17) -> 0 | N17: =IF(COUNTA(M17)=0,0,M17/E17) -> 0
... A44: 40 | H44: =IF(COUNTA(G44)=0,0,G44/E44) -> 0 | N44: =IF(COUNTA(M44)=0,0,M44/E44) -> 0
B45: =COUNTA(B5:B44) -> 1 | E45: =AVERAGE(E5:E44) -> 5 | H45: =SUM(H5:H44)/$B45 -> 0.23333333 | J45: =SUM(J5:J44)/$B45 -> 4 | L45: =AVERAGE(L5:L44) -> 3 | M45: =AVERAGE(M5:M44) -> 0.083333333 | N45: =SUM(M5:M44)/SUM(E5:E44) -> 0.016666667 | O45: =AVERAGE(O5:O44) -> 7

Sheet ...
